Workbook

Sheet DATA ENTRY SHEET
A1: Traverse Computation Spreadsheet | T1: "X" (EASTING) | U1: "Y"(NORTHING) | AD1: RIGHT | AE1: LEFT
Q2: Setup (OCC)
Q3: Backsight (BS)
G4: Enter "LEFT" if traverse runs counterclockwise, and "RIGHT" if clockwise
A5: Enter "ACC" if angles on your total station accumulate,"RESET" if it resets at 360°, and "AVE" if entering the mean
A6: Type in "YES" if you turn angles 'right' toward the inside of the traverse, and "NO" if your rear point is always your backsight
A7: If you have any difficulty with the information, if the traverse does not close, or if any information does not look correct, please E-Mail this file to Jason Schroeder at jasonwschroeder@yahoo.com | T7: LEOC | U7: =IF(T2="","",'PROTECTED CALCULATION SHEET'!L62)
R8: Area of traverse | U8: ='PROTECTED CALCULATION SHEET'!CI61 -> #VALUE! | V8: Acres
O9: Azimut of original line | U9: ='PROTECTED CALCULATION SHEET'!AJ3 -> 180
A10: TRAVERSE INFORMATION | T10: Precision | U10: =IF(T2="","",'PROTECTED CALCULATION SHEET'!L68)
B11: 1ST | E11: 2ND | H11: 3RD | K11: 4TH | N11: 5TH | Q11: 6TH | T11: Error:Angle | U11: =IF(T2="","",'PROTECTED CALCULATION SHEET'!AH64) | V11: =IF(T2="","",'PROTECTED CALCULATION SHEET'!AK64) | W11: =IF(T2="","",'PROTECTED CALCULATION SHEET'!AM64)
A12: Pt # | B12: Deg | C12: Min | D12: Sec | E12: Deg | F12: Min | G12: Sec | H12: Deg | I12: Min | J12: Sec | K12: Deg | L12: Min | M12: Sec | N12: Deg | O12: Min | P12: Sec | Q12: Deg | R12: Min | S12: Sec | T12: DIST FWD LINE | U12: "X" (EASTING) | V12: "Y"(NORTHING)
A13: 1 | U13: =IF(T13="","",'PROTECTED CALCULATION SHEET'!AX4) | V13: =IF(T13="","",'PROTECTED CALCULATION SHEET'!AW4)
A14: 2 | U14: =IF(T14="","",'PROTECTED CALCULATION SHEET'!AX5) | V14: =IF(T14="","",'PROTECTED CALCULATION SHEET'!AW5)
A15: 3 | U15: =IF(T15="","",'PROTECTED CALCULATION SHEET'!AX6) | V15: =IF(T15="","",'PROTECTED CALCULATION SHEET'!AW6)
A16: 4 | U16: =IF(T16="","",'PROTECTED CALCULATION SHEET'!AX7) | V16: =IF(T16="","",'PROTECTED CALCULATION SHEET'!AW7)
A17: 5 | U17: =IF(T17="","",'PROTECTED CALCULATION SHEET'!AX8) | V17: =IF(T17="","",'PROTECTED CALCULATION SHEET'!AW8)
A18: 6 | U18: =IF(T18="","",'PROTECTED CALCULATION SHEET'!AX9) | V18: =IF(T18="","",'PROTECTED CALCULATION SHEET'!AW9)
A19: 7 | U19: =IF(T19="","",'PROTECTED CALCULATION SHEET'!AX10) | V19: =IF(T19="","",'PROTECTED CALCULATION SHEET'!AW10)
A20: 8 | U20: =IF(T20="","",'PROTECTED CALCULATION SHEET'!AX11) | V20: =IF(T20="","",'PROTECTED CALCULATION SHEET'!AW11)
A21: 9 | U21: =IF(T21="","",'PROTECTED CALCULATION SHEET'!AX12) | V21: =IF(T21="","",'PROTECTED CALCULATION SHEET'!AW12)
A22: 10 | U22: =IF(T22="","",'PROTECTED CALCULATION SHEET'!AX13) | V22: =IF(T22="","",'PROTECTED CALCULATION SHEET'!AW13)
A23: 11 | U23: =IF(T23="","",'PROTECTED CALCULATION SHEET'!AX14) | V23: =IF(T23="","",'PROTECTED CALCULATION SHEET'!AW14)
A24: 12 | U24: =IF(T24="","",'PROTECTED CALCULATION SHEET'!AX15) | V24: =IF(T24="","",'PROTECTED CALCULATION SHEET'!AW15)
... A33: 21 | U33: =IF(T33="","",'PROTECTED CALCULATION SHEET'!AX24) | V33: =IF(T33="","",'PROTECTED CALCULATION SHEET'!AW24)
A34: 22 | U34: =IF(T34="","",'PROTECTED CALCULATION SHEET'!AX25) | V34: =IF(T34="","",'PROTECTED CALCULATION SHEET'!AW25) | W34: `
A35: 23 | U35: =IF(T35="","",'PROTECTED CALCULATION SHEET'!AX26) | V35: =IF(T35="","",'PROTECTED CALCULATION SHEET'!AW26)
A36: 24 | U36: =IF(T36="","",'PROTECTED CALCULATION SHEET'!AX27) | V36: =IF(T36="","",'PROTECTED CALCULATION SHEET'!AW27)
A37: 25 | U37: =IF(T37="","",'PROTECTED CALCULATION SHEET'!AX28) | V37: =IF(T37="","",'PROTECTED CALCULATION SHEET'!AW28)
A38: 26 | U38: =IF(T38="","",'PROTECTED CALCULATION SHEET'!AX29) | V38: =IF(T38="","",'PROTECTED CALCULATION SHEET'!AW29)
A39: 27 | U39: =IF(T39="","",'PROTECTED CALCULATION SHEET'!AX30) | V39: =IF(T39="","",'PROTECTED CALCULATION SHEET'!AW30)
A40: 28 | U40: =IF(T40="","",'PROTECTED CALCULATION SHEET'!AX31) | V40: =IF(T40="","",'PROTECTED CALCULATION SHEET'!AW31)
A41: 29 | U41: =IF(T41="","",'PROTECTED CALCULATION SHEET'!AX32) | V41: =IF(T41="","",'PROTECTED CALCULATION SHEET'!AW32)
A42: 30 | U42: =IF(T42="","",'PROTECTED CALCULATION SHEET'!AX33) | V42: =IF(T42="","",'PROTECTED CALCULATION SHEET'!AW33)
A43: 31 | U43: =IF(T43="","",'PROTECTED CALCULATION SHEET'!AX34) | V43: =IF(T43="","",'PROTECTED CALCULATION SHEET'!AW34)
A44: 32 | U44: =IF(T44="","",'PROTECTED CALCULATION SHEET'!AX35) | V44: =IF(T44="","",'PROTECTED CALCULATION SHEET'!AW35)
A45: 33 | U45: =IF(T45="","",'PROTECTED CALCULATION SHEET'!AX36) | V45: =IF(T45="","",'PROTECTED CALCULATION SHEET'!AW36)
A46: 34 | U46: =IF(T46="","",'PROTECTED CALCULATION SHEET'!AX37) | V46: =IF(T46="","",'PROTECTED CALCULATION SHEET'!AW37)
... A62: 50 | U62: =IF(T62="","",'PROTECTED CALCULATION SHEET'!AX53) | V62: =IF(T62="","",'PROTECTED CALCULATION SHEET'!AW53)

Sheet PROTECTED CALCULATION SHEET
A1: MAIN WORKSHEET AREA | AW1: y | AX1: x
M2: POINT NUMBER | AI2: ADJUSTED ANGLES | AJ2: FORMULA REF | AN2: DISTANCE ADJUSTEMENTS | AW2: COORDINATES
A3: LINE | B3: DEG | C3: MIN | D3: SEC | E3: AZIMUTH | F3: ADJ. DIST. | G3: DISTANCE | H3: COSINE | I3: LATITUDE | J3: SINE | K3: DEPARTURE | AH3: AVERAGE | AI3: INT. ANGLES | AJ3: =BN3 -> 180 | AK3: BACK AZIMUTH | AL3: AZIMUTH OF LINE | AM3: PERCENTAGES | AN3: LATITUDE ADJUSTMENT | AO3: DEPARTURE ADJUSTMENT | AP3: DISTANCE | AS3: COSINE | AT3: LATITUDE | AU3: SINE | AV3: DEPARTURE | AW3: NORTHING | AX3: EASTING | AY3: ='DATA ENTRY SHEET'!T2 -> 0 | AZ3: ='DATA ENTRY SHEET'!U2 -> 0 | BD3: =ABS(DEGREES(ATAN(('DATA ENTRY SHEET'!T3-'DATA ENTRY SHEET'!T2)/('DATA ENTRY SHEET'!U3-'DATA ENTRY SHEET'!U2)))) -> #DIV/0! | BE3: =IF(AND('DATA ENTRY SHEET'!T3>'DATA ENTRY SHEET'!T2,'DATA ENTRY SHEET'!U3>'DATA ENTRY SHEET'!U2),'PROTECTED CALCULATION SHEET'!BD3,"") | BF3: =IF(AND('DATA ENTRY SHEET'!T3>'DATA ENTRY SHEET'!T2,'DATA ENTRY SHEET'!U3<'DATA ENTRY SHEET'!U2),180-'PROTECTED CALCULATION SHEET'!BD3,"") | BG3: =IF(AND('DATA ENTRY SHEET'!U3>'DATA ENTRY SHEET'!U2,'DATA ENTRY SHEET'!T3<'DATA ENTRY SHEET'!T2),360-'PROTECTED CALCULATION SHEET'!BD3,"") | BH3: =IF(AND('DATA ENTRY SHEET'!T3<'DATA ENTRY SHEET'!T2,'DATA ENTRY SHEET'!U3<'DATA ENTRY SHEET'!U2),180+'PROTECTED CALCULATION SHEET'!BD3,"") | BI3: =IF(AND('DATA ENTRY SHEET'!T3-'DATA ENTRY SHEET'!T2=0,'DATA ENTRY SHEET'!U3>'DATA ENTRY SHEET'!U2),0,"") | BJ3: =IF(AND('DATA ENTRY SHEET'!T3-'DATA ENTRY SHEET'!T2=0,'DATA ENTRY SHEET'!U3<'DATA ENTRY SHEET'!U2),180,"") | BK3: =IF(AND('DATA ENTRY SHEET'!U3-'DATA ENTRY SHEET'!U2=0,'DATA ENTRY SHEET'!T3>'DATA ENTRY SHEET'!T2),90,"") | BL3: =IF(AND('DATA ENTRY SHEET'!U3-'DATA ENTRY SHEET'!U2=0,'DATA ENTRY SHEET'!T3<'DATA ENTRY SHEET'!T2),270,"") | BN3: =IF(BO3+180>360,(BO3+180)-360,BO3+180) -> 180 | BO3: =SUM(BE3:BL3) -> 0 | CG3: AREA CALCULATION
A4: 1 | E4: =SUM(AL4) -> 0 | G4: ='DATA ENTRY SHEET'!T13 -> 0 | H4: =(COS(RADIANS(E4))) -> 1 | I4: =(G4*H4) -> 0 | J4: =SIN(RADIANS(E4)) -> 0 | K4: =(G4*J4) -> 0 | AF4: =IF(AND($A$54="RIGHT",'DATA ENTRY SHEET'!B13>0),ABS('ANGLE DETERMINATION'!AG3-360),IF(AND($A$54="LEFT",'DATA ENTRY SHEET'!B13>0),'ANGLE DETERMINATION'!AG3,IF(OR('DATA ENTRY SHEET'!$U$4="",'DATA ENTRY SHEET'!B13=""),"",FALSE))) | AG4: =IF(AND($A$54="RIGHT",'DATA ENTRY SHEET'!B13>0),ABS('ANGLE DETERMINATION'!AG3),IF(AND($A$54="LEFT",'DATA ENTRY SHEET'!B13>0),'ANGLE DETERMINATION'!AG3,IF(OR('DATA ENTRY SHEET'!$U$4="",'DATA ENTRY SHEET'!B13=""),"",FALSE))) | AH4: =IF('DATA ENTRY SHEET'!$U$6="YES",'PROTECTED CALCULATION SHEET'!AG4,IF('DATA ENTRY SHEET'!$U$6="NO",'PROTECTED CALCULATION SHEET'!AF4,IF('DATA ENTRY SHEET'!$U$6="","", FALSE))) | AI4: =IF(AH4="","",IF($AH$59>$AH$60,(AH4-$AI$61),IF($AH$59<$AH$60,(AH4+$AI$61),AH4))) | AJ4: =IF(AI4="","",SUM(AL4)) | AK4: =IF(AI4="","",SUM(AJ3+180)) | AL4: =IF(AI4="","",IF($A$54="LEFT",BA4,IF($A$54="RIGHT",BB4,FALSE))) | AM4: =G4/$L$64 -> #DIV/0! | AN4: =IF((AND(I4>=0,$I$62>=0)),-($I$62*AM4)+I4,IF((AND(I4>=0,$I$62<0)),ABS(AM4*$I$62)+I4,IF((AND(I4<0,$I$62>=0)),-(AM4*$I$62)+I4,IF((AND(I4<0,$I$62<0)),ABS(AM4*$I$62)+I4)))) -> #DIV/0! | AO4: =IF((AND(K4>=0,$K$62>=0)),K4-ABS($K$62*AM4),IF((AND(K4>=0,$K$62<0)),ABS(AM4*$K$62)+K4,IF((AND(K4<0,$K$62>=0)),-(AM4*$K$62)+K4,IF((AND(K4<0,$K$62<0)),ABS(AM4*$K$62)+K4)))) -> #DIV/0! | AP4: =SQRT((AN4*AN4)+(AO4*AO4)) -> #DIV/0! | AS4: =IF(G4=0,"",(COS(RADIANS(AL4)))) | AT4: =(IF(AN4="","",AN4)) -> #DIV/0! | AU4: =IF(G4=0,"",SIN(RADIANS(AL4))) | AV4: =IF(AO4="","",AO4) -> #DIV/0! | AW4: ='DATA ENTRY SHEET'!U2+AT4 -> #DIV/0! | AX4: ='DATA ENTRY SHEET'!T2+AV4 -> #DIV/0! | AY4: =SUM(AX4) -> #DIV/0! | AZ4: =SUM(AW4) -> #DIV/0! | BA4: =IF(SUM(AK4+AI4)>360,SUM(AK4+AI4)-360,SUM(AK4+AI4)) -> #VALUE! | BB4: =IF(SUM(AK4-AI4)>360,SUM(AK4-AI4)-360,SUM(AK4-AI4)) -> #VALUE! | CH4: ='DATA ENTRY SHEET'!U13 | CI4: ='DATA ENTRY SHEET'!V13
A5: 2 | E5: =SUM(AL5) -> 0 | G5: ='DATA ENTRY SHEET'!T14 -> 0 | H5: =(COS(RADIANS(E5))) -> 1 | I5: =(G5*H5) -> 0 | J5: =SIN(RADIANS(E5)) -> 0 | K5: =(G5*J5) -> 0 | AF5: =IF(AND($A$54="RIGHT",'DATA ENTRY SHEET'!B14>0),ABS('ANGLE DETERMINATION'!AG4-360),IF(AND($A$54="LEFT",'DATA ENTRY SHEET'!B14>0),'ANGLE DETERMINATION'!AG4,IF(OR('DATA ENTRY SHEET'!$U$4="",'DATA ENTRY SHEET'!B14=""),"",FALSE))) | AG5: =IF(AND($A$54="RIGHT",'DATA ENTRY SHEET'!B14>0),ABS('ANGLE DETERMINATION'!AG4),IF(AND($A$54="LEFT",'DATA ENTRY SHEET'!B14>0),'ANGLE DETERMINATION'!AG4,IF(OR('DATA ENTRY SHEET'!$U$4="",'DATA ENTRY SHEET'!B14=""),"",FALSE))) | AH5: =IF('DATA ENTRY SHEET'!$U$6="YES",'PROTECTED CALCULATION SHEET'!AG5,IF('DATA ENTRY SHEET'!$U$6="NO",'PROTECTED CALCULATION SHEET'!AF5,IF('DATA ENTRY SHEET'!$U$6="","", FALSE))) | AI5: =IF(AH5="","",IF($AH$59>$AH$60,(AH5-$AI$61),IF($AH$59<$AH$60,(AH5+$AI$61),AH5))) | AJ5: =IF(AI5="","",SUM(AL5)) | AK5: =IF(AI5="","",SUM(AJ4+180)) | AL5: =IF(AI5="","",IF($A$54="LEFT",BA5,IF($A$54="RIGHT",BB5,FALSE))) | AM5: =G5/$L$64 -> #DIV/0! | AN5: =IF((AND(I5>=0,$I$62>=0)),-($I$62*AM5)+I5,IF((AND(I5>=0,$I$62<0)),ABS(AM5*$I$62)+I5,IF((AND(I5<0,$I$62>=0)),-(AM5*$I$62)+I5,IF((AND(I5<0,$I$62<0)),ABS(AM5*$I$62)+I5)))) -> #DIV/0! | AO5: =IF((AND(K5>=0,$K$62>=0)),K5-ABS($K$62*AM5),IF((AND(K5>=0,$K$62<0)),ABS(AM5*$K$62)+K5,IF((AND(K5<0,$K$62>=0)),-(AM5*$K$62)+K5,IF((AND(K5<0,$K$62<0)),ABS(AM5*$K$62)+K5)))) -> #DIV/0! | AP5: =SQRT((AN5*AN5)+(AO5*AO5)) -> #DIV/0! | AS5: =IF(G5=0,"",(COS(RADIANS(AL5)))) | AT5: =(IF(AN5="","",AN5)) -> #DIV/0! | AU5: =IF(G5=0,"",SIN(RADIANS(AL5))) | AV5: =IF(AO5="","",AO5) -> #DIV/0! | AW5: ='DATA ENTRY SHEET'!V13+AT5 -> #VALUE! | AX5: ='DATA ENTRY SHEET'!U13+AV5 -> #VALUE! | AY5: =SUM(AX5) -> #VALUE! | AZ5: =SUM(AW5) -> #VALUE! | BA5: =IF(SUM(AK5+AI5)>360,SUM(AK5+AI5)-360,SUM(AK5+AI5)) -> #VALUE! | BB5: =IF(SUM(AK5-AI5)>360,SUM(AK5-AI5)-360,SUM(AK5-AI5)) -> #VALUE! | CF5: =IF(CH6="",CH5,"") | CG5: =IF(CI5="","",CI4*CH5) | CH5: ='DATA ENTRY SHEET'!U14 | CI5: ='DATA ENTRY SHEET'!V14 | CJ5: =IF(CH5="","",CH4*CI5) | CK5: =IF(CI6="",CI5,"")
A6: 3 | E6: =SUM(AL6) -> 0 | G6: ='DATA ENTRY SHEET'!T15 -> 0 | H6: =(COS(RADIANS(E6))) -> 1 | I6: =(G6*H6) -> 0 | J6: =SIN(RADIANS(E6)) -> 0 | K6: =(G6*J6) -> 0 | AF6: =IF(AND($A$54="RIGHT",'DATA ENTRY SHEET'!B15>0),ABS('ANGLE DETERMINATION'!AG5-360),IF(AND($A$54="LEFT",'DATA ENTRY SHEET'!B15>0),'ANGLE DETERMINATION'!AG5,IF(OR('DATA ENTRY SHEET'!$U$4="",'DATA ENTRY SHEET'!B15=""),"",FALSE))) | AG6: =IF(AND($A$54="RIGHT",'DATA ENTRY SHEET'!B15>0),ABS('ANGLE DETERMINATION'!AG5),IF(AND($A$54="LEFT",'DATA ENTRY SHEET'!B15>0),'ANGLE DETERMINATION'!AG5,IF(OR('DATA ENTRY SHEET'!$U$4="",'DATA ENTRY SHEET'!B15=""),"",FALSE))) | AH6: =IF('DATA ENTRY SHEET'!$U$6="YES",'PROTECTED CALCULATION SHEET'!AG6,IF('DATA ENTRY SHEET'!$U$6="NO",'PROTECTED CALCULATION SHEET'!AF6,IF('DATA ENTRY SHEET'!$U$6="","", FALSE))) | AI6: =IF(AH6="","",IF($AH$59>$AH$60,(AH6-$AI$61),IF($AH$59<$AH$60,(AH6+$AI$61),AH6))) | AJ6: =IF(AI6="","",SUM(AL6)) | AK6: =IF(AI6="","",SUM(AJ5+180)) | AL6: =IF(AI6="","",IF($A$54="LEFT",BA6,IF($A$54="RIGHT",BB6,FALSE))) | AM6: =G6/$L$64 -> #DIV/0! | AN6: =IF((AND(I6>=0,$I$62>=0)),-($I$62*AM6)+I6,IF((AND(I6>=0,$I$62<0)),ABS(AM6*$I$62)+I6,IF((AND(I6<0,$I$62>=0)),-(AM6*$I$62)+I6,IF((AND(I6<0,$I$62<0)),ABS(AM6*$I$62)+I6)))) -> #DIV/0! | AO6: =IF((AND(K6>=0,$K$62>=0)),K6-ABS($K$62*AM6),IF((AND(K6>=0,$K$62<0)),ABS(AM6*$K$62)+K6,IF((AND(K6<0,$K$62>=0)),-(AM6*$K$62)+K6,IF((AND(K6<0,$K$62<0)),ABS(AM6*$K$62)+K6)))) -> #DIV/0! | AP6: =SQRT((AN6*AN6)+(AO6*AO6)) -> #DIV/0! | AS6: =IF(G6=0,"",(COS(RADIANS(AL6)))) | AT6: =(IF(AN6="","",AN6)) -> #DIV/0! | AU6: =IF(G6=0,"",SIN(RADIANS(AL6))) | AV6: =IF(AO6="","",AO6) -> #DIV/0! | AW6: ='DATA ENTRY SHEET'!V14+AT6 -> #VALUE! | AX6: ='DATA ENTRY SHEET'!U14+AV6 -> #VALUE! | AY6: =SUM(AX6) -> #VALUE! | AZ6: =SUM(AW6) -> #VALUE! | BA6: =IF(SUM(AK6+AI6)>360,SUM(AK6+AI6)-360,SUM(AK6+AI6)) -> #VALUE! | BB6: =IF(SUM(AK6-AI6)>360,SUM(AK6-AI6)-360,SUM(AK6-AI6)) -> #VALUE! | CF6: =IF(CH7="",CH6,"") | CG6: =IF(CI6="","",CI5*CH6) | CH6: ='DATA ENTRY SHEET'!U15 | CI6: ='DATA ENTRY SHEET'!V15 | CJ6: =IF(CH6="","",CH5*CI6) | CK6: =IF(CI7="",CI6,"")
A7: 4 | E7: =SUM(AL7) -> 0 | G7: ='DATA ENTRY SHEET'!T16 -> 0 | H7: =(COS(RADIANS(E7))) -> 1 | I7: =(G7*H7) -> 0 | J7: =SIN(RADIANS(E7)) -> 0 | K7: =(G7*J7) -> 0 | AF7: =IF(AND($A$54="RIGHT",'DATA ENTRY SHEET'!B16>0),ABS('ANGLE DETERMINATION'!AG6-360),IF(AND($A$54="LEFT",'DATA ENTRY SHEET'!B16>0),'ANGLE DETERMINATION'!AG6,IF(OR('DATA ENTRY SHEET'!$U$4="",'DATA ENTRY SHEET'!B16=""),"",FALSE))) | AG7: =IF(AND($A$54="RIGHT",'DATA ENTRY SHEET'!B16>0),ABS('ANGLE DETERMINATION'!AG6),IF(AND($A$54="LEFT",'DATA ENTRY SHEET'!B16>0),'ANGLE DETERMINATION'!AG6,IF(OR('DATA ENTRY SHEET'!$U$4="",'DATA ENTRY SHEET'!B16=""),"",FALSE))) | AH7: =IF('DATA ENTRY SHEET'!$U$6="YES",'PROTECTED CALCULATION SHEET'!AG7,IF('DATA ENTRY SHEET'!$U$6="NO",'PROTECTED CALCULATION SHEET'!AF7,IF('DATA ENTRY SHEET'!$U$6="","", FALSE))) | AI7: =IF(AH7="","",IF($AH$59>$AH$60,(AH7-$AI$61),IF($AH$59<$AH$60,(AH7+$AI$61),AH7))) | AJ7: =IF(AI7="","",SUM(AL7)) | AK7: =IF(AI7="","",SUM(AJ6+180)) | AL7: =IF(AI7="","",IF($A$54="LEFT",BA7,IF($A$54="RIGHT",BB7,FALSE))) | AM7: =G7/$L$64 -> #DIV/0! | AN7: =IF((AND(I7>=0,$I$62>=0)),-($I$62*AM7)+I7,IF((AND(I7>=0,$I$62<0)),ABS(AM7*$I$62)+I7,IF((AND(I7<0,$I$62>=0)),-(AM7*$I$62)+I7,IF((AND(I7<0,$I$62<0)),ABS(AM7*$I$62)+I7)))) -> #DIV/0! | AO7: =IF((AND(K7>=0,$K$62>=0)),K7-ABS($K$62*AM7),IF((AND(K7>=0,$K$62<0)),ABS(AM7*$K$62)+K7,IF((AND(K7<0,$K$62>=0)),-(AM7*$K$62)+K7,IF((AND(K7<0,$K$62<0)),ABS(AM7*$K$62)+K7)))) -> #DIV/0! | AP7: =SQRT((AN7*AN7)+(AO7*AO7)) -> #DIV/0! | AS7: =IF(G7=0,"",(COS(RADIANS(AL7)))) | AT7: =(IF(AN7="","",AN7)) -> #DIV/0! | AU7: =IF(G7=0,"",SIN(RADIANS(AL7))) | AV7: =IF(AO7="","",AO7) -> #DIV/0! | AW7: ='DATA ENTRY SHEET'!V15+AT7 -> #VALUE! | AX7: ='DATA ENTRY SHEET'!U15+AV7 -> #VALUE! | AY7: =SUM(AX7) -> #VALUE! | AZ7: =SUM(AW7) -> #VALUE! | BA7: =IF(SUM(AK7+AI7)>360,SUM(AK7+AI7)-360,SUM(AK7+AI7)) -> #VALUE! | BB7: =IF(SUM(AK7-AI7)>360,SUM(AK7-AI7)-360,SUM(AK7-AI7)) -> #VALUE! | CF7: =IF(CH8="",CH7,"") | CG7: =IF(CI7="","",CI6*CH7) | CH7: ='DATA ENTRY SHEET'!U16 | CI7: ='DATA ENTRY SHEET'!V16 | CJ7: =IF(CH7="","",CH6*CI7) | CK7: =IF(CI8="",CI7,"")
A8: 5 | E8: =SUM(AL8) -> 0 | G8: ='DATA ENTRY SHEET'!T17 -> 0 | H8: =(COS(RADIANS(E8))) -> 1 | I8: =(G8*H8) -> 0 | J8: =SIN(RADIANS(E8)) -> 0 | K8: =(G8*J8) -> 0 | AF8: =IF(AND($A$54="RIGHT",'DATA ENTRY SHEET'!B17>0),ABS('ANGLE DETERMINATION'!AG7-360),IF(AND($A$54="LEFT",'DATA ENTRY SHEET'!B17>0),'ANGLE DETERMINATION'!AG7,IF(OR('DATA ENTRY SHEET'!$U$4="",'DATA ENTRY SHEET'!B17=""),"",FALSE))) | AG8: =IF(AND($A$54="RIGHT",'DATA ENTRY SHEET'!B17>0),ABS('ANGLE DETERMINATION'!AG7),IF(AND($A$54="LEFT",'DATA ENTRY SHEET'!B17>0),'ANGLE DETERMINATION'!AG7,IF(OR('DATA ENTRY SHEET'!$U$4="",'DATA ENTRY SHEET'!B17=""),"",FALSE))) | AH8: =IF('DATA ENTRY SHEET'!$U$6="YES",'PROTECTED CALCULATION SHEET'!AG8,IF('DATA ENTRY SHEET'!$U$6="NO",'PROTECTED CALCULATION SHEET'!AF8,IF('DATA ENTRY SHEET'!$U$6="","", FALSE))) | AI8: =IF(AH8="","",IF($AH$59>$AH$60,(AH8-$AI$61),IF($AH$59<$AH$60,(AH8+$AI$61),AH8))) | AJ8: =IF(AI8="","",SUM(AL8)) | AK8: =IF(AI8="","",SUM(AJ7+180)) | AL8: =IF(AI8="","",IF($A$54="LEFT",BA8,IF($A$54="RIGHT",BB8,FALSE))) | AM8: =G8/$L$64 -> #DIV/0! | AN8: =IF((AND(I8>=0,$I$62>=0)),-($I$62*AM8)+I8,IF((AND(I8>=0,$I$62<0)),ABS(AM8*$I$62)+I8,IF((AND(I8<0,$I$62>=0)),-(AM8*$I$62)+I8,IF((AND(I8<0,$I$62<0)),ABS(AM8*$I$62)+I8)))) -> #DIV/0! | AO8: =IF((AND(K8>=0,$K$62>=0)),K8-ABS($K$62*AM8),IF((AND(K8>=0,$K$62<0)),ABS(AM8*$K$62)+K8,IF((AND(K8<0,$K$62>=0)),-(AM8*$K$62)+K8,IF((AND(K8<0,$K$62<0)),ABS(AM8*$K$62)+K8)))) -> #DIV/0! | AP8: =SQRT((AN8*AN8)+(AO8*AO8)) -> #DIV/0! | AS8: =IF(G8=0,"",(COS(RADIANS(AL8)))) | AT8: =(IF(AN8="","",AN8)) -> #DIV/0! | AU8: =IF(G8=0,"",SIN(RADIANS(AL8))) | AV8: =IF(AO8="","",AO8) -> #DIV/0! | AW8: ='DATA ENTRY SHEET'!V16+AT8 -> #VALUE! | AX8: ='DATA ENTRY SHEET'!U16+AV8 -> #VALUE! | AY8: =SUM(AX8) -> #VALUE! | AZ8: =SUM(AW8) -> #VALUE! | BA8: =IF(SUM(AK8+AI8)>360,SUM(AK8+AI8)-360,SUM(AK8+AI8)) -> #VALUE! | BB8: =IF(SUM(AK8-AI8)>360,SUM(AK8-AI8)-360,SUM(AK8-AI8)) -> #VALUE! | CF8: =IF(CH9="",CH8,"") | CG8: =IF(CI8="","",CI7*CH8) | CH8: ='DATA ENTRY SHEET'!U17 | CI8: ='DATA ENTRY SHEET'!V17 | CJ8: =IF(CH8="","",CH7*CI8) | CK8: =IF(CI9="",CI8,"")
A9: 6 | E9: =SUM(AL9) -> 0 | G9: ='DATA ENTRY SHEET'!T18 -> 0 | H9: =(COS(RADIANS(E9))) -> 1 | I9: =(G9*H9) -> 0 | J9: =SIN(RADIANS(E9)) -> 0 | K9: =(G9*J9) -> 0 | AF9: =IF(AND($A$54="RIGHT",'DATA ENTRY SHEET'!B18>0),ABS('ANGLE DETERMINATION'!AG8-360),IF(AND($A$54="LEFT",'DATA ENTRY SHEET'!B18>0),'ANGLE DETERMINATION'!AG8,IF(OR('DATA ENTRY SHEET'!$U$4="",'DATA ENTRY SHEET'!B18=""),"",FALSE))) | AG9: =IF(AND($A$54="RIGHT",'DATA ENTRY SHEET'!B18>0),ABS('ANGLE DETERMINATION'!AG8),IF(AND($A$54="LEFT",'DATA ENTRY SHEET'!B18>0),'ANGLE DETERMINATION'!AG8,IF(OR('DATA ENTRY SHEET'!$U$4="",'DATA ENTRY SHEET'!B18=""),"",FALSE))) | AH9: =IF('DATA ENTRY SHEET'!$U$6="YES",'PROTECTED CALCULATION SHEET'!AG9,IF('DATA ENTRY SHEET'!$U$6="NO",'PROTECTED CALCULATION SHEET'!AF9,IF('DATA ENTRY SHEET'!$U$6="","", FALSE))) | AI9: =IF(AH9="","",IF($AH$59>$AH$60,(AH9-$AI$61),IF($AH$59<$AH$60,(AH9+$AI$61),AH9))) | AJ9: =IF(AI9="","",SUM(AL9)) | AK9: =IF(AI9="","",SUM(AJ8+180)) | AL9: =IF(AI9="","",IF($A$54="LEFT",BA9,IF($A$54="RIGHT",BB9,FALSE))) | AM9: =G9/$L$64 -> #DIV/0! | AN9: =IF((AND(I9>=0,$I$62>=0)),-($I$62*AM9)+I9,IF((AND(I9>=0,$I$62<0)),ABS(AM9*$I$62)+I9,IF((AND(I9<0,$I$62>=0)),-(AM9*$I$62)+I9,IF((AND(I9<0,$I$62<0)),ABS(AM9*$I$62)+I9)))) -> #DIV/0! | AO9: =IF((AND(K9>=0,$K$62>=0)),K9-ABS($K$62*AM9),IF((AND(K9>=0,$K$62<0)),ABS(AM9*$K$62)+K9,IF((AND(K9<0,$K$62>=0)),-(AM9*$K$62)+K9,IF((AND(K9<0,$K$62<0)),ABS(AM9*$K$62)+K9)))) -> #DIV/0! | AP9: =SQRT((AN9*AN9)+(AO9*AO9)) -> #DIV/0! | AS9: =IF(G9=0,"",(COS(RADIANS(AL9)))) | AT9: =(IF(AN9="","",AN9)) -> #DIV/0! | AU9: =IF(G9=0,"",SIN(RADIANS(AL9))) | AV9: =IF(AO9="","",AO9) -> #DIV/0! | AW9: ='DATA ENTRY SHEET'!V17+AT9 -> #VALUE! | AX9: ='DATA ENTRY SHEET'!U17+AV9 -> #VALUE! | AY9: =SUM(AX9) -> #VALUE! | AZ9: =SUM(AW9) -> #VALUE! | BA9: =IF(SUM(AK9+AI9)>360,SUM(AK9+AI9)-360,SUM(AK9+AI9)) -> #VALUE! | BB9: =IF(SUM(AK9-AI9)>360,SUM(AK9-AI9)-360,SUM(AK9-AI9)) -> #VALUE! | CF9: =IF(CH10="",CH9,"") | CG9: =IF(CI9="","",CI8*CH9) | CH9: ='DATA ENTRY SHEET'!U18 | CI9: ='DATA ENTRY SHEET'!V18 | CJ9: =IF(CH9="","",CH8*CI9) | CK9: =IF(CI10="",CI9,"")
A10: 7 | E10: =SUM(AL10) -> 0 | G10: ='DATA ENTRY SHEET'!T19 -> 0 | H10: =(COS(RADIANS(E10))) -> 1 | I10: =(G10*H10) -> 0 | J10: =SIN(RADIANS(E10)) -> 0 | K10: =(G10*J10) -> 0 | AF10: =IF(AND($A$54="RIGHT",'DATA ENTRY SHEET'!B19>0),ABS('ANGLE DETERMINATION'!AG9-360),IF(AND($A$54="LEFT",'DATA ENTRY SHEET'!B19>0),'ANGLE DETERMINATION'!AG9,IF(OR('DATA ENTRY SHEET'!$U$4="",'DATA ENTRY SHEET'!B19=""),"",FALSE))) | AG10: =IF(AND($A$54="RIGHT",'DATA ENTRY SHEET'!B19>0),ABS('ANGLE DETERMINATION'!AG9),IF(AND($A$54="LEFT",'DATA ENTRY SHEET'!B19>0),'ANGLE DETERMINATION'!AG9,IF(OR('DATA ENTRY SHEET'!$U$4="",'DATA ENTRY SHEET'!B19=""),"",FALSE))) | AH10: =IF('DATA ENTRY SHEET'!$U$6="YES",'PROTECTED CALCULATION SHEET'!AG10,IF('DATA ENTRY SHEET'!$U$6="NO",'PROTECTED CALCULATION SHEET'!AF10,IF('DATA ENTRY SHEET'!$U$6="","", FALSE))) | AI10: =IF(AH10="","",IF($AH$59>$AH$60,(AH10-$AI$61),IF($AH$59<$AH$60,(AH10+$AI$61),AH10))) | AJ10: =IF(AI10="","",SUM(AL10)) | AK10: =IF(AI10="","",SUM(AJ9+180)) | AL10: =IF(AI10="","",IF($A$54="LEFT",BA10,IF($A$54="RIGHT",BB10,FALSE))) | AM10: =G10/$L$64 -> #DIV/0! | AN10: =IF((AND(I10>=0,$I$62>=0)),-($I$62*AM10)+I10,IF((AND(I10>=0,$I$62<0)),ABS(AM10*$I$62)+I10,IF((AND(I10<0,$I$62>=0)),-(AM10*$I$62)+I10,IF((AND(I10<0,$I$62<0)),ABS(AM10*$I$62)+I10)))) -> #DIV/0! | AO10: =IF((AND(K10>=0,$K$62>=0)),K10-ABS($K$62*AM10),IF((AND(K10>=0,$K$62<0)),ABS(AM10*$K$62)+K10,IF((AND(K10<0,$K$62>=0)),-(AM10*$K$62)+K10,IF((AND(K10<0,$K$62<0)),ABS(AM10*$K$62)+K10)))) -> #DIV/0! | AP10: =SQRT((AN10*AN10)+(AO10*AO10)) -> #DIV/0! | AS10: =IF(G10=0,"",(COS(RADIANS(AL10)))) | AT10: =(IF(AN10="","",AN10)) -> #DIV/0! | AU10: =IF(G10=0,"",SIN(RADIANS(AL10))) | AV10: =IF(AO10="","",AO10) -> #DIV/0! | AW10: ='DATA ENTRY SHEET'!V18+AT10 -> #VALUE! | AX10: ='DATA ENTRY SHEET'!U18+AV10 -> #VALUE! | AY10: =SUM(AX10) -> #VALUE! | AZ10: =SUM(AW10) -> #VALUE! | BA10: =IF(SUM(AK10+AI10)>360,SUM(AK10+AI10)-360,SUM(AK10+AI10)) -> #VALUE! | BB10: =IF(SUM(AK10-AI10)>360,SUM(AK10-AI10)-360,SUM(AK10-AI10)) -> #VALUE! | CF10: =IF(CH11="",CH10,"") | CG10: =IF(CI10="","",CI9*CH10) | CH10: ='DATA ENTRY SHEET'!U19 | CI10: ='DATA ENTRY SHEET'!V19 | CJ10: =IF(CH10="","",CH9*CI10) | CK10: =IF(CI11="",CI10,"")
A11: 8 | E11: =SUM(AL11) -> 0 | G11: ='DATA ENTRY SHEET'!T20 -> 0 | H11: =(COS(RADIANS(E11))) -> 1 | I11: =(G11*H11) -> 0 | J11: =SIN(RADIANS(E11)) -> 0 | K11: =(G11*J11) -> 0 | AF11: =IF(AND($A$54="RIGHT",'DATA ENTRY SHEET'!B20>0),ABS('ANGLE DETERMINATION'!AG10-360),IF(AND($A$54="LEFT",'DATA ENTRY SHEET'!B20>0),'ANGLE DETERMINATION'!AG10,IF(OR('DATA ENTRY SHEET'!$U$4="",'DATA ENTRY SHEET'!B20=""),"",FALSE))) | AG11: =IF(AND($A$54="RIGHT",'DATA ENTRY SHEET'!B20>0),ABS('ANGLE DETERMINATION'!AG10),IF(AND($A$54="LEFT",'DATA ENTRY SHEET'!B20>0),'ANGLE DETERMINATION'!AG10,IF(OR('DATA ENTRY SHEET'!$U$4="",'DATA ENTRY SHEET'!B20=""),"",FALSE))) | AH11: =IF('DATA ENTRY SHEET'!$U$6="YES",'PROTECTED CALCULATION SHEET'!AG11,IF('DATA ENTRY SHEET'!$U$6="NO",'PROTECTED CALCULATION SHEET'!AF11,IF('DATA ENTRY SHEET'!$U$6="","", FALSE))) | AI11: =IF(AH11="","",IF($AH$59>$AH$60,(AH11-$AI$61),IF($AH$59<$AH$60,(AH11+$AI$61),AH11))) | AJ11: =IF(AI11="","",SUM(AL11)) | AK11: =IF(AI11="","",SUM(AJ10+180)) | AL11: =IF(AI11="","",IF($A$54="LEFT",BA11,IF($A$54="RIGHT",BB11,FALSE))) | AM11: =G11/$L$64 -> #DIV/0! | AN11: =IF((AND(I11>=0,$I$62>=0)),-($I$62*AM11)+I11,IF((AND(I11>=0,$I$62<0)),ABS(AM11*$I$62)+I11,IF((AND(I11<0,$I$62>=0)),-(AM11*$I$62)+I11,IF((AND(I11<0,$I$62<0)),ABS(AM11*$I$62)+I11)))) -> #DIV/0! | AO11: =IF((AND(K11>=0,$K$62>=0)),K11-ABS($K$62*AM11),IF((AND(K11>=0,$K$62<0)),ABS(AM11*$K$62)+K11,IF((AND(K11<0,$K$62>=0)),-(AM11*$K$62)+K11,IF((AND(K11<0,$K$62<0)),ABS(AM11*$K$62)+K11)))) -> #DIV/0! | AP11: =SQRT((AN11*AN11)+(AO11*AO11)) -> #DIV/0! | AS11: =IF(G11=0,"",(COS(RADIANS(AL11)))) | AT11: =(IF(AN11="","",AN11)) -> #DIV/0! | AU11: =IF(G11=0,"",SIN(RADIANS(AL11))) | AV11: =IF(AO11="","",AO11) -> #DIV/0! | AW11: ='DATA ENTRY SHEET'!V19+AT11 -> #VALUE! | AX11: ='DATA ENTRY SHEET'!U19+AV11 -> #VALUE! | AY11: =SUM(AX11) -> #VALUE! | AZ11: =SUM(AW11) -> #VALUE! | BA11: =IF(SUM(AK11+AI11)>360,SUM(AK11+AI11)-360,SUM(AK11+AI11)) -> #VALUE! | BB11: =IF(SUM(AK11-AI11)>360,SUM(AK11-AI11)-360,SUM(AK11-AI11)) -> #VALUE! | CF11: =IF(CH12="",CH11,"") | CG11: =IF(CI11="","",CI10*CH11) | CH11: ='DATA ENTRY SHEET'!U20 | CI11: ='DATA ENTRY SHEET'!V20 | CJ11: =IF(CH11="","",CH10*CI11) | CK11: =IF(CI12="",CI11,"")
A12: 9 | E12: =SUM(AL12) -> 0 | G12: ='DATA ENTRY SHEET'!T21 -> 0 | H12: =(COS(RADIANS(E12))) -> 1 | I12: =(G12*H12) -> 0 | J12: =SIN(RADIANS(E12)) -> 0 | K12: =(G12*J12) -> 0 | AF12: =IF(AND($A$54="RIGHT",'DATA ENTRY SHEET'!B21>0),ABS('ANGLE DETERMINATION'!AG11-360),IF(AND($A$54="LEFT",'DATA ENTRY SHEET'!B21>0),'ANGLE DETERMINATION'!AG11,IF(OR('DATA ENTRY SHEET'!$U$4="",'DATA ENTRY SHEET'!B21=""),"",FALSE))) | AG12: =IF(AND($A$54="RIGHT",'DATA ENTRY SHEET'!B21>0),ABS('ANGLE DETERMINATION'!AG11),IF(AND($A$54="LEFT",'DATA ENTRY SHEET'!B21>0),'ANGLE DETERMINATION'!AG11,IF(OR('DATA ENTRY SHEET'!$U$4="",'DATA ENTRY SHEET'!B21=""),"",FALSE))) | AH12: =IF('DATA ENTRY SHEET'!$U$6="YES",'PROTECTED CALCULATION SHEET'!AG12,IF('DATA ENTRY SHEET'!$U$6="NO",'PROTECTED CALCULATION SHEET'!AF12,IF('DATA ENTRY SHEET'!$U$6="","", FALSE))) | AI12: =IF(AH12="","",IF($AH$59>$AH$60,(AH12-$AI$61),IF($AH$59<$AH$60,(AH12+$AI$61),AH12))) | AJ12: =IF(AI12="","",SUM(AL12)) | AK12: =IF(AI12="","",SUM(AJ11+180)) | AL12: =IF(AI12="","",IF($A$54="LEFT",BA12,IF($A$54="RIGHT",BB12,FALSE))) | AM12: =G12/$L$64 -> #DIV/0! | AN12: =IF((AND(I12>=0,$I$62>=0)),-($I$62*AM12)+I12,IF((AND(I12>=0,$I$62<0)),ABS(AM12*$I$62)+I12,IF((AND(I12<0,$I$62>=0)),-(AM12*$I$62)+I12,IF((AND(I12<0,$I$62<0)),ABS(AM12*$I$62)+I12)))) -> #DIV/0! | AO12: =IF((AND(K12>=0,$K$62>=0)),K12-ABS($K$62*AM12),IF((AND(K12>=0,$K$62<0)),ABS(AM12*$K$62)+K12,IF((AND(K12<0,$K$62>=0)),-(AM12*$K$62)+K12,IF((AND(K12<0,$K$62<0)),ABS(AM12*$K$62)+K12)))) -> #DIV/0! | AP12: =SQRT((AN12*AN12)+(AO12*AO12)) -> #DIV/0! | AS12: =IF(G12=0,"",(COS(RADIANS(AL12)))) | AT12: =(IF(AN12="","",AN12)) -> #DIV/0! | AU12: =IF(G12=0,"",SIN(RADIANS(AL12))) | AV12: =IF(AO12="","",AO12) -> #DIV/0! | AW12: ='DATA ENTRY SHEET'!V20+AT12 -> #VALUE! | AX12: ='DATA ENTRY SHEET'!U20+AV12 -> #VALUE! | AY12: =SUM(AX12) -> #VALUE! | AZ12: =SUM(AW12) -> #VALUE! | BA12: =IF(SUM(AK12+AI12)>360,SUM(AK12+AI12)-360,SUM(AK12+AI12)) -> #VALUE! | BB12: =IF(SUM(AK12-AI12)>360,SUM(AK12-AI12)-360,SUM(AK12-AI12)) -> #VALUE! | CF12: =IF(CH13="",CH12,"") | CG12: =IF(CI12="","",CI11*CH12) | CH12: ='DATA ENTRY SHEET'!U21 | CI12: ='DATA ENTRY SHEET'!V21 | CJ12: =IF(CH12="","",CH11*CI12) | CK12: =IF(CI13="",CI12,"")
A13: 10 | E13: =SUM(AL13) -> 0 | G13: ='DATA ENTRY SHEET'!T22 -> 0 | H13: =(COS(RADIANS(E13))) -> 1 | I13: =(G13*H13) -> 0 | J13: =SIN(RADIANS(E13)) -> 0 | K13: =(G13*J13) -> 0 | AF13: =IF(AND($A$54="RIGHT",'DATA ENTRY SHEET'!B22>0),ABS('ANGLE DETERMINATION'!AG12-360),IF(AND($A$54="LEFT",'DATA ENTRY SHEET'!B22>0),'ANGLE DETERMINATION'!AG12,IF(OR('DATA ENTRY SHEET'!$U$4="",'DATA ENTRY SHEET'!B22=""),"",FALSE))) | AG13: =IF(AND($A$54="RIGHT",'DATA ENTRY SHEET'!B22>0),ABS('ANGLE DETERMINATION'!AG12),IF(AND($A$54="LEFT",'DATA ENTRY SHEET'!B22>0),'ANGLE DETERMINATION'!AG12,IF(OR('DATA ENTRY SHEET'!$U$4="",'DATA ENTRY SHEET'!B22=""),"",FALSE))) | AH13: =IF('DATA ENTRY SHEET'!$U$6="YES",'PROTECTED CALCULATION SHEET'!AG13,IF('DATA ENTRY SHEET'!$U$6="NO",'PROTECTED CALCULATION SHEET'!AF13,IF('DATA ENTRY SHEET'!$U$6="","", FALSE))) | AI13: =IF(AH13="","",IF($AH$59>$AH$60,(AH13-$AI$61),IF($AH$59<$AH$60,(AH13+$AI$61),AH13))) | AJ13: =IF(AI13="","",SUM(AL13)) | AK13: =IF(AI13="","",SUM(AJ12+180)) | AL13: =IF(AI13="","",IF($A$54="LEFT",BA13,IF($A$54="RIGHT",BB13,FALSE))) | AM13: =G13/$L$64 -> #DIV/0! | AN13: =IF((AND(I13>=0,$I$62>=0)),-($I$62*AM13)+I13,IF((AND(I13>=0,$I$62<0)),ABS(AM13*$I$62)+I13,IF((AND(I13<0,$I$62>=0)),-(AM13*$I$62)+I13,IF((AND(I13<0,$I$62<0)),ABS(AM13*$I$62)+I13)))) -> #DIV/0! | AO13: =IF((AND(K13>=0,$K$62>=0)),K13-ABS($K$62*AM13),IF((AND(K13>=0,$K$62<0)),ABS(AM13*$K$62)+K13,IF((AND(K13<0,$K$62>=0)),-(AM13*$K$62)+K13,IF((AND(K13<0,$K$62<0)),ABS(AM13*$K$62)+K13)))) -> #DIV/0! | AP13: =SQRT((AN13*AN13)+(AO13*AO13)) -> #DIV/0! | AS13: =IF(G13=0,"",(COS(RADIANS(AL13)))) | AT13: =(IF(AN13="","",AN13)) -> #DIV/0! | AU13: =IF(G13=0,"",SIN(RADIANS(AL13))) | AV13: =IF(AO13="","",AO13) -> #DIV/0! | AW13: ='DATA ENTRY SHEET'!V21+AT13 -> #VALUE! | AX13: ='DATA ENTRY SHEET'!U21+AV13 -> #VALUE! | AY13: =SUM(AX13) -> #VALUE! | AZ13: =SUM(AW13) -> #VALUE! | BA13: =IF(SUM(AK13+AI13)>360,SUM(AK13+AI13)-360,SUM(AK13+AI13)) -> #VALUE! | BB13: =IF(SUM(AK13-AI13)>360,SUM(AK13-AI13)-360,SUM(AK13-AI13)) -> #VALUE! | CF13: =IF(CH14="",CH13,"") | CG13: =IF(CI13="","",CI12*CH13) | CH13: ='DATA ENTRY SHEET'!U22 | CI13: ='DATA ENTRY SHEET'!V22 | CJ13: =IF(CH13="","",CH12*CI13) | CK13: =IF(CI14="",CI13,"")
A14: 11 | E14: =SUM(AL14) -> 0 | G14: ='DATA ENTRY SHEET'!T23 -> 0 | H14: =(COS(RADIANS(E14))) -> 1 | I14: =(G14*H14) -> 0 | J14: =SIN(RADIANS(E14)) -> 0 | K14: =(G14*J14) -> 0 | AF14: =IF(AND($A$54="RIGHT",'DATA ENTRY SHEET'!B23>0),ABS('ANGLE DETERMINATION'!AG13-360),IF(AND($A$54="LEFT",'DATA ENTRY SHEET'!B23>0),'ANGLE DETERMINATION'!AG13,IF(OR('DATA ENTRY SHEET'!$U$4="",'DATA ENTRY SHEET'!B23=""),"",FALSE))) | AG14: =IF(AND($A$54="RIGHT",'DATA ENTRY SHEET'!B23>0),ABS('ANGLE DETERMINATION'!AG13),IF(AND($A$54="LEFT",'DATA ENTRY SHEET'!B23>0),'ANGLE DETERMINATION'!AG13,IF(OR('DATA ENTRY SHEET'!$U$4="",'DATA ENTRY SHEET'!B23=""),"",FALSE))) | AH14: =IF('DATA ENTRY SHEET'!$U$6="YES",'PROTECTED CALCULATION SHEET'!AG14,IF('DATA ENTRY SHEET'!$U$6="NO",'PROTECTED CALCULATION SHEET'!AF14,IF('DATA ENTRY SHEET'!$U$6="","", FALSE))) | AI14: =IF(AH14="","",IF($AH$59>$AH$60,(AH14-$AI$61),IF($AH$59<$AH$60,(AH14+$AI$61),AH14))) | AJ14: =IF(AI14="","",SUM(AL14)) | AK14: =IF(AI14="","",SUM(AJ13+180)) | AL14: =IF(AI14="","",IF($A$54="LEFT",BA14,IF($A$54="RIGHT",BB14,FALSE))) | AM14: =G14/$L$64 -> #DIV/0! | AN14: =IF((AND(I14>=0,$I$62>=0)),-($I$62*AM14)+I14,IF((AND(I14>=0,$I$62<0)),ABS(AM14*$I$62)+I14,IF((AND(I14<0,$I$62>=0)),-(AM14*$I$62)+I14,IF((AND(I14<0,$I$62<0)),ABS(AM14*$I$62)+I14)))) -> #DIV/0! | AO14: =IF((AND(K14>=0,$K$62>=0)),K14-ABS($K$62*AM14),IF((AND(K14>=0,$K$62<0)),ABS(AM14*$K$62)+K14,IF((AND(K14<0,$K$62>=0)),-(AM14*$K$62)+K14,IF((AND(K14<0,$K$62<0)),ABS(AM14*$K$62)+K14)))) -> #DIV/0! | AP14: =SQRT((AN14*AN14)+(AO14*AO14)) -> #DIV/0! | AS14: =IF(G14=0,"",(COS(RADIANS(AL14)))) | AT14: =(IF(AN14="","",AN14)) -> #DIV/0! | AU14: =IF(G14=0,"",SIN(RADIANS(AL14))) | AV14: =IF(AO14="","",AO14) -> #DIV/0! | AW14: ='DATA ENTRY SHEET'!V22+AT14 -> #VALUE! | AX14: ='DATA ENTRY SHEET'!U22+AV14 -> #VALUE! | AY14: =SUM(AX14) -> #VALUE! | AZ14: =SUM(AW14) -> #VALUE! | BA14: =IF(SUM(AK14+AI14)>360,SUM(AK14+AI14)-360,SUM(AK14+AI14)) -> #VALUE! | BB14: =IF(SUM(AK14-AI14)>360,SUM(AK14-AI14)-360,SUM(AK14-AI14)) -> #VALUE! | CF14: =IF(CH15="",CH14,"") | CG14: =IF(CI14="","",CI13*CH14) | CH14: ='DATA ENTRY SHEET'!U23 | CI14: ='DATA ENTRY SHEET'!V23 | CJ14: =IF(CH14="","",CH13*CI14) | CK14: =IF(CI15="",CI14,"")
A15: 12 | E15: =SUM(AL15) -> 0 | G15: ='DATA ENTRY SHEET'!T24 -> 0 | H15: =(COS(RADIANS(E15))) -> 1 | I15: =(G15*H15) -> 0 | J15: =SIN(RADIANS(E15)) -> 0 | K15: =(G15*J15) -> 0 | AF15: =IF(AND($A$54="RIGHT",'DATA ENTRY SHEET'!B24>0),ABS('ANGLE DETERMINATION'!AG14-360),IF(AND($A$54="LEFT",'DATA ENTRY SHEET'!B24>0),'ANGLE DETERMINATION'!AG14,IF(OR('DATA ENTRY SHEET'!$U$4="",'DATA ENTRY SHEET'!B24=""),"",FALSE))) | AG15: =IF(AND($A$54="RIGHT",'DATA ENTRY SHEET'!B24>0),ABS('ANGLE DETERMINATION'!AG14),IF(AND($A$54="LEFT",'DATA ENTRY SHEET'!B24>0),'ANGLE DETERMINATION'!AG14,IF(OR('DATA ENTRY SHEET'!$U$4="",'DATA ENTRY SHEET'!B24=""),"",FALSE))) | AH15: =IF('DATA ENTRY SHEET'!$U$6="YES",'PROTECTED CALCULATION SHEET'!AG15,IF('DATA ENTRY SHEET'!$U$6="NO",'PROTECTED CALCULATION SHEET'!AF15,IF('DATA ENTRY SHEET'!$U$6="","", FALSE))) | AI15: =IF(AH15="","",IF($AH$59>$AH$60,(AH15-$AI$61),IF($AH$59<$AH$60,(AH15+$AI$61),AH15))) | AJ15: =IF(AI15="","",SUM(AL15)) | AK15: =IF(AI15="","",SUM(AJ14+180)) | AL15: =IF(AI15="","",IF($A$54="LEFT",BA15,IF($A$54="RIGHT",BB15,FALSE))) | AM15: =G15/$L$64 -> #DIV/0! | AN15: =IF((AND(I15>=0,$I$62>=0)),-($I$62*AM15)+I15,IF((AND(I15>=0,$I$62<0)),ABS(AM15*$I$62)+I15,IF((AND(I15<0,$I$62>=0)),-(AM15*$I$62)+I15,IF((AND(I15<0,$I$62<0)),ABS(AM15*$I$62)+I15)))) -> #DIV/0! | AO15: =IF((AND(K15>=0,$K$62>=0)),K15-ABS($K$62*AM15),IF((AND(K15>=0,$K$62<0)),ABS(AM15*$K$62)+K15,IF((AND(K15<0,$K$62>=0)),-(AM15*$K$62)+K15,IF((AND(K15<0,$K$62<0)),ABS(AM15*$K$62)+K15)))) -> #DIV/0! | AP15: =SQRT((AN15*AN15)+(AO15*AO15)) -> #DIV/0! | AS15: =IF(G15=0,"",(COS(RADIANS(AL15)))) | AT15: =(IF(AN15="","",AN15)) -> #DIV/0! | AU15: =IF(G15=0,"",SIN(RADIANS(AL15))) | AV15: =IF(AO15="","",AO15) -> #DIV/0! | AW15: ='DATA ENTRY SHEET'!V23+AT15 -> #VALUE! | AX15: ='DATA ENTRY SHEET'!U23+AV15 -> #VALUE! | AY15: =SUM(AX15) -> #VALUE! | AZ15: =SUM(AW15) -> #VALUE! | BA15: =IF(SUM(AK15+AI15)>360,SUM(AK15+AI15)-360,SUM(AK15+AI15)) -> #VALUE! | BB15: =IF(SUM(AK15-AI15)>360,SUM(AK15-AI15)-360,SUM(AK15-AI15)) -> #VALUE! | CF15: =IF(CH16="",CH15,"") | CG15: =IF(CI15="","",CI14*CH15) | CH15: ='DATA ENTRY SHEET'!U24 | CI15: ='DATA ENTRY SHEET'!V24 | CJ15: =IF(CH15="","",CH14*CI15) | CK15: =IF(CI16="",CI15,"")
A16: 13 | E16: =SUM(AL16) -> 0 | G16: ='DATA ENTRY SHEET'!T25 -> 0 | H16: =(COS(RADIANS(E16))) -> 1 | I16: =(G16*H16) -> 0 | J16: =SIN(RADIANS(E16)) -> 0 | K16: =(G16*J16) -> 0 | AF16: =IF(AND($A$54="RIGHT",'DATA ENTRY SHEET'!B25>0),ABS('ANGLE DETERMINATION'!AG15-360),IF(AND($A$54="LEFT",'DATA ENTRY SHEET'!B25>0),'ANGLE DETERMINATION'!AG15,IF(OR('DATA ENTRY SHEET'!$U$4="",'DATA ENTRY SHEET'!B25=""),"",FALSE))) | AG16: =IF(AND($A$54="RIGHT",'DATA ENTRY SHEET'!B25>0),ABS('ANGLE DETERMINATION'!AG15),IF(AND($A$54="LEFT",'DATA ENTRY SHEET'!B25>0),'ANGLE DETERMINATION'!AG15,IF(OR('DATA ENTRY SHEET'!$U$4="",'DATA ENTRY SHEET'!B25=""),"",FALSE))) | AH16: =IF('DATA ENTRY SHEET'!$U$6="YES",'PROTECTED CALCULATION SHEET'!AG16,IF('DATA ENTRY SHEET'!$U$6="NO",'PROTECTED CALCULATION SHEET'!AF16,IF('DATA ENTRY SHEET'!$U$6="","", FALSE))) | AI16: =IF(AH16="","",IF($AH$59>$AH$60,(AH16-$AI$61),IF($AH$59<$AH$60,(AH16+$AI$61),AH16))) | AJ16: =IF(AI16="","",SUM(AL16)) | AK16: =IF(AI16="","",SUM(AJ15+180)) | AL16: =IF(AI16="","",IF($A$54="LEFT",BA16,IF($A$54="RIGHT",BB16,FALSE))) | AM16: =G16/$L$64 -> #DIV/0! | AN16: =IF((AND(I16>=0,$I$62>=0)),-($I$62*AM16)+I16,IF((AND(I16>=0,$I$62<0)),ABS(AM16*$I$62)+I16,IF((AND(I16<0,$I$62>=0)),-(AM16*$I$62)+I16,IF((AND(I16<0,$I$62<0)),ABS(AM16*$I$62)+I16)))) -> #DIV/0! | AO16: =IF((AND(K16>=0,$K$62>=0)),K16-ABS($K$62*AM16),IF((AND(K16>=0,$K$62<0)),ABS(AM16*$K$62)+K16,IF((AND(K16<0,$K$62>=0)),-(AM16*$K$62)+K16,IF((AND(K16<0,$K$62<0)),ABS(AM16*$K$62)+K16)))) -> #DIV/0! | AP16: =SQRT((AN16*AN16)+(AO16*AO16)) -> #DIV/0! | AS16: =IF(G16=0,"",(COS(RADIANS(AL16)))) | AT16: =(IF(AN16="","",AN16)) -> #DIV/0! | AU16: =IF(G16=0,"",SIN(RADIANS(AL16))) | AV16: =IF(AO16="","",AO16) -> #DIV/0! | AW16: ='DATA ENTRY SHEET'!V24+AT16 -> #VALUE! | AX16: ='DATA ENTRY SHEET'!U24+AV16 -> #VALUE! | AY16: =SUM(AX16) -> #VALUE! | AZ16: =SUM(AW16) -> #VALUE! | BA16: =IF(SUM(AK16+AI16)>360,SUM(AK16+AI16)-360,SUM(AK16+AI16)) -> #VALUE! | BB16: =IF(SUM(AK16-AI16)>360,SUM(AK16-AI16)-360,SUM(AK16-AI16)) -> #VALUE! | CF16: =IF(CH17="",CH16,"") | CG16: =IF(CI16="","",CI15*CH16) | CH16: ='DATA ENTRY SHEET'!U25 | CI16: ='DATA ENTRY SHEET'!V25 | CJ16: =IF(CH16="","",CH15*CI16) | CK16: =IF(CI17="",CI16,"")
... A53: 50 | E53: =SUM(AL53) -> 0 | G53: ='DATA ENTRY SHEET'!T62 -> 0 | H53: =(COS(RADIANS(E53))) -> 1 | I53: =(G53*H53) -> 0 | J53: =SIN(RADIANS(E53)) -> 0 | K53: =(G53*J53) -> 0 | AF53: =IF(AND($A$54="RIGHT",'DATA ENTRY SHEET'!B62>0),ABS('ANGLE DETERMINATION'!AG52-360),IF(AND($A$54="LEFT",'DATA ENTRY SHEET'!B62>0),'ANGLE DETERMINATION'!AG52,IF(OR('DATA ENTRY SHEET'!$U$4="",'DATA ENTRY SHEET'!B62=""),"",FALSE))) | AG53: =IF(AND($A$54="RIGHT",'DATA ENTRY SHEET'!B62>0),ABS('ANGLE DETERMINATION'!AG52),IF(AND($A$54="LEFT",'DATA ENTRY SHEET'!B62>0),'ANGLE DETERMINATION'!AG52,IF(OR('DATA ENTRY SHEET'!$U$4="",'DATA ENTRY SHEET'!B62=""),"",FALSE))) | AH53: =IF('DATA ENTRY SHEET'!$U$6="YES",'PROTECTED CALCULATION SHEET'!AG53,IF('DATA ENTRY SHEET'!$U$6="NO",'PROTECTED CALCULATION SHEET'!AF53,IF('DATA ENTRY SHEET'!$U$6="","", FALSE))) | AI53: =IF(AH53="","",IF($AH$59>$AH$60,(AH53-$AI$61),IF($AH$59<$AH$60,(AH53+$AI$61),AH53))) | AJ53: =IF(AI53="","",SUM(AL53)) | AK53: =IF(AI53="","",SUM(AJ52+180)) | AL53: =IF(AI53="","",IF($A$54="LEFT",BA53,IF($A$54="RIGHT",BB53,FALSE))) | AM53: =G53/$L$64 -> #DIV/0! | AN53: =IF((AND(I53>=0,$I$62>=0)),-($I$62*AM53)+I53,IF((AND(I53>=0,$I$62<0)),ABS(AM53*$I$62)+I53,IF((AND(I53<0,$I$62>=0)),-(AM53*$I$62)+I53,IF((AND(I53<0,$I$62<0)),ABS(AM53*$I$62)+I53)))) -> #DIV/0! | AO53: =IF((AND(K53>=0,$K$62>=0)),K53-ABS($K$62*AM53),IF((AND(K53>=0,$K$62<0)),ABS(AM53*$K$62)+K53,IF((AND(K53<0,$K$62>=0)),-(AM53*$K$62)+K53,IF((AND(K53<0,$K$62<0)),ABS(AM53*$K$62)+K53)))) -> #DIV/0! | AP53: =SQRT((AN53*AN53)+(AO53*AO53)) -> #DIV/0! | AS53: =IF(G53=0,"",(COS(RADIANS(AL53)))) | AT53: =(IF(AN53="","",AN53)) -> #DIV/0! | AU53: =IF(G53=0,"",SIN(RADIANS(AL53))) | AV53: =IF(AO53="","",AO53) -> #DIV/0! | AW53: ='DATA ENTRY SHEET'!V61+AT53 -> #VALUE! | AX53: ='DATA ENTRY SHEET'!U61+AV53 -> #VALUE! | AY53: =SUM(AX53) -> #VALUE! | AZ53: =SUM(AW53) -> #VALUE! | BA53: =IF(SUM(AK53+AI53)>360,SUM(AK53+AI53)-360,SUM(AK53+AI53)) -> #VALUE! | BB53: =IF(SUM(AK53-AI53)>360,SUM(AK53-AI53)-360,SUM(AK53-AI53)) -> #VALUE! | CF53: =IF(CH54="",CH53,"") | CG53: =IF(CI53="","",CI52*CH53) | CH53: ='DATA ENTRY SHEET'!U62 | CI53: ='DATA ENTRY SHEET'!V62 | CJ53: =IF(CH53="","",CH52*CI53) | CK53: =IF(CI54="",CI53,"")
A54: ='DATA ENTRY SHEET'!U4 -> 0 | CE54: ='DATA ENTRY SHEET'!U13 | CF54: =SUM(CF5:CF53) -> 0 | CG54: =IF(CI54="","",CI53*CH54) | CJ54: =IF(CH54="","",CH53*CI54) | CK54: =SUM(CK5:CK53) -> 0 | CL54: ='DATA ENTRY SHEET'!V13
CG55: =CK54*CE54 -> #VALUE! | CJ55: =CF54*CL54 -> #VALUE!
AE56: NUMBER | AH56: =COUNT(AH4:AH55) -> 0 | CG56: =SUM(CG5:CG55) -> #VALUE! | CJ56: =SUM(CJ5:CJ55) -> #VALUE!
AE59: TRUE INTERIOR ANGLE | AH59: =SUM(AH4:AH53) -> 0 | CI59: =ABS(CG56-CJ56) -> #VALUE!
AE60: SHOULD BE | AH60: =(AH56-2)*180 -> -360 | CI60: =CI59/2 -> #VALUE!
L61: LEOC | AE61: ERROR | AH61: =ABS(AH59-AH60) -> 360 | AI61: =SUM(AH61/AH56) -> #DIV/0! | AJ61: ERROR PER ANGLE | CI61: =CI60/CJ61 -> #VALUE! | CJ61: 43560.17
I62: =SUM(I4:I59) -> 0 | K62: =SUM(K4:K59) -> 0 | L62: =SQRT((I62*I62)+(K62*K62)) -> 0 | AI62: =SUM(AI4:AI14) -> 0 | AJ62: TRUE INTERIOR AFTER ADJUSTMENT | AN62: =SUM(AN4:AN29) -> #DIV/0! | AO62: =SUM(AO4:AO29) -> #DIV/0! | AT62: =SUM(AT4:AT59) -> #DIV/0! | AV62: =SUM(AV4:AV59) -> #DIV/0! | AW62: =SQRT((AT62*AT62)+(AU62*AU62)) -> #DIV/0! | AX62: LEOC
L63: PERIMETER | AW63: =SUM(L64/AW62) -> #DIV/0! | AX63: PRECISION
L64: =SUM(G4:G59) -> 0 | AD64: =AI61 -> #DIV/0! | AH64: =IF(AD64="","",ROUNDDOWN(AD64,0)) -> #DIV/0! | AI64: =(AD64-AH64) -> #DIV/0! | AJ64: =(AI64*60) -> #DIV/0! | AK64: =IF(AD64="","",ROUNDDOWN(AJ64,0)) -> #DIV/0! | AL64: =(AJ64-AK64) -> #DIV/0! | AM64: =IF(AD64="","",(AL64*60)) -> #DIV/0!
L67: CLOSURE ACCURACY
L68: =SUM(L64/L62) -> #DIV/0!
AH90: 184.79681 | AI90: =360-AH90 -> 175.20319

Sheet ANGLE DETERMINATION
C1: DETERMINATION | H1: SUM | I1: ROTATION | J1: LAST ANGLE | O1: AVERAGE ANGLE | T1: SUM | W1: ANGULAR ERROR ADJUSTMENT | AB1: AREA AVERAGING | AG1: SUM | AH1: DECIMAL FORM OF ENTRY SHEET | AM1: AVERAGE
B2: FIRST ANGLE | C2: 2 | D2: 3 | E2: 4 | F2: 5 | G2: 6 | J2: 2 | K2: 3 | L2: 4 | M2: 5 | N2: 6 | O2: 2 | P2: 3 | Q2: 4 | R2: 5 | S2: 6 | W2: 2 | X2: 3 | Y2: 4 | Z2: 5 | AA2: 6 | AB2: 2 | AC2: 3 | AD2: 4 | AE2: 5 | AF2: 6 | AH2: 2 | AI2: 3 | AJ2: 4 | AK2: 5 | AL2: 6 | AM2: 2 | AN2: 3 | AO2: 4 | AP2: 5 | AQ2: 6
A3: 1 | B3: =(('DATA ENTRY SHEET'!B13)+('DATA ENTRY SHEET'!C13/60)+('DATA ENTRY SHEET'!D13/3600)) -> 0 | C3: =IF('DATA ENTRY SHEET'!E13="","",B3*2) | D3: =IF('DATA ENTRY SHEET'!H13="","",B3*3) | E3: =IF('DATA ENTRY SHEET'!K13="","",B3*4) | F3: =IF('DATA ENTRY SHEET'!N13="","",B3*5) | G3: =IF('DATA ENTRY SHEET'!Q13="","",B3*6) | H3: =SUM(C3:G3) -> 0 | I3: =IF(H3<=360,0,IF(AND(H3>360,H3<=720),360,IF(AND(H3>720,H3<=1080),720,IF(AND(H3>1080,H3<=1440),1080,IF(AND(H3>1440,H3<=1800),1440,IF(AND(H3>1800,H3<=2160),1800,"")))))) -> 0 | J3: =IF('DATA ENTRY SHEET'!E13="","",(('DATA ENTRY SHEET'!E13)+('DATA ENTRY SHEET'!F13/60)+('DATA ENTRY SHEET'!G13/3600))+I3) | K3: =IF('DATA ENTRY SHEET'!H13="","",(('DATA ENTRY SHEET'!H13)+('DATA ENTRY SHEET'!I13/60)+('DATA ENTRY SHEET'!J13/3600))+I3) | L3: =IF('DATA ENTRY SHEET'!K13="","",(('DATA ENTRY SHEET'!K13)+('DATA ENTRY SHEET'!L13/60)+('DATA ENTRY SHEET'!M13/3600))+I3) | M3: =IF('DATA ENTRY SHEET'!N13="","",(('DATA ENTRY SHEET'!N13)+('DATA ENTRY SHEET'!O13/60)+('DATA ENTRY SHEET'!P13/3600))+I3) | N3: =IF('DATA ENTRY SHEET'!Q13="","",(('DATA ENTRY SHEET'!Q13)+('DATA ENTRY SHEET'!R13/60)+('DATA ENTRY SHEET'!S13/3600))+I3) | O3: =IF(J3="","",J3/$J$2) | P3: =IF(K3="","",K3/$K$2) | Q3: =IF(L3="","",L3/$L$2) | R3: =IF(M3="","",M3/$M$2) | S3: =IF(N3="","",N3/$N$2) | T3: =IF(AND(O3="",P3="",Q3="",R3="",S3=""),"",SUM(O3:S3)) | U3: =IF(T3<(B3-1),360,IF(T3>(B3+1),-360,0)) -> -360 | V3: =I3+U3 -> -360 | W3: =IF('DATA ENTRY SHEET'!E13="","",(('DATA ENTRY SHEET'!E13)+('DATA ENTRY SHEET'!F13/60)+('DATA ENTRY SHEET'!G13/3600))+'ANGLE DETERMINATION'!V3) | X3: =IF('DATA ENTRY SHEET'!H13="","",(('DATA ENTRY SHEET'!H13)+('DATA ENTRY SHEET'!I13/60)+('DATA ENTRY SHEET'!J13/3600))+'ANGLE DETERMINATION'!V3) | Y3: =IF('DATA ENTRY SHEET'!K13="","",(('DATA ENTRY SHEET'!K13)+('DATA ENTRY SHEET'!L13/60)+('DATA ENTRY SHEET'!M13/3600))+'ANGLE DETERMINATION'!V3) | Z3: =IF('DATA ENTRY SHEET'!N13="","",(('DATA ENTRY SHEET'!N13)+('DATA ENTRY SHEET'!O13/60)+('DATA ENTRY SHEET'!P13/3600))+'ANGLE DETERMINATION'!V3) | AA3: =+IF('DATA ENTRY SHEET'!Q13="","",(('DATA ENTRY SHEET'!Q13)+('DATA ENTRY SHEET'!R13/60)+('DATA ENTRY SHEET'!S13/3600))+'ANGLE DETERMINATION'!V3) | AB3: =IF(W3="","",W3/2) | AC3: =IF(X3="","",X3/3) | AD3: =IF(Y3="","",Y3/4) | AE3: =IF(Z3="","",Z3/5) | AF3: =IF(AA3="","",AA3/6) | AG3: =IF('DATA ENTRY SHEET'!$U$5="RESET",SUM(AB3:AF3),IF('DATA ENTRY SHEET'!$U$5="ACC",SUM(AH3:AL3),IF('DATA ENTRY SHEET'!$U$5="AVE",SUM(AM3:AQ3),FALSE))) -> FALSE | AH3: =IF('DATA ENTRY SHEET'!E13="","",(SUM(('DATA ENTRY SHEET'!E13)+('DATA ENTRY SHEET'!F13/60)+('DATA ENTRY SHEET'!G13/3600)))/2) | AI3: =IF('DATA ENTRY SHEET'!H13="","",(SUM(('DATA ENTRY SHEET'!H13)+('DATA ENTRY SHEET'!I13/60)+('DATA ENTRY SHEET'!J13/3600)))/3) | AJ3: =IF('DATA ENTRY SHEET'!K13="","",(SUM(('DATA ENTRY SHEET'!K13)+('DATA ENTRY SHEET'!L13/60)+('DATA ENTRY SHEET'!M13/3600)))/4) | AK3: =IF('DATA ENTRY SHEET'!N13="","",(SUM(('DATA ENTRY SHEET'!N13)+('DATA ENTRY SHEET'!O13/60)+('DATA ENTRY SHEET'!P13/3600)))/5) | AL3: =IF('DATA ENTRY SHEET'!Q13="","",(SUM(('DATA ENTRY SHEET'!Q13)+('DATA ENTRY SHEET'!R13/60)+('DATA ENTRY SHEET'!S13/3600)))/6) | AM3: =IF('DATA ENTRY SHEET'!E13="","",('DATA ENTRY SHEET'!E13)+('DATA ENTRY SHEET'!F13/60)+('DATA ENTRY SHEET'!G13/3600)) | AN3: =IF('DATA ENTRY SHEET'!H13="","",('DATA ENTRY SHEET'!H13)+('DATA ENTRY SHEET'!I13/60)+('DATA ENTRY SHEET'!J13/3600)) | AO3: =IF('DATA ENTRY SHEET'!K13="","",('DATA ENTRY SHEET'!K13)+('DATA ENTRY SHEET'!L13/60)+('DATA ENTRY SHEET'!M13/3600)) | AP3: =IF('DATA ENTRY SHEET'!N13="","",('DATA ENTRY SHEET'!N13)+('DATA ENTRY SHEET'!O13/60)+('DATA ENTRY SHEET'!P13/3600)) | AQ3: =IF('DATA ENTRY SHEET'!Q13="","",('DATA ENTRY SHEET'!Q13)+('DATA ENTRY SHEET'!R13/60)+('DATA ENTRY SHEET'!S13/3600))
A4: 2 | B4: =(('DATA ENTRY SHEET'!B14)+('DATA ENTRY SHEET'!C14/60)+('DATA ENTRY SHEET'!D14/3600)) -> 0 | C4: =IF('DATA ENTRY SHEET'!E14="","",B4*2) | D4: =IF('DATA ENTRY SHEET'!H14="","",B4*3) | E4: =IF('DATA ENTRY SHEET'!K14="","",B4*4) | F4: =IF('DATA ENTRY SHEET'!N14="","",B4*5) | G4: =IF('DATA ENTRY SHEET'!Q14="","",B4*6) | H4: =SUM(C4:G4) -> 0 | I4: =IF(H4<=360,0,IF(AND(H4>360,H4<=720),360,IF(AND(H4>720,H4<=1080),720,IF(AND(H4>1080,H4<=1440),1080,IF(AND(H4>1440,H4<=1800),1440,IF(AND(H4>1800,H4<=2160),1800,"")))))) -> 0 | J4: =IF('DATA ENTRY SHEET'!E14="","",(('DATA ENTRY SHEET'!E14)+('DATA ENTRY SHEET'!F14/60)+('DATA ENTRY SHEET'!G14/3600))+I4) | K4: =IF('DATA ENTRY SHEET'!H14="","",(('DATA ENTRY SHEET'!H14)+('DATA ENTRY SHEET'!I14/60)+('DATA ENTRY SHEET'!J14/3600))+I4) | L4: =IF('DATA ENTRY SHEET'!K14="","",(('DATA ENTRY SHEET'!K14)+('DATA ENTRY SHEET'!L14/60)+('DATA ENTRY SHEET'!M14/3600))+I4) | M4: =IF('DATA ENTRY SHEET'!N14="","",(('DATA ENTRY SHEET'!N14)+('DATA ENTRY SHEET'!O14/60)+('DATA ENTRY SHEET'!P14/3600))+I4) | N4: =IF('DATA ENTRY SHEET'!Q14="","",(('DATA ENTRY SHEET'!Q14)+('DATA ENTRY SHEET'!R14/60)+('DATA ENTRY SHEET'!S14/3600))+I4) | O4: =IF(J4="","",J4/$J$2) | P4: =IF(K4="","",K4/$K$2) | Q4: =IF(L4="","",L4/$L$2) | R4: =IF(M4="","",M4/$M$2) | S4: =IF(N4="","",N4/$N$2) | T4: =IF(AND(O4="",P4="",Q4="",R4="",S4=""),"",SUM(O4:S4)) | U4: =IF(T4<(B4-1),360,IF(T4>(B4+1),-360,0)) -> -360 | V4: =I4+U4 -> -360 | W4: =IF('DATA ENTRY SHEET'!E14="","",(('DATA ENTRY SHEET'!E14)+('DATA ENTRY SHEET'!F14/60)+('DATA ENTRY SHEET'!G14/3600))+'ANGLE DETERMINATION'!V4) | X4: =IF('DATA ENTRY SHEET'!H14="","",(('DATA ENTRY SHEET'!H14)+('DATA ENTRY SHEET'!I14/60)+('DATA ENTRY SHEET'!J14/3600))+'ANGLE DETERMINATION'!V4) | Y4: =IF('DATA ENTRY SHEET'!K14="","",(('DATA ENTRY SHEET'!K14)+('DATA ENTRY SHEET'!L14/60)+('DATA ENTRY SHEET'!M14/3600))+'ANGLE DETERMINATION'!V4) | Z4: =IF('DATA ENTRY SHEET'!N14="","",(('DATA ENTRY SHEET'!N14)+('DATA ENTRY SHEET'!O14/60)+('DATA ENTRY SHEET'!P14/3600))+'ANGLE DETERMINATION'!V4) | AA4: =+IF('DATA ENTRY SHEET'!Q14="","",(('DATA ENTRY SHEET'!Q14)+('DATA ENTRY SHEET'!R14/60)+('DATA ENTRY SHEET'!S14/3600))+'ANGLE DETERMINATION'!V4) | AB4: =IF(W4="","",W4/2) | AC4: =IF(X4="","",X4/3) | AD4: =IF(Y4="","",Y4/4) | AE4: =IF(Z4="","",Z4/5) | AF4: =IF(AA4="","",AA4/6) | AG4: =IF('DATA ENTRY SHEET'!$U$5="RESET",SUM(AB4:AF4),IF('DATA ENTRY SHEET'!$U$5="ACC",SUM(AH4:AL4),IF('DATA ENTRY SHEET'!$U$5="AVE",SUM(AM4:AQ4),FALSE))) -> FALSE | AH4: =IF('DATA ENTRY SHEET'!E14="","",(SUM(('DATA ENTRY SHEET'!E14)+('DATA ENTRY SHEET'!F14/60)+('DATA ENTRY SHEET'!G14/3600)))/2) | AI4: =IF('DATA ENTRY SHEET'!H14="","",(SUM(('DATA ENTRY SHEET'!H14)+('DATA ENTRY SHEET'!I14/60)+('DATA ENTRY SHEET'!J14/3600)))/3) | AJ4: =IF('DATA ENTRY SHEET'!K14="","",(SUM(('DATA ENTRY SHEET'!K14)+('DATA ENTRY SHEET'!L14/60)+('DATA ENTRY SHEET'!M14/3600)))/4) | AK4: =IF('DATA ENTRY SHEET'!N14="","",(SUM(('DATA ENTRY SHEET'!N14)+('DATA ENTRY SHEET'!O14/60)+('DATA ENTRY SHEET'!P14/3600)))/5) | AL4: =IF('DATA ENTRY SHEET'!Q14="","",(SUM(('DATA ENTRY SHEET'!Q14)+('DATA ENTRY SHEET'!R14/60)+('DATA ENTRY SHEET'!S14/3600)))/6) | AM4: =IF('DATA ENTRY SHEET'!E14="","",('DATA ENTRY SHEET'!E14)+('DATA ENTRY SHEET'!F14/60)+('DATA ENTRY SHEET'!G14/3600)) | AN4: =IF('DATA ENTRY SHEET'!H14="","",('DATA ENTRY SHEET'!H14)+('DATA ENTRY SHEET'!I14/60)+('DATA ENTRY SHEET'!J14/3600)) | AO4: =IF('DATA ENTRY SHEET'!K14="","",('DATA ENTRY SHEET'!K14)+('DATA ENTRY SHEET'!L14/60)+('DATA ENTRY SHEET'!M14/3600)) | AP4: =IF('DATA ENTRY SHEET'!N14="","",('DATA ENTRY SHEET'!N14)+('DATA ENTRY SHEET'!O14/60)+('DATA ENTRY SHEET'!P14/3600)) | AQ4: =IF('DATA ENTRY SHEET'!Q14="","",('DATA ENTRY SHEET'!Q14)+('DATA ENTRY SHEET'!R14/60)+('DATA ENTRY SHEET'!S14/3600))
A5: 3 | B5: =(('DATA ENTRY SHEET'!B15)+('DATA ENTRY SHEET'!C15/60)+('DATA ENTRY SHEET'!D15/3600)) -> 0 | C5: =IF('DATA ENTRY SHEET'!E15="","",B5*2) | D5: =IF('DATA ENTRY SHEET'!H15="","",B5*3) | E5: =IF('DATA ENTRY SHEET'!K15="","",B5*4) | F5: =IF('DATA ENTRY SHEET'!N15="","",B5*5) | G5: =IF('DATA ENTRY SHEET'!Q15="","",B5*6) | H5: =SUM(C5:G5) -> 0 | I5: =IF(H5<=360,0,IF(AND(H5>360,H5<=720),360,IF(AND(H5>720,H5<=1080),720,IF(AND(H5>1080,H5<=1440),1080,IF(AND(H5>1440,H5<=1800),1440,IF(AND(H5>1800,H5<=2160),1800,"")))))) -> 0 | J5: =IF('DATA ENTRY SHEET'!E15="","",(('DATA ENTRY SHEET'!E15)+('DATA ENTRY SHEET'!F15/60)+('DATA ENTRY SHEET'!G15/3600))+I5) | K5: =IF('DATA ENTRY SHEET'!H15="","",(('DATA ENTRY SHEET'!H15)+('DATA ENTRY SHEET'!I15/60)+('DATA ENTRY SHEET'!J15/3600))+I5) | L5: =IF('DATA ENTRY SHEET'!K15="","",(('DATA ENTRY SHEET'!K15)+('DATA ENTRY SHEET'!L15/60)+('DATA ENTRY SHEET'!M15/3600))+I5) | M5: =IF('DATA ENTRY SHEET'!N15="","",(('DATA ENTRY SHEET'!N15)+('DATA ENTRY SHEET'!O15/60)+('DATA ENTRY SHEET'!P15/3600))+I5) | N5: =IF('DATA ENTRY SHEET'!Q15="","",(('DATA ENTRY SHEET'!Q15)+('DATA ENTRY SHEET'!R15/60)+('DATA ENTRY SHEET'!S15/3600))+I5) | O5: =IF(J5="","",J5/$J$2) | P5: =IF(K5="","",K5/$K$2) | Q5: =IF(L5="","",L5/$L$2) | R5: =IF(M5="","",M5/$M$2) | S5: =IF(N5="","",N5/$N$2) | T5: =IF(AND(O5="",P5="",Q5="",R5="",S5=""),"",SUM(O5:S5)) | U5: =IF(T5<(B5-1),360,IF(T5>(B5+1),-360,0)) -> -360 | V5: =I5+U5 -> -360 | W5: =IF('DATA ENTRY SHEET'!E15="","",(('DATA ENTRY SHEET'!E15)+('DATA ENTRY SHEET'!F15/60)+('DATA ENTRY SHEET'!G15/3600))+'ANGLE DETERMINATION'!V5) | X5: =IF('DATA ENTRY SHEET'!H15="","",(('DATA ENTRY SHEET'!H15)+('DATA ENTRY SHEET'!I15/60)+('DATA ENTRY SHEET'!J15/3600))+'ANGLE DETERMINATION'!V5) | Y5: =IF('DATA ENTRY SHEET'!K15="","",(('DATA ENTRY SHEET'!K15)+('DATA ENTRY SHEET'!L15/60)+('DATA ENTRY SHEET'!M15/3600))+'ANGLE DETERMINATION'!V5) | Z5: =IF('DATA ENTRY SHEET'!N15="","",(('DATA ENTRY SHEET'!N15)+('DATA ENTRY SHEET'!O15/60)+('DATA ENTRY SHEET'!P15/3600))+'ANGLE DETERMINATION'!V5) | AA5: =+IF('DATA ENTRY SHEET'!Q15="","",(('DATA ENTRY SHEET'!Q15)+('DATA ENTRY SHEET'!R15/60)+('DATA ENTRY SHEET'!S15/3600))+'ANGLE DETERMINATION'!V5) | AB5: =IF(W5="","",W5/2) | AC5: =IF(X5="","",X5/3) | AD5: =IF(Y5="","",Y5/4) | AE5: =IF(Z5="","",Z5/5) | AF5: =IF(AA5="","",AA5/6) | AG5: =IF('DATA ENTRY SHEET'!$U$5="RESET",SUM(AB5:AF5),IF('DATA ENTRY SHEET'!$U$5="ACC",SUM(AH5:AL5),IF('DATA ENTRY SHEET'!$U$5="AVE",SUM(AM5:AQ5),FALSE))) -> FALSE | AH5: =IF('DATA ENTRY SHEET'!E15="","",(SUM(('DATA ENTRY SHEET'!E15)+('DATA ENTRY SHEET'!F15/60)+('DATA ENTRY SHEET'!G15/3600)))/2) | AI5: =IF('DATA ENTRY SHEET'!H15="","",(SUM(('DATA ENTRY SHEET'!H15)+('DATA ENTRY SHEET'!I15/60)+('DATA ENTRY SHEET'!J15/3600)))/3) | AJ5: =IF('DATA ENTRY SHEET'!K15="","",(SUM(('DATA ENTRY SHEET'!K15)+('DATA ENTRY SHEET'!L15/60)+('DATA ENTRY SHEET'!M15/3600)))/4) | AK5: =IF('DATA ENTRY SHEET'!N15="","",(SUM(('DATA ENTRY SHEET'!N15)+('DATA ENTRY SHEET'!O15/60)+('DATA ENTRY SHEET'!P15/3600)))/5) | AL5: =IF('DATA ENTRY SHEET'!Q15="","",(SUM(('DATA ENTRY SHEET'!Q15)+('DATA ENTRY SHEET'!R15/60)+('DATA ENTRY SHEET'!S15/3600)))/6) | AM5: =IF('DATA ENTRY SHEET'!E15="","",('DATA ENTRY SHEET'!E15)+('DATA ENTRY SHEET'!F15/60)+('DATA ENTRY SHEET'!G15/3600)) | AN5: =IF('DATA ENTRY SHEET'!H15="","",('DATA ENTRY SHEET'!H15)+('DATA ENTRY SHEET'!I15/60)+('DATA ENTRY SHEET'!J15/3600)) | AO5: =IF('DATA ENTRY SHEET'!K15="","",('DATA ENTRY SHEET'!K15)+('DATA ENTRY SHEET'!L15/60)+('DATA ENTRY SHEET'!M15/3600)) | AP5: =IF('DATA ENTRY SHEET'!N15="","",('DATA ENTRY SHEET'!N15)+('DATA ENTRY SHEET'!O15/60)+('DATA ENTRY SHEET'!P15/3600)) | AQ5: =IF('DATA ENTRY SHEET'!Q15="","",('DATA ENTRY SHEET'!Q15)+('DATA ENTRY SHEET'!R15/60)+('DATA ENTRY SHEET'!S15/3600))
A6: 4 | B6: =(('DATA ENTRY SHEET'!B16)+('DATA ENTRY SHEET'!C16/60)+('DATA ENTRY SHEET'!D16/3600)) -> 0 | C6: =IF('DATA ENTRY SHEET'!E16="","",B6*2) | D6: =IF('DATA ENTRY SHEET'!H16="","",B6*3) | E6: =IF('DATA ENTRY SHEET'!K16="","",B6*4) | F6: =IF('DATA ENTRY SHEET'!N16="","",B6*5) | G6: =IF('DATA ENTRY SHEET'!Q16="","",B6*6) | H6: =SUM(C6:G6) -> 0 | I6: =IF(H6<=360,0,IF(AND(H6>360,H6<=720),360,IF(AND(H6>720,H6<=1080),720,IF(AND(H6>1080,H6<=1440),1080,IF(AND(H6>1440,H6<=1800),1440,IF(AND(H6>1800,H6<=2160),1800,"")))))) -> 0 | J6: =IF('DATA ENTRY SHEET'!E16="","",(('DATA ENTRY SHEET'!E16)+('DATA ENTRY SHEET'!F16/60)+('DATA ENTRY SHEET'!G16/3600))+I6) | K6: =IF('DATA ENTRY SHEET'!H16="","",(('DATA ENTRY SHEET'!H16)+('DATA ENTRY SHEET'!I16/60)+('DATA ENTRY SHEET'!J16/3600))+I6) | L6: =IF('DATA ENTRY SHEET'!K16="","",(('DATA ENTRY SHEET'!K16)+('DATA ENTRY SHEET'!L16/60)+('DATA ENTRY SHEET'!M16/3600))+I6) | M6: =IF('DATA ENTRY SHEET'!N16="","",(('DATA ENTRY SHEET'!N16)+('DATA ENTRY SHEET'!O16/60)+('DATA ENTRY SHEET'!P16/3600))+I6) | N6: =IF('DATA ENTRY SHEET'!Q16="","",(('DATA ENTRY SHEET'!Q16)+('DATA ENTRY SHEET'!R16/60)+('DATA ENTRY SHEET'!S16/3600))+I6) | O6: =IF(J6="","",J6/$J$2) | P6: =IF(K6="","",K6/$K$2) | Q6: =IF(L6="","",L6/$L$2) | R6: =IF(M6="","",M6/$M$2) | S6: =IF(N6="","",N6/$N$2) | T6: =IF(AND(O6="",P6="",Q6="",R6="",S6=""),"",SUM(O6:S6)) | U6: =IF(T6<(B6-1),360,IF(T6>(B6+1),-360,0)) -> -360 | V6: =I6+U6 -> -360 | W6: =IF('DATA ENTRY SHEET'!E16="","",(('DATA ENTRY SHEET'!E16)+('DATA ENTRY SHEET'!F16/60)+('DATA ENTRY SHEET'!G16/3600))+'ANGLE DETERMINATION'!V6) | X6: =IF('DATA ENTRY SHEET'!H16="","",(('DATA ENTRY SHEET'!H16)+('DATA ENTRY SHEET'!I16/60)+('DATA ENTRY SHEET'!J16/3600))+'ANGLE DETERMINATION'!V6) | Y6: =IF('DATA ENTRY SHEET'!K16="","",(('DATA ENTRY SHEET'!K16)+('DATA ENTRY SHEET'!L16/60)+('DATA ENTRY SHEET'!M16/3600))+'ANGLE DETERMINATION'!V6) | Z6: =IF('DATA ENTRY SHEET'!N16="","",(('DATA ENTRY SHEET'!N16)+('DATA ENTRY SHEET'!O16/60)+('DATA ENTRY SHEET'!P16/3600))+'ANGLE DETERMINATION'!V6) | AA6: =+IF('DATA ENTRY SHEET'!Q16="","",(('DATA ENTRY SHEET'!Q16)+('DATA ENTRY SHEET'!R16/60)+('DATA ENTRY SHEET'!S16/3600))+'ANGLE DETERMINATION'!V6) | AB6: =IF(W6="","",W6/2) | AC6: =IF(X6="","",X6/3) | AD6: =IF(Y6="","",Y6/4) | AE6: =IF(Z6="","",Z6/5) | AF6: =IF(AA6="","",AA6/6) | AG6: =IF('DATA ENTRY SHEET'!$U$5="RESET",SUM(AB6:AF6),IF('DATA ENTRY SHEET'!$U$5="ACC",SUM(AH6:AL6),IF('DATA ENTRY SHEET'!$U$5="AVE",SUM(AM6:AQ6),FALSE))) -> FALSE | AH6: =IF('DATA ENTRY SHEET'!E16="","",(SUM(('DATA ENTRY SHEET'!E16)+('DATA ENTRY SHEET'!F16/60)+('DATA ENTRY SHEET'!G16/3600)))/2) | AI6: =IF('DATA ENTRY SHEET'!H16="","",(SUM(('DATA ENTRY SHEET'!H16)+('DATA ENTRY SHEET'!I16/60)+('DATA ENTRY SHEET'!J16/3600)))/3) | AJ6: =IF('DATA ENTRY SHEET'!K16="","",(SUM(('DATA ENTRY SHEET'!K16)+('DATA ENTRY SHEET'!L16/60)+('DATA ENTRY SHEET'!M16/3600)))/4) | AK6: =IF('DATA ENTRY SHEET'!N16="","",(SUM(('DATA ENTRY SHEET'!N16)+('DATA ENTRY SHEET'!O16/60)+('DATA ENTRY SHEET'!P16/3600)))/5) | AL6: =IF('DATA ENTRY SHEET'!Q16="","",(SUM(('DATA ENTRY SHEET'!Q16)+('DATA ENTRY SHEET'!R16/60)+('DATA ENTRY SHEET'!S16/3600)))/6) | AM6: =IF('DATA ENTRY SHEET'!E16="","",('DATA ENTRY SHEET'!E16)+('DATA ENTRY SHEET'!F16/60)+('DATA ENTRY SHEET'!G16/3600)) | AN6: =IF('DATA ENTRY SHEET'!H16="","",('DATA ENTRY SHEET'!H16)+('DATA ENTRY SHEET'!I16/60)+('DATA ENTRY SHEET'!J16/3600)) | AO6: =IF('DATA ENTRY SHEET'!K16="","",('DATA ENTRY SHEET'!K16)+('DATA ENTRY SHEET'!L16/60)+('DATA ENTRY SHEET'!M16/3600)) | AP6: =IF('DATA ENTRY SHEET'!N16="","",('DATA ENTRY SHEET'!N16)+('DATA ENTRY SHEET'!O16/60)+('DATA ENTRY SHEET'!P16/3600)) | AQ6: =IF('DATA ENTRY SHEET'!Q16="","",('DATA ENTRY SHEET'!Q16)+('DATA ENTRY SHEET'!R16/60)+('DATA ENTRY SHEET'!S16/3600))
A7: 5 | B7: =(('DATA ENTRY SHEET'!B17)+('DATA ENTRY SHEET'!C17/60)+('DATA ENTRY SHEET'!D17/3600)) -> 0 | C7: =IF('DATA ENTRY SHEET'!E17="","",B7*2) | D7: =IF('DATA ENTRY SHEET'!H17="","",B7*3) | E7: =IF('DATA ENTRY SHEET'!K17="","",B7*4) | F7: =IF('DATA ENTRY SHEET'!N17="","",B7*5) | G7: =IF('DATA ENTRY SHEET'!Q17="","",B7*6) | H7: =SUM(C7:G7) -> 0 | I7: =IF(H7<=360,0,IF(AND(H7>360,H7<=720),360,IF(AND(H7>720,H7<=1080),720,IF(AND(H7>1080,H7<=1440),1080,IF(AND(H7>1440,H7<=1800),1440,IF(AND(H7>1800,H7<=2160),1800,"")))))) -> 0 | J7: =IF('DATA ENTRY SHEET'!E17="","",(('DATA ENTRY SHEET'!E17)+('DATA ENTRY SHEET'!F17/60)+('DATA ENTRY SHEET'!G17/3600))+I7) | K7: =IF('DATA ENTRY SHEET'!H17="","",(('DATA ENTRY SHEET'!H17)+('DATA ENTRY SHEET'!I17/60)+('DATA ENTRY SHEET'!J17/3600))+I7) | L7: =IF('DATA ENTRY SHEET'!K17="","",(('DATA ENTRY SHEET'!K17)+('DATA ENTRY SHEET'!L17/60)+('DATA ENTRY SHEET'!M17/3600))+I7) | M7: =IF('DATA ENTRY SHEET'!N17="","",(('DATA ENTRY SHEET'!N17)+('DATA ENTRY SHEET'!O17/60)+('DATA ENTRY SHEET'!P17/3600))+I7) | N7: =IF('DATA ENTRY SHEET'!Q17="","",(('DATA ENTRY SHEET'!Q17)+('DATA ENTRY SHEET'!R17/60)+('DATA ENTRY SHEET'!S17/3600))+I7) | O7: =IF(J7="","",J7/$J$2) | P7: =IF(K7="","",K7/$K$2) | Q7: =IF(L7="","",L7/$L$2) | R7: =IF(M7="","",M7/$M$2) | S7: =IF(N7="","",N7/$N$2) | T7: =IF(AND(O7="",P7="",Q7="",R7="",S7=""),"",SUM(O7:S7)) | U7: =IF(T7<(B7-1),360,IF(T7>(B7+1),-360,0)) -> -360 | V7: =I7+U7 -> -360 | W7: =IF('DATA ENTRY SHEET'!E17="","",(('DATA ENTRY SHEET'!E17)+('DATA ENTRY SHEET'!F17/60)+('DATA ENTRY SHEET'!G17/3600))+'ANGLE DETERMINATION'!V7) | X7: =IF('DATA ENTRY SHEET'!H17="","",(('DATA ENTRY SHEET'!H17)+('DATA ENTRY SHEET'!I17/60)+('DATA ENTRY SHEET'!J17/3600))+'ANGLE DETERMINATION'!V7) | Y7: =IF('DATA ENTRY SHEET'!K17="","",(('DATA ENTRY SHEET'!K17)+('DATA ENTRY SHEET'!L17/60)+('DATA ENTRY SHEET'!M17/3600))+'ANGLE DETERMINATION'!V7) | Z7: =IF('DATA ENTRY SHEET'!N17="","",(('DATA ENTRY SHEET'!N17)+('DATA ENTRY SHEET'!O17/60)+('DATA ENTRY SHEET'!P17/3600))+'ANGLE DETERMINATION'!V7) | AA7: =+IF('DATA ENTRY SHEET'!Q17="","",(('DATA ENTRY SHEET'!Q17)+('DATA ENTRY SHEET'!R17/60)+('DATA ENTRY SHEET'!S17/3600))+'ANGLE DETERMINATION'!V7) | AB7: =IF(W7="","",W7/2) | AC7: =IF(X7="","",X7/3) | AD7: =IF(Y7="","",Y7/4) | AE7: =IF(Z7="","",Z7/5) | AF7: =IF(AA7="","",AA7/6) | AG7: =IF('DATA ENTRY SHEET'!$U$5="RESET",SUM(AB7:AF7),IF('DATA ENTRY SHEET'!$U$5="ACC",SUM(AH7:AL7),IF('DATA ENTRY SHEET'!$U$5="AVE",SUM(AM7:AQ7),FALSE))) -> FALSE | AH7: =IF('DATA ENTRY SHEET'!E17="","",(SUM(('DATA ENTRY SHEET'!E17)+('DATA ENTRY SHEET'!F17/60)+('DATA ENTRY SHEET'!G17/3600)))/2) | AI7: =IF('DATA ENTRY SHEET'!H17="","",(SUM(('DATA ENTRY SHEET'!H17)+('DATA ENTRY SHEET'!I17/60)+('DATA ENTRY SHEET'!J17/3600)))/3) | AJ7: =IF('DATA ENTRY SHEET'!K17="","",(SUM(('DATA ENTRY SHEET'!K17)+('DATA ENTRY SHEET'!L17/60)+('DATA ENTRY SHEET'!M17/3600)))/4) | AK7: =IF('DATA ENTRY SHEET'!N17="","",(SUM(('DATA ENTRY SHEET'!N17)+('DATA ENTRY SHEET'!O17/60)+('DATA ENTRY SHEET'!P17/3600)))/5) | AL7: =IF('DATA ENTRY SHEET'!Q17="","",(SUM(('DATA ENTRY SHEET'!Q17)+('DATA ENTRY SHEET'!R17/60)+('DATA ENTRY SHEET'!S17/3600)))/6) | AM7: =IF('DATA ENTRY SHEET'!E17="","",('DATA ENTRY SHEET'!E17)+('DATA ENTRY SHEET'!F17/60)+('DATA ENTRY SHEET'!G17/3600)) | AN7: =IF('DATA ENTRY SHEET'!H17="","",('DATA ENTRY SHEET'!H17)+('DATA ENTRY SHEET'!I17/60)+('DATA ENTRY SHEET'!J17/3600)) | AO7: =IF('DATA ENTRY SHEET'!K17="","",('DATA ENTRY SHEET'!K17)+('DATA ENTRY SHEET'!L17/60)+('DATA ENTRY SHEET'!M17/3600)) | AP7: =IF('DATA ENTRY SHEET'!N17="","",('DATA ENTRY SHEET'!N17)+('DATA ENTRY SHEET'!O17/60)+('DATA ENTRY SHEET'!P17/3600)) | AQ7: =IF('DATA ENTRY SHEET'!Q17="","",('DATA ENTRY SHEET'!Q17)+('DATA ENTRY SHEET'!R17/60)+('DATA ENTRY SHEET'!S17/3600))
A8: 6 | B8: =(('DATA ENTRY SHEET'!B18)+('DATA ENTRY SHEET'!C18/60)+('DATA ENTRY SHEET'!D18/3600)) -> 0 | C8: =IF('DATA ENTRY SHEET'!E18="","",B8*2) | D8: =IF('DATA ENTRY SHEET'!H18="","",B8*3) | E8: =IF('DATA ENTRY SHEET'!K18="","",B8*4) | F8: =IF('DATA ENTRY SHEET'!N18="","",B8*5) | G8: =IF('DATA ENTRY SHEET'!Q18="","",B8*6) | H8: =SUM(C8:G8) -> 0 | I8: =IF(H8<=360,0,IF(AND(H8>360,H8<=720),360,IF(AND(H8>720,H8<=1080),720,IF(AND(H8>1080,H8<=1440),1080,IF(AND(H8>1440,H8<=1800),1440,IF(AND(H8>1800,H8<=2160),1800,"")))))) -> 0 | J8: =IF('DATA ENTRY SHEET'!E18="","",(('DATA ENTRY SHEET'!E18)+('DATA ENTRY SHEET'!F18/60)+('DATA ENTRY SHEET'!G18/3600))+I8) | K8: =IF('DATA ENTRY SHEET'!H18="","",(('DATA ENTRY SHEET'!H18)+('DATA ENTRY SHEET'!I18/60)+('DATA ENTRY SHEET'!J18/3600))+I8) | L8: =IF('DATA ENTRY SHEET'!K18="","",(('DATA ENTRY SHEET'!K18)+('DATA ENTRY SHEET'!L18/60)+('DATA ENTRY SHEET'!M18/3600))+I8) | M8: =IF('DATA ENTRY SHEET'!N18="","",(('DATA ENTRY SHEET'!N18)+('DATA ENTRY SHEET'!O18/60)+('DATA ENTRY SHEET'!P18/3600))+I8) | N8: =IF('DATA ENTRY SHEET'!Q18="","",(('DATA ENTRY SHEET'!Q18)+('DATA ENTRY SHEET'!R18/60)+('DATA ENTRY SHEET'!S18/3600))+I8) | O8: =IF(J8="","",J8/$J$2) | P8: =IF(K8="","",K8/$K$2) | Q8: =IF(L8="","",L8/$L$2) | R8: =IF(M8="","",M8/$M$2) | S8: =IF(N8="","",N8/$N$2) | T8: =IF(AND(O8="",P8="",Q8="",R8="",S8=""),"",SUM(O8:S8)) | U8: =IF(T8<(B8-1),360,IF(T8>(B8+1),-360,0)) -> -360 | V8: =I8+U8 -> -360 | W8: =IF('DATA ENTRY SHEET'!E18="","",(('DATA ENTRY SHEET'!E18)+('DATA ENTRY SHEET'!F18/60)+('DATA ENTRY SHEET'!G18/3600))+'ANGLE DETERMINATION'!V8) | X8: =IF('DATA ENTRY SHEET'!H18="","",(('DATA ENTRY SHEET'!H18)+('DATA ENTRY SHEET'!I18/60)+('DATA ENTRY SHEET'!J18/3600))+'ANGLE DETERMINATION'!V8) | Y8: =IF('DATA ENTRY SHEET'!K18="","",(('DATA ENTRY SHEET'!K18)+('DATA ENTRY SHEET'!L18/60)+('DATA ENTRY SHEET'!M18/3600))+'ANGLE DETERMINATION'!V8) | Z8: =IF('DATA ENTRY SHEET'!N18="","",(('DATA ENTRY SHEET'!N18)+('DATA ENTRY SHEET'!O18/60)+('DATA ENTRY SHEET'!P18/3600))+'ANGLE DETERMINATION'!V8) | AA8: =+IF('DATA ENTRY SHEET'!Q18="","",(('DATA ENTRY SHEET'!Q18)+('DATA ENTRY SHEET'!R18/60)+('DATA ENTRY SHEET'!S18/3600))+'ANGLE DETERMINATION'!V8) | AB8: =IF(W8="","",W8/2) | AC8: =IF(X8="","",X8/3) | AD8: =IF(Y8="","",Y8/4) | AE8: =IF(Z8="","",Z8/5) | AF8: =IF(AA8="","",AA8/6) | AG8: =IF('DATA ENTRY SHEET'!$U$5="RESET",SUM(AB8:AF8),IF('DATA ENTRY SHEET'!$U$5="ACC",SUM(AH8:AL8),IF('DATA ENTRY SHEET'!$U$5="AVE",SUM(AM8:AQ8),FALSE))) -> FALSE | AH8: =IF('DATA ENTRY SHEET'!E18="","",(SUM(('DATA ENTRY SHEET'!E18)+('DATA ENTRY SHEET'!F18/60)+('DATA ENTRY SHEET'!G18/3600)))/2) | AI8: =IF('DATA ENTRY SHEET'!H18="","",(SUM(('DATA ENTRY SHEET'!H18)+('DATA ENTRY SHEET'!I18/60)+('DATA ENTRY SHEET'!J18/3600)))/3) | AJ8: =IF('DATA ENTRY SHEET'!K18="","",(SUM(('DATA ENTRY SHEET'!K18)+('DATA ENTRY SHEET'!L18/60)+('DATA ENTRY SHEET'!M18/3600)))/4) | AK8: =IF('DATA ENTRY SHEET'!N18="","",(SUM(('DATA ENTRY SHEET'!N18)+('DATA ENTRY SHEET'!O18/60)+('DATA ENTRY SHEET'!P18/3600)))/5) | AL8: =IF('DATA ENTRY SHEET'!Q18="","",(SUM(('DATA ENTRY SHEET'!Q18)+('DATA ENTRY SHEET'!R18/60)+('DATA ENTRY SHEET'!S18/3600)))/6) | AM8: =IF('DATA ENTRY SHEET'!E18="","",('DATA ENTRY SHEET'!E18)+('DATA ENTRY SHEET'!F18/60)+('DATA ENTRY SHEET'!G18/3600)) | AN8: =IF('DATA ENTRY SHEET'!H18="","",('DATA ENTRY SHEET'!H18)+('DATA ENTRY SHEET'!I18/60)+('DATA ENTRY SHEET'!J18/3600)) | AO8: =IF('DATA ENTRY SHEET'!K18="","",('DATA ENTRY SHEET'!K18)+('DATA ENTRY SHEET'!L18/60)+('DATA ENTRY SHEET'!M18/3600)) | AP8: =IF('DATA ENTRY SHEET'!N18="","",('DATA ENTRY SHEET'!N18)+('DATA ENTRY SHEET'!O18/60)+('DATA ENTRY SHEET'!P18/3600)) | AQ8: =IF('DATA ENTRY SHEET'!Q18="","",('DATA ENTRY SHEET'!Q18)+('DATA ENTRY SHEET'!R18/60)+('DATA ENTRY SHEET'!S18/3600))
A9: 7 | B9: =(('DATA ENTRY SHEET'!B19)+('DATA ENTRY SHEET'!C19/60)+('DATA ENTRY SHEET'!D19/3600)) -> 0 | C9: =IF('DATA ENTRY SHEET'!E19="","",B9*2) | D9: =IF('DATA ENTRY SHEET'!H19="","",B9*3) | E9: =IF('DATA ENTRY SHEET'!K19="","",B9*4) | F9: =IF('DATA ENTRY SHEET'!N19="","",B9*5) | G9: =IF('DATA ENTRY SHEET'!Q19="","",B9*6) | H9: =SUM(C9:G9) -> 0 | I9: =IF(H9<=360,0,IF(AND(H9>360,H9<=720),360,IF(AND(H9>720,H9<=1080),720,IF(AND(H9>1080,H9<=1440),1080,IF(AND(H9>1440,H9<=1800),1440,IF(AND(H9>1800,H9<=2160),1800,"")))))) -> 0 | J9: =IF('DATA ENTRY SHEET'!E19="","",(('DATA ENTRY SHEET'!E19)+('DATA ENTRY SHEET'!F19/60)+('DATA ENTRY SHEET'!G19/3600))+I9) | K9: =IF('DATA ENTRY SHEET'!H19="","",(('DATA ENTRY SHEET'!H19)+('DATA ENTRY SHEET'!I19/60)+('DATA ENTRY SHEET'!J19/3600))+I9) | L9: =IF('DATA ENTRY SHEET'!K19="","",(('DATA ENTRY SHEET'!K19)+('DATA ENTRY SHEET'!L19/60)+('DATA ENTRY SHEET'!M19/3600))+I9) | M9: =IF('DATA ENTRY SHEET'!N19="","",(('DATA ENTRY SHEET'!N19)+('DATA ENTRY SHEET'!O19/60)+('DATA ENTRY SHEET'!P19/3600))+I9) | N9: =IF('DATA ENTRY SHEET'!Q19="","",(('DATA ENTRY SHEET'!Q19)+('DATA ENTRY SHEET'!R19/60)+('DATA ENTRY SHEET'!S19/3600))+I9) | O9: =IF(J9="","",J9/$J$2) | P9: =IF(K9="","",K9/$K$2) | Q9: =IF(L9="","",L9/$L$2) | R9: =IF(M9="","",M9/$M$2) | S9: =IF(N9="","",N9/$N$2) | T9: =IF(AND(O9="",P9="",Q9="",R9="",S9=""),"",SUM(O9:S9)) | U9: =IF(T9<(B9-1),360,IF(T9>(B9+1),-360,0)) -> -360 | V9: =I9+U9 -> -360 | W9: =IF('DATA ENTRY SHEET'!E19="","",(('DATA ENTRY SHEET'!E19)+('DATA ENTRY SHEET'!F19/60)+('DATA ENTRY SHEET'!G19/3600))+'ANGLE DETERMINATION'!V9) | X9: =IF('DATA ENTRY SHEET'!H19="","",(('DATA ENTRY SHEET'!H19)+('DATA ENTRY SHEET'!I19/60)+('DATA ENTRY SHEET'!J19/3600))+'ANGLE DETERMINATION'!V9) | Y9: =IF('DATA ENTRY SHEET'!K19="","",(('DATA ENTRY SHEET'!K19)+('DATA ENTRY SHEET'!L19/60)+('DATA ENTRY SHEET'!M19/3600))+'ANGLE DETERMINATION'!V9) | Z9: =IF('DATA ENTRY SHEET'!N19="","",(('DATA ENTRY SHEET'!N19)+('DATA ENTRY SHEET'!O19/60)+('DATA ENTRY SHEET'!P19/3600))+'ANGLE DETERMINATION'!V9) | AA9: =+IF('DATA ENTRY SHEET'!Q19="","",(('DATA ENTRY SHEET'!Q19)+('DATA ENTRY SHEET'!R19/60)+('DATA ENTRY SHEET'!S19/3600))+'ANGLE DETERMINATION'!V9) | AB9: =IF(W9="","",W9/2) | AC9: =IF(X9="","",X9/3) | AD9: =IF(Y9="","",Y9/4) | AE9: =IF(Z9="","",Z9/5) | AF9: =IF(AA9="","",AA9/6) | AG9: =IF('DATA ENTRY SHEET'!$U$5="RESET",SUM(AB9:AF9),IF('DATA ENTRY SHEET'!$U$5="ACC",SUM(AH9:AL9),IF('DATA ENTRY SHEET'!$U$5="AVE",SUM(AM9:AQ9),FALSE))) -> FALSE | AH9: =IF('DATA ENTRY SHEET'!E19="","",(SUM(('DATA ENTRY SHEET'!E19)+('DATA ENTRY SHEET'!F19/60)+('DATA ENTRY SHEET'!G19/3600)))/2) | AI9: =IF('DATA ENTRY SHEET'!H19="","",(SUM(('DATA ENTRY SHEET'!H19)+('DATA ENTRY SHEET'!I19/60)+('DATA ENTRY SHEET'!J19/3600)))/3) | AJ9: =IF('DATA ENTRY SHEET'!K19="","",(SUM(('DATA ENTRY SHEET'!K19)+('DATA ENTRY SHEET'!L19/60)+('DATA ENTRY SHEET'!M19/3600)))/4) | AK9: =IF('DATA ENTRY SHEET'!N19="","",(SUM(('DATA ENTRY SHEET'!N19)+('DATA ENTRY SHEET'!O19/60)+('DATA ENTRY SHEET'!P19/3600)))/5) | AL9: =IF('DATA ENTRY SHEET'!Q19="","",(SUM(('DATA ENTRY SHEET'!Q19)+('DATA ENTRY SHEET'!R19/60)+('DATA ENTRY SHEET'!S19/3600)))/6) | AM9: =IF('DATA ENTRY SHEET'!E19="","",('DATA ENTRY SHEET'!E19)+('DATA ENTRY SHEET'!F19/60)+('DATA ENTRY SHEET'!G19/3600)) | AN9: =IF('DATA ENTRY SHEET'!H19="","",('DATA ENTRY SHEET'!H19)+('DATA ENTRY SHEET'!I19/60)+('DATA ENTRY SHEET'!J19/3600)) | AO9: =IF('DATA ENTRY SHEET'!K19="","",('DATA ENTRY SHEET'!K19)+('DATA ENTRY SHEET'!L19/60)+('DATA ENTRY SHEET'!M19/3600)) | AP9: =IF('DATA ENTRY SHEET'!N19="","",('DATA ENTRY SHEET'!N19)+('DATA ENTRY SHEET'!O19/60)+('DATA ENTRY SHEET'!P19/3600)) | AQ9: =IF('DATA ENTRY SHEET'!Q19="","",('DATA ENTRY SHEET'!Q19)+('DATA ENTRY SHEET'!R19/60)+('DATA ENTRY SHEET'!S19/3600))
A10: 8 | B10: =(('DATA ENTRY SHEET'!B20)+('DATA ENTRY SHEET'!C20/60)+('DATA ENTRY SHEET'!D20/3600)) -> 0 | C10: =IF('DATA ENTRY SHEET'!E20="","",B10*2) | D10: =IF('DATA ENTRY SHEET'!H20="","",B10*3) | E10: =IF('DATA ENTRY SHEET'!K20="","",B10*4) | F10: =IF('DATA ENTRY SHEET'!N20="","",B10*5) | G10: =IF('DATA ENTRY SHEET'!Q20="","",B10*6) | H10: =SUM(C10:G10) -> 0 | I10: =IF(H10<=360,0,IF(AND(H10>360,H10<=720),360,IF(AND(H10>720,H10<=1080),720,IF(AND(H10>1080,H10<=1440),1080,IF(AND(H10>1440,H10<=1800),1440,IF(AND(H10>1800,H10<=2160),1800,"")))))) -> 0 | J10: =IF('DATA ENTRY SHEET'!E20="","",(('DATA ENTRY SHEET'!E20)+('DATA ENTRY SHEET'!F20/60)+('DATA ENTRY SHEET'!G20/3600))+I10) | K10: =IF('DATA ENTRY SHEET'!H20="","",(('DATA ENTRY SHEET'!H20)+('DATA ENTRY SHEET'!I20/60)+('DATA ENTRY SHEET'!J20/3600))+I10) | L10: =IF('DATA ENTRY SHEET'!K20="","",(('DATA ENTRY SHEET'!K20)+('DATA ENTRY SHEET'!L20/60)+('DATA ENTRY SHEET'!M20/3600))+I10) | M10: =IF('DATA ENTRY SHEET'!N20="","",(('DATA ENTRY SHEET'!N20)+('DATA ENTRY SHEET'!O20/60)+('DATA ENTRY SHEET'!P20/3600))+I10) | N10: =IF('DATA ENTRY SHEET'!Q20="","",(('DATA ENTRY SHEET'!Q20)+('DATA ENTRY SHEET'!R20/60)+('DATA ENTRY SHEET'!S20/3600))+I10) | O10: =IF(J10="","",J10/$J$2) | P10: =IF(K10="","",K10/$K$2) | Q10: =IF(L10="","",L10/$L$2) | R10: =IF(M10="","",M10/$M$2) | S10: =IF(N10="","",N10/$N$2) | T10: =IF(AND(O10="",P10="",Q10="",R10="",S10=""),"",SUM(O10:S10)) | U10: =IF(T10<(B10-1),360,IF(T10>(B10+1),-360,0)) -> -360 | V10: =I10+U10 -> -360 | W10: =IF('DATA ENTRY SHEET'!E20="","",(('DATA ENTRY SHEET'!E20)+('DATA ENTRY SHEET'!F20/60)+('DATA ENTRY SHEET'!G20/3600))+'ANGLE DETERMINATION'!V10) | X10: =IF('DATA ENTRY SHEET'!H20="","",(('DATA ENTRY SHEET'!H20)+('DATA ENTRY SHEET'!I20/60)+('DATA ENTRY SHEET'!J20/3600))+'ANGLE DETERMINATION'!V10) | Y10: =IF('DATA ENTRY SHEET'!K20="","",(('DATA ENTRY SHEET'!K20)+('DATA ENTRY SHEET'!L20/60)+('DATA ENTRY SHEET'!M20/3600))+'ANGLE DETERMINATION'!V10) | Z10: =IF('DATA ENTRY SHEET'!N20="","",(('DATA ENTRY SHEET'!N20)+('DATA ENTRY SHEET'!O20/60)+('DATA ENTRY SHEET'!P20/3600))+'ANGLE DETERMINATION'!V10) | AA10: =+IF('DATA ENTRY SHEET'!Q20="","",(('DATA ENTRY SHEET'!Q20)+('DATA ENTRY SHEET'!R20/60)+('DATA ENTRY SHEET'!S20/3600))+'ANGLE DETERMINATION'!V10) | AB10: =IF(W10="","",W10/2) | AC10: =IF(X10="","",X10/3) | AD10: =IF(Y10="","",Y10/4) | AE10: =IF(Z10="","",Z10/5) | AF10: =IF(AA10="","",AA10/6) | AG10: =IF('DATA ENTRY SHEET'!$U$5="RESET",SUM(AB10:AF10),IF('DATA ENTRY SHEET'!$U$5="ACC",SUM(AH10:AL10),IF('DATA ENTRY SHEET'!$U$5="AVE",SUM(AM10:AQ10),FALSE))) -> FALSE | AH10: =IF('DATA ENTRY SHEET'!E20="","",(SUM(('DATA ENTRY SHEET'!E20)+('DATA ENTRY SHEET'!F20/60)+('DATA ENTRY SHEET'!G20/3600)))/2) | AI10: =IF('DATA ENTRY SHEET'!H20="","",(SUM(('DATA ENTRY SHEET'!H20)+('DATA ENTRY SHEET'!I20/60)+('DATA ENTRY SHEET'!J20/3600)))/3) | AJ10: =IF('DATA ENTRY SHEET'!K20="","",(SUM(('DATA ENTRY SHEET'!K20)+('DATA ENTRY SHEET'!L20/60)+('DATA ENTRY SHEET'!M20/3600)))/4) | AK10: =IF('DATA ENTRY SHEET'!N20="","",(SUM(('DATA ENTRY SHEET'!N20)+('DATA ENTRY SHEET'!O20/60)+('DATA ENTRY SHEET'!P20/3600)))/5) | AL10: =IF('DATA ENTRY SHEET'!Q20="","",(SUM(('DATA ENTRY SHEET'!Q20)+('DATA ENTRY SHEET'!R20/60)+('DATA ENTRY SHEET'!S20/3600)))/6) | AM10: =IF('DATA ENTRY SHEET'!E20="","",('DATA ENTRY SHEET'!E20)+('DATA ENTRY SHEET'!F20/60)+('DATA ENTRY SHEET'!G20/3600)) | AN10: =IF('DATA ENTRY SHEET'!H20="","",('DATA ENTRY SHEET'!H20)+('DATA ENTRY SHEET'!I20/60)+('DATA ENTRY SHEET'!J20/3600)) | AO10: =IF('DATA ENTRY SHEET'!K20="","",('DATA ENTRY SHEET'!K20)+('DATA ENTRY SHEET'!L20/60)+('DATA ENTRY SHEET'!M20/3600)) | AP10: =IF('DATA ENTRY SHEET'!N20="","",('DATA ENTRY SHEET'!N20)+('DATA ENTRY SHEET'!O20/60)+('DATA ENTRY SHEET'!P20/3600)) | AQ10: =IF('DATA ENTRY SHEET'!Q20="","",('DATA ENTRY SHEET'!Q20)+('DATA ENTRY SHEET'!R20/60)+('DATA ENTRY SHEET'!S20/3600))
A11: 9 | B11: =(('DATA ENTRY SHEET'!B21)+('DATA ENTRY SHEET'!C21/60)+('DATA ENTRY SHEET'!D21/3600)) -> 0 | C11: =IF('DATA ENTRY SHEET'!E21="","",B11*2) | D11: =IF('DATA ENTRY SHEET'!H21="","",B11*3) | E11: =IF('DATA ENTRY SHEET'!K21="","",B11*4) | F11: =IF('DATA ENTRY SHEET'!N21="","",B11*5) | G11: =IF('DATA ENTRY SHEET'!Q21="","",B11*6) | H11: =SUM(C11:G11) -> 0 | I11: =IF(H11<=360,0,IF(AND(H11>360,H11<=720),360,IF(AND(H11>720,H11<=1080),720,IF(AND(H11>1080,H11<=1440),1080,IF(AND(H11>1440,H11<=1800),1440,IF(AND(H11>1800,H11<=2160),1800,"")))))) -> 0 | J11: =IF('DATA ENTRY SHEET'!E21="","",(('DATA ENTRY SHEET'!E21)+('DATA ENTRY SHEET'!F21/60)+('DATA ENTRY SHEET'!G21/3600))+I11) | K11: =IF('DATA ENTRY SHEET'!H21="","",(('DATA ENTRY SHEET'!H21)+('DATA ENTRY SHEET'!I21/60)+('DATA ENTRY SHEET'!J21/3600))+I11) | L11: =IF('DATA ENTRY SHEET'!K21="","",(('DATA ENTRY SHEET'!K21)+('DATA ENTRY SHEET'!L21/60)+('DATA ENTRY SHEET'!M21/3600))+I11) | M11: =IF('DATA ENTRY SHEET'!N21="","",(('DATA ENTRY SHEET'!N21)+('DATA ENTRY SHEET'!O21/60)+('DATA ENTRY SHEET'!P21/3600))+I11) | N11: =IF('DATA ENTRY SHEET'!Q21="","",(('DATA ENTRY SHEET'!Q21)+('DATA ENTRY SHEET'!R21/60)+('DATA ENTRY SHEET'!S21/3600))+I11) | O11: =IF(J11="","",J11/$J$2) | P11: =IF(K11="","",K11/$K$2) | Q11: =IF(L11="","",L11/$L$2) | R11: =IF(M11="","",M11/$M$2) | S11: =IF(N11="","",N11/$N$2) | T11: =IF(AND(O11="",P11="",Q11="",R11="",S11=""),"",SUM(O11:S11)) | U11: =IF(T11<(B11-1),360,IF(T11>(B11+1),-360,0)) -> -360 | V11: =I11+U11 -> -360 | W11: =IF('DATA ENTRY SHEET'!E21="","",(('DATA ENTRY SHEET'!E21)+('DATA ENTRY SHEET'!F21/60)+('DATA ENTRY SHEET'!G21/3600))+'ANGLE DETERMINATION'!V11) | X11: =IF('DATA ENTRY SHEET'!H21="","",(('DATA ENTRY SHEET'!H21)+('DATA ENTRY SHEET'!I21/60)+('DATA ENTRY SHEET'!J21/3600))+'ANGLE DETERMINATION'!V11) | Y11: =IF('DATA ENTRY SHEET'!K21="","",(('DATA ENTRY SHEET'!K21)+('DATA ENTRY SHEET'!L21/60)+('DATA ENTRY SHEET'!M21/3600))+'ANGLE DETERMINATION'!V11) | Z11: =IF('DATA ENTRY SHEET'!N21="","",(('DATA ENTRY SHEET'!N21)+('DATA ENTRY SHEET'!O21/60)+('DATA ENTRY SHEET'!P21/3600))+'ANGLE DETERMINATION'!V11) | AA11: =+IF('DATA ENTRY SHEET'!Q21="","",(('DATA ENTRY SHEET'!Q21)+('DATA ENTRY SHEET'!R21/60)+('DATA ENTRY SHEET'!S21/3600))+'ANGLE DETERMINATION'!V11) | AB11: =IF(W11="","",W11/2) | AC11: =IF(X11="","",X11/3) | AD11: =IF(Y11="","",Y11/4) | AE11: =IF(Z11="","",Z11/5) | AF11: =IF(AA11="","",AA11/6) | AG11: =IF('DATA ENTRY SHEET'!$U$5="RESET",SUM(AB11:AF11),IF('DATA ENTRY SHEET'!$U$5="ACC",SUM(AH11:AL11),IF('DATA ENTRY SHEET'!$U$5="AVE",SUM(AM11:AQ11),FALSE))) -> FALSE | AH11: =IF('DATA ENTRY SHEET'!E21="","",(SUM(('DATA ENTRY SHEET'!E21)+('DATA ENTRY SHEET'!F21/60)+('DATA ENTRY SHEET'!G21/3600)))/2) | AI11: =IF('DATA ENTRY SHEET'!H21="","",(SUM(('DATA ENTRY SHEET'!H21)+('DATA ENTRY SHEET'!I21/60)+('DATA ENTRY SHEET'!J21/3600)))/3) | AJ11: =IF('DATA ENTRY SHEET'!K21="","",(SUM(('DATA ENTRY SHEET'!K21)+('DATA ENTRY SHEET'!L21/60)+('DATA ENTRY SHEET'!M21/3600)))/4) | AK11: =IF('DATA ENTRY SHEET'!N21="","",(SUM(('DATA ENTRY SHEET'!N21)+('DATA ENTRY SHEET'!O21/60)+('DATA ENTRY SHEET'!P21/3600)))/5) | AL11: =IF('DATA ENTRY SHEET'!Q21="","",(SUM(('DATA ENTRY SHEET'!Q21)+('DATA ENTRY SHEET'!R21/60)+('DATA ENTRY SHEET'!S21/3600)))/6) | AM11: =IF('DATA ENTRY SHEET'!E21="","",('DATA ENTRY SHEET'!E21)+('DATA ENTRY SHEET'!F21/60)+('DATA ENTRY SHEET'!G21/3600)) | AN11: =IF('DATA ENTRY SHEET'!H21="","",('DATA ENTRY SHEET'!H21)+('DATA ENTRY SHEET'!I21/60)+('DATA ENTRY SHEET'!J21/3600)) | AO11: =IF('DATA ENTRY SHEET'!K21="","",('DATA ENTRY SHEET'!K21)+('DATA ENTRY SHEET'!L21/60)+('DATA ENTRY SHEET'!M21/3600)) | AP11: =IF('DATA ENTRY SHEET'!N21="","",('DATA ENTRY SHEET'!N21)+('DATA ENTRY SHEET'!O21/60)+('DATA ENTRY SHEET'!P21/3600)) | AQ11: =IF('DATA ENTRY SHEET'!Q21="","",('DATA ENTRY SHEET'!Q21)+('DATA ENTRY SHEET'!R21/60)+('DATA ENTRY SHEET'!S21/3600))
A12: 10 | B12: =(('DATA ENTRY SHEET'!B22)+('DATA ENTRY SHEET'!C22/60)+('DATA ENTRY SHEET'!D22/3600)) -> 0 | C12: =IF('DATA ENTRY SHEET'!E22="","",B12*2) | D12: =IF('DATA ENTRY SHEET'!H22="","",B12*3) | E12: =IF('DATA ENTRY SHEET'!K22="","",B12*4) | F12: =IF('DATA ENTRY SHEET'!N22="","",B12*5) | G12: =IF('DATA ENTRY SHEET'!Q22="","",B12*6) | H12: =SUM(C12:G12) -> 0 | I12: =IF(H12<=360,0,IF(AND(H12>360,H12<=720),360,IF(AND(H12>720,H12<=1080),720,IF(AND(H12>1080,H12<=1440),1080,IF(AND(H12>1440,H12<=1800),1440,IF(AND(H12>1800,H12<=2160),1800,"")))))) -> 0 | J12: =IF('DATA ENTRY SHEET'!E22="","",(('DATA ENTRY SHEET'!E22)+('DATA ENTRY SHEET'!F22/60)+('DATA ENTRY SHEET'!G22/3600))+I12) | K12: =IF('DATA ENTRY SHEET'!H22="","",(('DATA ENTRY SHEET'!H22)+('DATA ENTRY SHEET'!I22/60)+('DATA ENTRY SHEET'!J22/3600))+I12) | L12: =IF('DATA ENTRY SHEET'!K22="","",(('DATA ENTRY SHEET'!K22)+('DATA ENTRY SHEET'!L22/60)+('DATA ENTRY SHEET'!M22/3600))+I12) | M12: =IF('DATA ENTRY SHEET'!N22="","",(('DATA ENTRY SHEET'!N22)+('DATA ENTRY SHEET'!O22/60)+('DATA ENTRY SHEET'!P22/3600))+I12) | N12: =IF('DATA ENTRY SHEET'!Q22="","",(('DATA ENTRY SHEET'!Q22)+('DATA ENTRY SHEET'!R22/60)+('DATA ENTRY SHEET'!S22/3600))+I12) | O12: =IF(J12="","",J12/$J$2) | P12: =IF(K12="","",K12/$K$2) | Q12: =IF(L12="","",L12/$L$2) | R12: =IF(M12="","",M12/$M$2) | S12: =IF(N12="","",N12/$N$2) | T12: =IF(AND(O12="",P12="",Q12="",R12="",S12=""),"",SUM(O12:S12)) | U12: =IF(T12<(B12-1),360,IF(T12>(B12+1),-360,0)) -> -360 | V12: =I12+U12 -> -360 | W12: =IF('DATA ENTRY SHEET'!E22="","",(('DATA ENTRY SHEET'!E22)+('DATA ENTRY SHEET'!F22/60)+('DATA ENTRY SHEET'!G22/3600))+'ANGLE DETERMINATION'!V12) | X12: =IF('DATA ENTRY SHEET'!H22="","",(('DATA ENTRY SHEET'!H22)+('DATA ENTRY SHEET'!I22/60)+('DATA ENTRY SHEET'!J22/3600))+'ANGLE DETERMINATION'!V12) | Y12: =IF('DATA ENTRY SHEET'!K22="","",(('DATA ENTRY SHEET'!K22)+('DATA ENTRY SHEET'!L22/60)+('DATA ENTRY SHEET'!M22/3600))+'ANGLE DETERMINATION'!V12) | Z12: =IF('DATA ENTRY SHEET'!N22="","",(('DATA ENTRY SHEET'!N22)+('DATA ENTRY SHEET'!O22/60)+('DATA ENTRY SHEET'!P22/3600))+'ANGLE DETERMINATION'!V12) | AA12: =+IF('DATA ENTRY SHEET'!Q22="","",(('DATA ENTRY SHEET'!Q22)+('DATA ENTRY SHEET'!R22/60)+('DATA ENTRY SHEET'!S22/3600))+'ANGLE DETERMINATION'!V12) | AB12: =IF(W12="","",W12/2) | AC12: =IF(X12="","",X12/3) | AD12: =IF(Y12="","",Y12/4) | AE12: =IF(Z12="","",Z12/5) | AF12: =IF(AA12="","",AA12/6) | AG12: =IF('DATA ENTRY SHEET'!$U$5="RESET",SUM(AB12:AF12),IF('DATA ENTRY SHEET'!$U$5="ACC",SUM(AH12:AL12),IF('DATA ENTRY SHEET'!$U$5="AVE",SUM(AM12:AQ12),FALSE))) -> FALSE | AH12: =IF('DATA ENTRY SHEET'!E22="","",(SUM(('DATA ENTRY SHEET'!E22)+('DATA ENTRY SHEET'!F22/60)+('DATA ENTRY SHEET'!G22/3600)))/2) | AI12: =IF('DATA ENTRY SHEET'!H22="","",(SUM(('DATA ENTRY SHEET'!H22)+('DATA ENTRY SHEET'!I22/60)+('DATA ENTRY SHEET'!J22/3600)))/3) | AJ12: =IF('DATA ENTRY SHEET'!K22="","",(SUM(('DATA ENTRY SHEET'!K22)+('DATA ENTRY SHEET'!L22/60)+('DATA ENTRY SHEET'!M22/3600)))/4) | AK12: =IF('DATA ENTRY SHEET'!N22="","",(SUM(('DATA ENTRY SHEET'!N22)+('DATA ENTRY SHEET'!O22/60)+('DATA ENTRY SHEET'!P22/3600)))/5) | AL12: =IF('DATA ENTRY SHEET'!Q22="","",(SUM(('DATA ENTRY SHEET'!Q22)+('DATA ENTRY SHEET'!R22/60)+('DATA ENTRY SHEET'!S22/3600)))/6) | AM12: =IF('DATA ENTRY SHEET'!E22="","",('DATA ENTRY SHEET'!E22)+('DATA ENTRY SHEET'!F22/60)+('DATA ENTRY SHEET'!G22/3600)) | AN12: =IF('DATA ENTRY SHEET'!H22="","",('DATA ENTRY SHEET'!H22)+('DATA ENTRY SHEET'!I22/60)+('DATA ENTRY SHEET'!J22/3600)) | AO12: =IF('DATA ENTRY SHEET'!K22="","",('DATA ENTRY SHEET'!K22)+('DATA ENTRY SHEET'!L22/60)+('DATA ENTRY SHEET'!M22/3600)) | AP12: =IF('DATA ENTRY SHEET'!N22="","",('DATA ENTRY SHEET'!N22)+('DATA ENTRY SHEET'!O22/60)+('DATA ENTRY SHEET'!P22/3600)) | AQ12: =IF('DATA ENTRY SHEET'!Q22="","",('DATA ENTRY SHEET'!Q22)+('DATA ENTRY SHEET'!R22/60)+('DATA ENTRY SHEET'!S22/3600))
A13: 11 | B13: =(('DATA ENTRY SHEET'!B23)+('DATA ENTRY SHEET'!C23/60)+('DATA ENTRY SHEET'!D23/3600)) -> 0 | C13: =IF('DATA ENTRY SHEET'!E23="","",B13*2) | D13: =IF('DATA ENTRY SHEET'!H23="","",B13*3) | E13: =IF('DATA ENTRY SHEET'!K23="","",B13*4) | F13: =IF('DATA ENTRY SHEET'!N23="","",B13*5) | G13: =IF('DATA ENTRY SHEET'!Q23="","",B13*6) | H13: =SUM(C13:G13) -> 0 | I13: =IF(H13<=360,0,IF(AND(H13>360,H13<=720),360,IF(AND(H13>720,H13<=1080),720,IF(AND(H13>1080,H13<=1440),1080,IF(AND(H13>1440,H13<=1800),1440,IF(AND(H13>1800,H13<=2160),1800,"")))))) -> 0 | J13: =IF('DATA ENTRY SHEET'!E23="","",(('DATA ENTRY SHEET'!E23)+('DATA ENTRY SHEET'!F23/60)+('DATA ENTRY SHEET'!G23/3600))+I13) | K13: =IF('DATA ENTRY SHEET'!H23="","",(('DATA ENTRY SHEET'!H23)+('DATA ENTRY SHEET'!I23/60)+('DATA ENTRY SHEET'!J23/3600))+I13) | L13: =IF('DATA ENTRY SHEET'!K23="","",(('DATA ENTRY SHEET'!K23)+('DATA ENTRY SHEET'!L23/60)+('DATA ENTRY SHEET'!M23/3600))+I13) | M13: =IF('DATA ENTRY SHEET'!N23="","",(('DATA ENTRY SHEET'!N23)+('DATA ENTRY SHEET'!O23/60)+('DATA ENTRY SHEET'!P23/3600))+I13) | N13: =IF('DATA ENTRY SHEET'!Q23="","",(('DATA ENTRY SHEET'!Q23)+('DATA ENTRY SHEET'!R23/60)+('DATA ENTRY SHEET'!S23/3600))+I13) | O13: =IF(J13="","",J13/$J$2) | P13: =IF(K13="","",K13/$K$2) | Q13: =IF(L13="","",L13/$L$2) | R13: =IF(M13="","",M13/$M$2) | S13: =IF(N13="","",N13/$N$2) | T13: =IF(AND(O13="",P13="",Q13="",R13="",S13=""),"",SUM(O13:S13)) | U13: =IF(T13<(B13-1),360,IF(T13>(B13+1),-360,0)) -> -360 | V13: =I13+U13 -> -360 | W13: =IF('DATA ENTRY SHEET'!E23="","",(('DATA ENTRY SHEET'!E23)+('DATA ENTRY SHEET'!F23/60)+('DATA ENTRY SHEET'!G23/3600))+'ANGLE DETERMINATION'!V13) | X13: =IF('DATA ENTRY SHEET'!H23="","",(('DATA ENTRY SHEET'!H23)+('DATA ENTRY SHEET'!I23/60)+('DATA ENTRY SHEET'!J23/3600))+'ANGLE DETERMINATION'!V13) | Y13: =IF('DATA ENTRY SHEET'!K23="","",(('DATA ENTRY SHEET'!K23)+('DATA ENTRY SHEET'!L23/60)+('DATA ENTRY SHEET'!M23/3600))+'ANGLE DETERMINATION'!V13) | Z13: =IF('DATA ENTRY SHEET'!N23="","",(('DATA ENTRY SHEET'!N23)+('DATA ENTRY SHEET'!O23/60)+('DATA ENTRY SHEET'!P23/3600))+'ANGLE DETERMINATION'!V13) | AA13: =+IF('DATA ENTRY SHEET'!Q23="","",(('DATA ENTRY SHEET'!Q23)+('DATA ENTRY SHEET'!R23/60)+('DATA ENTRY SHEET'!S23/3600))+'ANGLE DETERMINATION'!V13) | AB13: =IF(W13="","",W13/2) | AC13: =IF(X13="","",X13/3) | AD13: =IF(Y13="","",Y13/4) | AE13: =IF(Z13="","",Z13/5) | AF13: =IF(AA13="","",AA13/6) | AG13: =IF('DATA ENTRY SHEET'!$U$5="RESET",SUM(AB13:AF13),IF('DATA ENTRY SHEET'!$U$5="ACC",SUM(AH13:AL13),IF('DATA ENTRY SHEET'!$U$5="AVE",SUM(AM13:AQ13),FALSE))) -> FALSE | AH13: =IF('DATA ENTRY SHEET'!E23="","",(SUM(('DATA ENTRY SHEET'!E23)+('DATA ENTRY SHEET'!F23/60)+('DATA ENTRY SHEET'!G23/3600)))/2) | AI13: =IF('DATA ENTRY SHEET'!H23="","",(SUM(('DATA ENTRY SHEET'!H23)+('DATA ENTRY SHEET'!I23/60)+('DATA ENTRY SHEET'!J23/3600)))/3) | AJ13: =IF('DATA ENTRY SHEET'!K23="","",(SUM(('DATA ENTRY SHEET'!K23)+('DATA ENTRY SHEET'!L23/60)+('DATA ENTRY SHEET'!M23/3600)))/4) | AK13: =IF('DATA ENTRY SHEET'!N23="","",(SUM(('DATA ENTRY SHEET'!N23)+('DATA ENTRY SHEET'!O23/60)+('DATA ENTRY SHEET'!P23/3600)))/5) | AL13: =IF('DATA ENTRY SHEET'!Q23="","",(SUM(('DATA ENTRY SHEET'!Q23)+('DATA ENTRY SHEET'!R23/60)+('DATA ENTRY SHEET'!S23/3600)))/6) | AM13: =IF('DATA ENTRY SHEET'!E23="","",('DATA ENTRY SHEET'!E23)+('DATA ENTRY SHEET'!F23/60)+('DATA ENTRY SHEET'!G23/3600)) | AN13: =IF('DATA ENTRY SHEET'!H23="","",('DATA ENTRY SHEET'!H23)+('DATA ENTRY SHEET'!I23/60)+('DATA ENTRY SHEET'!J23/3600)) | AO13: =IF('DATA ENTRY SHEET'!K23="","",('DATA ENTRY SHEET'!K23)+('DATA ENTRY SHEET'!L23/60)+('DATA ENTRY SHEET'!M23/3600)) | AP13: =IF('DATA ENTRY SHEET'!N23="","",('DATA ENTRY SHEET'!N23)+('DATA ENTRY SHEET'!O23/60)+('DATA ENTRY SHEET'!P23/3600)) | AQ13: =IF('DATA ENTRY SHEET'!Q23="","",('DATA ENTRY SHEET'!Q23)+('DATA ENTRY SHEET'!R23/60)+('DATA ENTRY SHEET'!S23/3600))
A14: 12 | B14: =(('DATA ENTRY SHEET'!B24)+('DATA ENTRY SHEET'!C24/60)+('DATA ENTRY SHEET'!D24/3600)) -> 0 | C14: =IF('DATA ENTRY SHEET'!E24="","",B14*2) | D14: =IF('DATA ENTRY SHEET'!H24="","",B14*3) | E14: =IF('DATA ENTRY SHEET'!K24="","",B14*4) | F14: =IF('DATA ENTRY SHEET'!N24="","",B14*5) | G14: =IF('DATA ENTRY SHEET'!Q24="","",B14*6) | H14: =SUM(C14:G14) -> 0 | I14: =IF(H14<=360,0,IF(AND(H14>360,H14<=720),360,IF(AND(H14>720,H14<=1080),720,IF(AND(H14>1080,H14<=1440),1080,IF(AND(H14>1440,H14<=1800),1440,IF(AND(H14>1800,H14<=2160),1800,"")))))) -> 0 | J14: =IF('DATA ENTRY SHEET'!E24="","",(('DATA ENTRY SHEET'!E24)+('DATA ENTRY SHEET'!F24/60)+('DATA ENTRY SHEET'!G24/3600))+I14) | K14: =IF('DATA ENTRY SHEET'!H24="","",(('DATA ENTRY SHEET'!H24)+('DATA ENTRY SHEET'!I24/60)+('DATA ENTRY SHEET'!J24/3600))+I14) | L14: =IF('DATA ENTRY SHEET'!K24="","",(('DATA ENTRY SHEET'!K24)+('DATA ENTRY SHEET'!L24/60)+('DATA ENTRY SHEET'!M24/3600))+I14) | M14: =IF('DATA ENTRY SHEET'!N24="","",(('DATA ENTRY SHEET'!N24)+('DATA ENTRY SHEET'!O24/60)+('DATA ENTRY SHEET'!P24/3600))+I14) | N14: =IF('DATA ENTRY SHEET'!Q24="","",(('DATA ENTRY SHEET'!Q24)+('DATA ENTRY SHEET'!R24/60)+('DATA ENTRY SHEET'!S24/3600))+I14) | O14: =IF(J14="","",J14/$J$2) | P14: =IF(K14="","",K14/$K$2) | Q14: =IF(L14="","",L14/$L$2) | R14: =IF(M14="","",M14/$M$2) | S14: =IF(N14="","",N14/$N$2) | T14: =IF(AND(O14="",P14="",Q14="",R14="",S14=""),"",SUM(O14:S14)) | U14: =IF(T14<(B14-1),360,IF(T14>(B14+1),-360,0)) -> -360 | V14: =I14+U14 -> -360 | W14: =IF('DATA ENTRY SHEET'!E24="","",(('DATA ENTRY SHEET'!E24)+('DATA ENTRY SHEET'!F24/60)+('DATA ENTRY SHEET'!G24/3600))+'ANGLE DETERMINATION'!V14) | X14: =IF('DATA ENTRY SHEET'!H24="","",(('DATA ENTRY SHEET'!H24)+('DATA ENTRY SHEET'!I24/60)+('DATA ENTRY SHEET'!J24/3600))+'ANGLE DETERMINATION'!V14) | Y14: =IF('DATA ENTRY SHEET'!K24="","",(('DATA ENTRY SHEET'!K24)+('DATA ENTRY SHEET'!L24/60)+('DATA ENTRY SHEET'!M24/3600))+'ANGLE DETERMINATION'!V14) | Z14: =IF('DATA ENTRY SHEET'!N24="","",(('DATA ENTRY SHEET'!N24)+('DATA ENTRY SHEET'!O24/60)+('DATA ENTRY SHEET'!P24/3600))+'ANGLE DETERMINATION'!V14) | AA14: =+IF('DATA ENTRY SHEET'!Q24="","",(('DATA ENTRY SHEET'!Q24)+('DATA ENTRY SHEET'!R24/60)+('DATA ENTRY SHEET'!S24/3600))+'ANGLE DETERMINATION'!V14) | AB14: =IF(W14="","",W14/2) | AC14: =IF(X14="","",X14/3) | AD14: =IF(Y14="","",Y14/4) | AE14: =IF(Z14="","",Z14/5) | AF14: =IF(AA14="","",AA14/6) | AG14: =IF('DATA ENTRY SHEET'!$U$5="RESET",SUM(AB14:AF14),IF('DATA ENTRY SHEET'!$U$5="ACC",SUM(AH14:AL14),IF('DATA ENTRY SHEET'!$U$5="AVE",SUM(AM14:AQ14),FALSE))) -> FALSE | AH14: =IF('DATA ENTRY SHEET'!E24="","",(SUM(('DATA ENTRY SHEET'!E24)+('DATA ENTRY SHEET'!F24/60)+('DATA ENTRY SHEET'!G24/3600)))/2) | AI14: =IF('DATA ENTRY SHEET'!H24="","",(SUM(('DATA ENTRY SHEET'!H24)+('DATA ENTRY SHEET'!I24/60)+('DATA ENTRY SHEET'!J24/3600)))/3) | AJ14: =IF('DATA ENTRY SHEET'!K24="","",(SUM(('DATA ENTRY SHEET'!K24)+('DATA ENTRY SHEET'!L24/60)+('DATA ENTRY SHEET'!M24/3600)))/4) | AK14: =IF('DATA ENTRY SHEET'!N24="","",(SUM(('DATA ENTRY SHEET'!N24)+('DATA ENTRY SHEET'!O24/60)+('DATA ENTRY SHEET'!P24/3600)))/5) | AL14: =IF('DATA ENTRY SHEET'!Q24="","",(SUM(('DATA ENTRY SHEET'!Q24)+('DATA ENTRY SHEET'!R24/60)+('DATA ENTRY SHEET'!S24/3600)))/6) | AM14: =IF('DATA ENTRY SHEET'!E24="","",('DATA ENTRY SHEET'!E24)+('DATA ENTRY SHEET'!F24/60)+('DATA ENTRY SHEET'!G24/3600)) | AN14: =IF('DATA ENTRY SHEET'!H24="","",('DATA ENTRY SHEET'!H24)+('DATA ENTRY SHEET'!I24/60)+('DATA ENTRY SHEET'!J24/3600)) | AO14: =IF('DATA ENTRY SHEET'!K24="","",('DATA ENTRY SHEET'!K24)+('DATA ENTRY SHEET'!L24/60)+('DATA ENTRY SHEET'!M24/3600)) | AP14: =IF('DATA ENTRY SHEET'!N24="","",('DATA ENTRY SHEET'!N24)+('DATA ENTRY SHEET'!O24/60)+('DATA ENTRY SHEET'!P24/3600)) | AQ14: =IF('DATA ENTRY SHEET'!Q24="","",('DATA ENTRY SHEET'!Q24)+('DATA ENTRY SHEET'!R24/60)+('DATA ENTRY SHEET'!S24/3600))
A15: 13 | B15: =(('DATA ENTRY SHEET'!B25)+('DATA ENTRY SHEET'!C25/60)+('DATA ENTRY SHEET'!D25/3600)) -> 0 | C15: =IF('DATA ENTRY SHEET'!E25="","",B15*2) | D15: =IF('DATA ENTRY SHEET'!H25="","",B15*3) | E15: =IF('DATA ENTRY SHEET'!K25="","",B15*4) | F15: =IF('DATA ENTRY SHEET'!N25="","",B15*5) | G15: =IF('DATA ENTRY SHEET'!Q25="","",B15*6) | H15: =SUM(C15:G15) -> 0 | I15: =IF(H15<=360,0,IF(AND(H15>360,H15<=720),360,IF(AND(H15>720,H15<=1080),720,IF(AND(H15>1080,H15<=1440),1080,IF(AND(H15>1440,H15<=1800),1440,IF(AND(H15>1800,H15<=2160),1800,"")))))) -> 0 | J15: =IF('DATA ENTRY SHEET'!E25="","",(('DATA ENTRY SHEET'!E25)+('DATA ENTRY SHEET'!F25/60)+('DATA ENTRY SHEET'!G25/3600))+I15) | K15: =IF('DATA ENTRY SHEET'!H25="","",(('DATA ENTRY SHEET'!H25)+('DATA ENTRY SHEET'!I25/60)+('DATA ENTRY SHEET'!J25/3600))+I15) | L15: =IF('DATA ENTRY SHEET'!K25="","",(('DATA ENTRY SHEET'!K25)+('DATA ENTRY SHEET'!L25/60)+('DATA ENTRY SHEET'!M25/3600))+I15) | M15: =IF('DATA ENTRY SHEET'!N25="","",(('DATA ENTRY SHEET'!N25)+('DATA ENTRY SHEET'!O25/60)+('DATA ENTRY SHEET'!P25/3600))+I15) | N15: =IF('DATA ENTRY SHEET'!Q25="","",(('DATA ENTRY SHEET'!Q25)+('DATA ENTRY SHEET'!R25/60)+('DATA ENTRY SHEET'!S25/3600))+I15) | O15: =IF(J15="","",J15/$J$2) | P15: =IF(K15="","",K15/$K$2) | Q15: =IF(L15="","",L15/$L$2) | R15: =IF(M15="","",M15/$M$2) | S15: =IF(N15="","",N15/$N$2) | T15: =IF(AND(O15="",P15="",Q15="",R15="",S15=""),"",SUM(O15:S15)) | U15: =IF(T15<(B15-1),360,IF(T15>(B15+1),-360,0)) -> -360 | V15: =I15+U15 -> -360 | W15: =IF('DATA ENTRY SHEET'!E25="","",(('DATA ENTRY SHEET'!E25)+('DATA ENTRY SHEET'!F25/60)+('DATA ENTRY SHEET'!G25/3600))+'ANGLE DETERMINATION'!V15) | X15: =IF('DATA ENTRY SHEET'!H25="","",(('DATA ENTRY SHEET'!H25)+('DATA ENTRY SHEET'!I25/60)+('DATA ENTRY SHEET'!J25/3600))+'ANGLE DETERMINATION'!V15) | Y15: =IF('DATA ENTRY SHEET'!K25="","",(('DATA ENTRY SHEET'!K25)+('DATA ENTRY SHEET'!L25/60)+('DATA ENTRY SHEET'!M25/3600))+'ANGLE DETERMINATION'!V15) | Z15: =IF('DATA ENTRY SHEET'!N25="","",(('DATA ENTRY SHEET'!N25)+('DATA ENTRY SHEET'!O25/60)+('DATA ENTRY SHEET'!P25/3600))+'ANGLE DETERMINATION'!V15) | AA15: =+IF('DATA ENTRY SHEET'!Q25="","",(('DATA ENTRY SHEET'!Q25)+('DATA ENTRY SHEET'!R25/60)+('DATA ENTRY SHEET'!S25/3600))+'ANGLE DETERMINATION'!V15) | AB15: =IF(W15="","",W15/2) | AC15: =IF(X15="","",X15/3) | AD15: =IF(Y15="","",Y15/4) | AE15: =IF(Z15="","",Z15/5) | AF15: =IF(AA15="","",AA15/6) | AG15: =IF('DATA ENTRY SHEET'!$U$5="RESET",SUM(AB15:AF15),IF('DATA ENTRY SHEET'!$U$5="ACC",SUM(AH15:AL15),IF('DATA ENTRY SHEET'!$U$5="AVE",SUM(AM15:AQ15),FALSE))) -> FALSE | AH15: =IF('DATA ENTRY SHEET'!E25="","",(SUM(('DATA ENTRY SHEET'!E25)+('DATA ENTRY SHEET'!F25/60)+('DATA ENTRY SHEET'!G25/3600)))/2) | AI15: =IF('DATA ENTRY SHEET'!H25="","",(SUM(('DATA ENTRY SHEET'!H25)+('DATA ENTRY SHEET'!I25/60)+('DATA ENTRY SHEET'!J25/3600)))/3) | AJ15: =IF('DATA ENTRY SHEET'!K25="","",(SUM(('DATA ENTRY SHEET'!K25)+('DATA ENTRY SHEET'!L25/60)+('DATA ENTRY SHEET'!M25/3600)))/4) | AK15: =IF('DATA ENTRY SHEET'!N25="","",(SUM(('DATA ENTRY SHEET'!N25)+('DATA ENTRY SHEET'!O25/60)+('DATA ENTRY SHEET'!P25/3600)))/5) | AL15: =IF('DATA ENTRY SHEET'!Q25="","",(SUM(('DATA ENTRY SHEET'!Q25)+('DATA ENTRY SHEET'!R25/60)+('DATA ENTRY SHEET'!S25/3600)))/6) | AM15: =IF('DATA ENTRY SHEET'!E25="","",('DATA ENTRY SHEET'!E25)+('DATA ENTRY SHEET'!F25/60)+('DATA ENTRY SHEET'!G25/3600)) | AN15: =IF('DATA ENTRY SHEET'!H25="","",('DATA ENTRY SHEET'!H25)+('DATA ENTRY SHEET'!I25/60)+('DATA ENTRY SHEET'!J25/3600)) | AO15: =IF('DATA ENTRY SHEET'!K25="","",('DATA ENTRY SHEET'!K25)+('DATA ENTRY SHEET'!L25/60)+('DATA ENTRY SHEET'!M25/3600)) | AP15: =IF('DATA ENTRY SHEET'!N25="","",('DATA ENTRY SHEET'!N25)+('DATA ENTRY SHEET'!O25/60)+('DATA ENTRY SHEET'!P25/3600)) | AQ15: =IF('DATA ENTRY SHEET'!Q25="","",('DATA ENTRY SHEET'!Q25)+('DATA ENTRY SHEET'!R25/60)+('DATA ENTRY SHEET'!S25/3600))
A16: 14 | B16: =(('DATA ENTRY SHEET'!B26)+('DATA ENTRY SHEET'!C26/60)+('DATA ENTRY SHEET'!D26/3600)) -> 0 | C16: =IF('DATA ENTRY SHEET'!E26="","",B16*2) | D16: =IF('DATA ENTRY SHEET'!H26="","",B16*3) | E16: =IF('DATA ENTRY SHEET'!K26="","",B16*4) | F16: =IF('DATA ENTRY SHEET'!N26="","",B16*5) | G16: =IF('DATA ENTRY SHEET'!Q26="","",B16*6) | H16: =SUM(C16:G16) -> 0 | I16: =IF(H16<=360,0,IF(AND(H16>360,H16<=720),360,IF(AND(H16>720,H16<=1080),720,IF(AND(H16>1080,H16<=1440),1080,IF(AND(H16>1440,H16<=1800),1440,IF(AND(H16>1800,H16<=2160),1800,"")))))) -> 0 | J16: =IF('DATA ENTRY SHEET'!E26="","",(('DATA ENTRY SHEET'!E26)+('DATA ENTRY SHEET'!F26/60)+('DATA ENTRY SHEET'!G26/3600))+I16) | K16: =IF('DATA ENTRY SHEET'!H26="","",(('DATA ENTRY SHEET'!H26)+('DATA ENTRY SHEET'!I26/60)+('DATA ENTRY SHEET'!J26/3600))+I16) | L16: =IF('DATA ENTRY SHEET'!K26="","",(('DATA ENTRY SHEET'!K26)+('DATA ENTRY SHEET'!L26/60)+('DATA ENTRY SHEET'!M26/3600))+I16) | M16: =IF('DATA ENTRY SHEET'!N26="","",(('DATA ENTRY SHEET'!N26)+('DATA ENTRY SHEET'!O26/60)+('DATA ENTRY SHEET'!P39/3600))+I16) | N16: =IF('DATA ENTRY SHEET'!Q26="","",(('DATA ENTRY SHEET'!Q26)+('DATA ENTRY SHEET'!R26/60)+('DATA ENTRY SHEET'!S26/3600))+I16) | O16: =IF(J16="","",J16/$J$2) | P16: =IF(K16="","",K16/$K$2) | Q16: =IF(L16="","",L16/$L$2) | R16: =IF(M16="","",M16/$M$2) | S16: =IF(N16="","",N16/$N$2) | T16: =IF(AND(O16="",P16="",Q16="",R16="",S16=""),"",SUM(O16:S16)) | U16: =IF(T16<(B16-1),360,IF(T16>(B16+1),-360,0)) -> -360 | V16: =I16+U16 -> -360 | W16: =IF('DATA ENTRY SHEET'!E26="","",(('DATA ENTRY SHEET'!E26)+('DATA ENTRY SHEET'!F26/60)+('DATA ENTRY SHEET'!G26/3600))+'ANGLE DETERMINATION'!V16) | X16: =IF('DATA ENTRY SHEET'!H26="","",(('DATA ENTRY SHEET'!H26)+('DATA ENTRY SHEET'!I26/60)+('DATA ENTRY SHEET'!J26/3600))+'ANGLE DETERMINATION'!V16) | Y16: =IF('DATA ENTRY SHEET'!K26="","",(('DATA ENTRY SHEET'!K26)+('DATA ENTRY SHEET'!L26/60)+('DATA ENTRY SHEET'!M26/3600))+'ANGLE DETERMINATION'!V16) | Z16: =IF('DATA ENTRY SHEET'!N26="","",(('DATA ENTRY SHEET'!N26)+('DATA ENTRY SHEET'!O26/60)+('DATA ENTRY SHEET'!P39/3600))+'ANGLE DETERMINATION'!V16) | AA16: =+IF('DATA ENTRY SHEET'!Q26="","",(('DATA ENTRY SHEET'!Q26)+('DATA ENTRY SHEET'!R26/60)+('DATA ENTRY SHEET'!S26/3600))+'ANGLE DETERMINATION'!V16) | AB16: =IF(W16="","",W16/2) | AC16: =IF(X16="","",X16/3) | AD16: =IF(Y16="","",Y16/4) | AE16: =IF(Z16="","",Z16/5) | AF16: =IF(AA16="","",AA16/6) | AG16: =IF('DATA ENTRY SHEET'!$U$5="RESET",SUM(AB16:AF16),IF('DATA ENTRY SHEET'!$U$5="ACC",SUM(AH16:AL16),IF('DATA ENTRY SHEET'!$U$5="AVE",SUM(AM16:AQ16),FALSE))) -> FALSE | AH16: =IF('DATA ENTRY SHEET'!E26="","",(SUM(('DATA ENTRY SHEET'!E26)+('DATA ENTRY SHEET'!F26/60)+('DATA ENTRY SHEET'!G26/3600)))/2) | AI16: =IF('DATA ENTRY SHEET'!H26="","",(SUM(('DATA ENTRY SHEET'!H26)+('DATA ENTRY SHEET'!I26/60)+('DATA ENTRY SHEET'!J26/3600)))/3) | AJ16: =IF('DATA ENTRY SHEET'!K26="","",(SUM(('DATA ENTRY SHEET'!K26)+('DATA ENTRY SHEET'!L26/60)+('DATA ENTRY SHEET'!M26/3600)))/4) | AK16: =IF('DATA ENTRY SHEET'!N26="","",(SUM(('DATA ENTRY SHEET'!N26)+('DATA ENTRY SHEET'!O26/60)+('DATA ENTRY SHEET'!P39/3600)))/5) | AL16: =IF('DATA ENTRY SHEET'!Q26="","",(SUM(('DATA ENTRY SHEET'!Q26)+('DATA ENTRY SHEET'!R26/60)+('DATA ENTRY SHEET'!S26/3600)))/6) | AM16: =IF('DATA ENTRY SHEET'!E26="","",('DATA ENTRY SHEET'!E26)+('DATA ENTRY SHEET'!F26/60)+('DATA ENTRY SHEET'!G26/3600)) | AN16: =IF('DATA ENTRY SHEET'!H26="","",('DATA ENTRY SHEET'!H26)+('DATA ENTRY SHEET'!I26/60)+('DATA ENTRY SHEET'!J26/3600)) | AO16: =IF('DATA ENTRY SHEET'!K26="","",('DATA ENTRY SHEET'!K26)+('DATA ENTRY SHEET'!L26/60)+('DATA ENTRY SHEET'!M26/3600)) | AP16: =IF('DATA ENTRY SHEET'!N26="","",('DATA ENTRY SHEET'!N26)+('DATA ENTRY SHEET'!O26/60)+('DATA ENTRY SHEET'!P26/3600)) | AQ16: =IF('DATA ENTRY SHEET'!Q26="","",('DATA ENTRY SHEET'!Q26)+('DATA ENTRY SHEET'!R26/60)+('DATA ENTRY SHEET'!S26/3600))
A17: 15 | B17: =(('DATA ENTRY SHEET'!B27)+('DATA ENTRY SHEET'!C27/60)+('DATA ENTRY SHEET'!D27/3600)) -> 0 | C17: =IF('DATA ENTRY SHEET'!E27="","",B17*2) | D17: =IF('DATA ENTRY SHEET'!H27="","",B17*3) | E17: =IF('DATA ENTRY SHEET'!K27="","",B17*4) | F17: =IF('DATA ENTRY SHEET'!N27="","",B17*5) | G17: =IF('DATA ENTRY SHEET'!Q27="","",B17*6) | H17: =SUM(C17:G17) -> 0 | I17: =IF(H17<=360,0,IF(AND(H17>360,H17<=720),360,IF(AND(H17>720,H17<=1080),720,IF(AND(H17>1080,H17<=1440),1080,IF(AND(H17>1440,H17<=1800),1440,IF(AND(H17>1800,H17<=2160),1800,"")))))) -> 0 | J17: =IF('DATA ENTRY SHEET'!E27="","",(('DATA ENTRY SHEET'!E27)+('DATA ENTRY SHEET'!F27/60)+('DATA ENTRY SHEET'!G27/3600))+I17) | K17: =IF('DATA ENTRY SHEET'!H27="","",(('DATA ENTRY SHEET'!H27)+('DATA ENTRY SHEET'!I27/60)+('DATA ENTRY SHEET'!J27/3600))+I17) | L17: =IF('DATA ENTRY SHEET'!K27="","",(('DATA ENTRY SHEET'!K27)+('DATA ENTRY SHEET'!L27/60)+('DATA ENTRY SHEET'!M27/3600))+I17) | M17: =IF('DATA ENTRY SHEET'!N27="","",(('DATA ENTRY SHEET'!N27)+('DATA ENTRY SHEET'!O27/60)+('DATA ENTRY SHEET'!P27/3600))+I17) | N17: =IF('DATA ENTRY SHEET'!Q27="","",(('DATA ENTRY SHEET'!Q27)+('DATA ENTRY SHEET'!R27/60)+('DATA ENTRY SHEET'!S27/3600))+I17) | O17: =IF(J17="","",J17/$J$2) | P17: =IF(K17="","",K17/$K$2) | Q17: =IF(L17="","",L17/$L$2) | R17: =IF(M17="","",M17/$M$2) | S17: =IF(N17="","",N17/$N$2) | T17: =IF(AND(O17="",P17="",Q17="",R17="",S17=""),"",SUM(O17:S17)) | U17: =IF(T17<(B17-1),360,IF(T17>(B17+1),-360,0)) -> -360 | V17: =I17+U17 -> -360 | W17: =IF('DATA ENTRY SHEET'!E27="","",(('DATA ENTRY SHEET'!E27)+('DATA ENTRY SHEET'!F27/60)+('DATA ENTRY SHEET'!G27/3600))+'ANGLE DETERMINATION'!V17) | X17: =IF('DATA ENTRY SHEET'!H27="","",(('DATA ENTRY SHEET'!H27)+('DATA ENTRY SHEET'!I27/60)+('DATA ENTRY SHEET'!J27/3600))+'ANGLE DETERMINATION'!V17) | Y17: =IF('DATA ENTRY SHEET'!K27="","",(('DATA ENTRY SHEET'!K27)+('DATA ENTRY SHEET'!L27/60)+('DATA ENTRY SHEET'!M27/3600))+'ANGLE DETERMINATION'!V17) | Z17: =IF('DATA ENTRY SHEET'!N27="","",(('DATA ENTRY SHEET'!N27)+('DATA ENTRY SHEET'!O27/60)+('DATA ENTRY SHEET'!P27/3600))+'ANGLE DETERMINATION'!V17) | AA17: =+IF('DATA ENTRY SHEET'!Q27="","",(('DATA ENTRY SHEET'!Q27)+('DATA ENTRY SHEET'!R27/60)+('DATA ENTRY SHEET'!S27/3600))+'ANGLE DETERMINATION'!V17) | AB17: =IF(W17="","",W17/2) | AC17: =IF(X17="","",X17/3) | AD17: =IF(Y17="","",Y17/4) | AE17: =IF(Z17="","",Z17/5) | AF17: =IF(AA17="","",AA17/6) | AG17: =IF('DATA ENTRY SHEET'!$U$5="RESET",SUM(AB17:AF17),IF('DATA ENTRY SHEET'!$U$5="ACC",SUM(AH17:AL17),IF('DATA ENTRY SHEET'!$U$5="AVE",SUM(AM17:AQ17),FALSE))) -> FALSE | AH17: =IF('DATA ENTRY SHEET'!E27="","",(SUM(('DATA ENTRY SHEET'!E27)+('DATA ENTRY SHEET'!F27/60)+('DATA ENTRY SHEET'!G27/3600)))/2) | AI17: =IF('DATA ENTRY SHEET'!H27="","",(SUM(('DATA ENTRY SHEET'!H27)+('DATA ENTRY SHEET'!I27/60)+('DATA ENTRY SHEET'!J27/3600)))/3) | AJ17: =IF('DATA ENTRY SHEET'!K27="","",(SUM(('DATA ENTRY SHEET'!K27)+('DATA ENTRY SHEET'!L27/60)+('DATA ENTRY SHEET'!M27/3600)))/4) | AK17: =IF('DATA ENTRY SHEET'!N27="","",(SUM(('DATA ENTRY SHEET'!N27)+('DATA ENTRY SHEET'!O27/60)+('DATA ENTRY SHEET'!P27/3600)))/5) | AL17: =IF('DATA ENTRY SHEET'!Q27="","",(SUM(('DATA ENTRY SHEET'!Q27)+('DATA ENTRY SHEET'!R27/60)+('DATA ENTRY SHEET'!S27/3600)))/6) | AM17: =IF('DATA ENTRY SHEET'!E27="","",('DATA ENTRY SHEET'!E27)+('DATA ENTRY SHEET'!F27/60)+('DATA ENTRY SHEET'!G27/3600)) | AN17: =IF('DATA ENTRY SHEET'!H27="","",('DATA ENTRY SHEET'!H27)+('DATA ENTRY SHEET'!I27/60)+('DATA ENTRY SHEET'!J27/3600)) | AO17: =IF('DATA ENTRY SHEET'!K27="","",('DATA ENTRY SHEET'!K27)+('DATA ENTRY SHEET'!L27/60)+('DATA ENTRY SHEET'!M27/3600)) | AP17: =IF('DATA ENTRY SHEET'!N27="","",('DATA ENTRY SHEET'!N27)+('DATA ENTRY SHEET'!O27/60)+('DATA ENTRY SHEET'!P27/3600)) | AQ17: =IF('DATA ENTRY SHEET'!Q27="","",('DATA ENTRY SHEET'!Q27)+('DATA ENTRY SHEET'!R27/60)+('DATA ENTRY SHEET'!S27/3600))
A18: 16 | B18: =(('DATA ENTRY SHEET'!B28)+('DATA ENTRY SHEET'!C28/60)+('DATA ENTRY SHEET'!D28/3600)) -> 0 | C18: =IF('DATA ENTRY SHEET'!E28="","",B18*2) | D18: =IF('DATA ENTRY SHEET'!H28="","",B18*3) | E18: =IF('DATA ENTRY SHEET'!K28="","",B18*4) | F18: =IF('DATA ENTRY SHEET'!N28="","",B18*5) | G18: =IF('DATA ENTRY SHEET'!Q28="","",B18*6) | H18: =SUM(C18:G18) -> 0 | I18: =IF(H18<=360,0,IF(AND(H18>360,H18<=720),360,IF(AND(H18>720,H18<=1080),720,IF(AND(H18>1080,H18<=1440),1080,IF(AND(H18>1440,H18<=1800),1440,IF(AND(H18>1800,H18<=2160),1800,"")))))) -> 0 | J18: =IF('DATA ENTRY SHEET'!E28="","",(('DATA ENTRY SHEET'!E28)+('DATA ENTRY SHEET'!F28/60)+('DATA ENTRY SHEET'!G28/3600))+I18) | K18: =IF('DATA ENTRY SHEET'!H28="","",(('DATA ENTRY SHEET'!H28)+('DATA ENTRY SHEET'!I28/60)+('DATA ENTRY SHEET'!J28/3600))+I18) | L18: =IF('DATA ENTRY SHEET'!K28="","",(('DATA ENTRY SHEET'!K28)+('DATA ENTRY SHEET'!L28/60)+('DATA ENTRY SHEET'!M28/3600))+I18) | M18: =IF('DATA ENTRY SHEET'!N28="","",(('DATA ENTRY SHEET'!N28)+('DATA ENTRY SHEET'!O28/60)+('DATA ENTRY SHEET'!P28/3600))+I18) | N18: =IF('DATA ENTRY SHEET'!Q28="","",(('DATA ENTRY SHEET'!Q28)+('DATA ENTRY SHEET'!R28/60)+('DATA ENTRY SHEET'!S28/3600))+I18) | O18: =IF(J18="","",J18/$J$2) | P18: =IF(K18="","",K18/$K$2) | Q18: =IF(L18="","",L18/$L$2) | R18: =IF(M18="","",M18/$M$2) | S18: =IF(N18="","",N18/$N$2) | T18: =IF(AND(O18="",P18="",Q18="",R18="",S18=""),"",SUM(O18:S18)) | U18: =IF(T18<(B18-1),360,IF(T18>(B18+1),-360,0)) -> -360 | V18: =I18+U18 -> -360 | W18: =IF('DATA ENTRY SHEET'!E28="","",(('DATA ENTRY SHEET'!E28)+('DATA ENTRY SHEET'!F28/60)+('DATA ENTRY SHEET'!G28/3600))+'ANGLE DETERMINATION'!V18) | X18: =IF('DATA ENTRY SHEET'!H28="","",(('DATA ENTRY SHEET'!H28)+('DATA ENTRY SHEET'!I28/60)+('DATA ENTRY SHEET'!J28/3600))+'ANGLE DETERMINATION'!V18) | Y18: =IF('DATA ENTRY SHEET'!K28="","",(('DATA ENTRY SHEET'!K28)+('DATA ENTRY SHEET'!L28/60)+('DATA ENTRY SHEET'!M28/3600))+'ANGLE DETERMINATION'!V18) | Z18: =IF('DATA ENTRY SHEET'!N28="","",(('DATA ENTRY SHEET'!N28)+('DATA ENTRY SHEET'!O28/60)+('DATA ENTRY SHEET'!P28/3600))+'ANGLE DETERMINATION'!V18) | AA18: =+IF('DATA ENTRY SHEET'!Q28="","",(('DATA ENTRY SHEET'!Q28)+('DATA ENTRY SHEET'!R28/60)+('DATA ENTRY SHEET'!S28/3600))+'ANGLE DETERMINATION'!V18) | AB18: =IF(W18="","",W18/2) | AC18: =IF(X18="","",X18/3) | AD18: =IF(Y18="","",Y18/4) | AE18: =IF(Z18="","",Z18/5) | AF18: =IF(AA18="","",AA18/6) | AG18: =IF('DATA ENTRY SHEET'!$U$5="RESET",SUM(AB18:AF18),IF('DATA ENTRY SHEET'!$U$5="ACC",SUM(AH18:AL18),IF('DATA ENTRY SHEET'!$U$5="AVE",SUM(AM18:AQ18),FALSE))) -> FALSE | AH18: =IF('DATA ENTRY SHEET'!E28="","",(SUM(('DATA ENTRY SHEET'!E28)+('DATA ENTRY SHEET'!F28/60)+('DATA ENTRY SHEET'!G28/3600)))/2) | AI18: =IF('DATA ENTRY SHEET'!H28="","",(SUM(('DATA ENTRY SHEET'!H28)+('DATA ENTRY SHEET'!I28/60)+('DATA ENTRY SHEET'!J28/3600)))/3) | AJ18: =IF('DATA ENTRY SHEET'!K28="","",(SUM(('DATA ENTRY SHEET'!K28)+('DATA ENTRY SHEET'!L28/60)+('DATA ENTRY SHEET'!M28/3600)))/4) | AK18: =IF('DATA ENTRY SHEET'!N28="","",(SUM(('DATA ENTRY SHEET'!N28)+('DATA ENTRY SHEET'!O28/60)+('DATA ENTRY SHEET'!P28/3600)))/5) | AL18: =IF('DATA ENTRY SHEET'!Q28="","",(SUM(('DATA ENTRY SHEET'!Q28)+('DATA ENTRY SHEET'!R28/60)+('DATA ENTRY SHEET'!S28/3600)))/6) | AM18: =IF('DATA ENTRY SHEET'!E28="","",('DATA ENTRY SHEET'!E28)+('DATA ENTRY SHEET'!F28/60)+('DATA ENTRY SHEET'!G28/3600)) | AN18: =IF('DATA ENTRY SHEET'!H28="","",('DATA ENTRY SHEET'!H28)+('DATA ENTRY SHEET'!I28/60)+('DATA ENTRY SHEET'!J28/3600)) | AO18: =IF('DATA ENTRY SHEET'!K28="","",('DATA ENTRY SHEET'!K28)+('DATA ENTRY SHEET'!L28/60)+('DATA ENTRY SHEET'!M28/3600)) | AP18: =IF('DATA ENTRY SHEET'!N28="","",('DATA ENTRY SHEET'!N28)+('DATA ENTRY SHEET'!O28/60)+('DATA ENTRY SHEET'!P28/3600)) | AQ18: =IF('DATA ENTRY SHEET'!Q28="","",('DATA ENTRY SHEET'!Q28)+('DATA ENTRY SHEET'!R28/60)+('DATA ENTRY SHEET'!S28/3600))
A19: 17 | B19: =(('DATA ENTRY SHEET'!B29)+('DATA ENTRY SHEET'!C29/60)+('DATA ENTRY SHEET'!D29/3600)) -> 0 | C19: =IF('DATA ENTRY SHEET'!E29="","",B19*2) | D19: =IF('DATA ENTRY SHEET'!H29="","",B19*3) | E19: =IF('DATA ENTRY SHEET'!K29="","",B19*4) | F19: =IF('DATA ENTRY SHEET'!N29="","",B19*5) | G19: =IF('DATA ENTRY SHEET'!Q29="","",B19*6) | H19: =SUM(C19:G19) -> 0 | I19: =IF(H19<=360,0,IF(AND(H19>360,H19<=720),360,IF(AND(H19>720,H19<=1080),720,IF(AND(H19>1080,H19<=1440),1080,IF(AND(H19>1440,H19<=1800),1440,IF(AND(H19>1800,H19<=2160),1800,"")))))) -> 0 | J19: =IF('DATA ENTRY SHEET'!E29="","",(('DATA ENTRY SHEET'!E29)+('DATA ENTRY SHEET'!F29/60)+('DATA ENTRY SHEET'!G29/3600))+I19) | K19: =IF('DATA ENTRY SHEET'!H29="","",(('DATA ENTRY SHEET'!H29)+('DATA ENTRY SHEET'!I29/60)+('DATA ENTRY SHEET'!J29/3600))+I19) | L19: =IF('DATA ENTRY SHEET'!K29="","",(('DATA ENTRY SHEET'!K29)+('DATA ENTRY SHEET'!L29/60)+('DATA ENTRY SHEET'!M29/3600))+I19) | M19: =IF('DATA ENTRY SHEET'!N29="","",(('DATA ENTRY SHEET'!N29)+('DATA ENTRY SHEET'!O29/60)+('DATA ENTRY SHEET'!P29/3600))+I19) | N19: =IF('DATA ENTRY SHEET'!Q29="","",(('DATA ENTRY SHEET'!Q29)+('DATA ENTRY SHEET'!R29/60)+('DATA ENTRY SHEET'!S29/3600))+I19) | O19: =IF(J19="","",J19/$J$2) | P19: =IF(K19="","",K19/$K$2) | Q19: =IF(L19="","",L19/$L$2) | R19: =IF(M19="","",M19/$M$2) | S19: =IF(N19="","",N19/$N$2) | T19: =IF(AND(O19="",P19="",Q19="",R19="",S19=""),"",SUM(O19:S19)) | U19: =IF(T19<(B19-1),360,IF(T19>(B19+1),-360,0)) -> -360 | V19: =I19+U19 -> -360 | W19: =IF('DATA ENTRY SHEET'!E29="","",(('DATA ENTRY SHEET'!E29)+('DATA ENTRY SHEET'!F29/60)+('DATA ENTRY SHEET'!G29/3600))+'ANGLE DETERMINATION'!V19) | X19: =IF('DATA ENTRY SHEET'!H29="","",(('DATA ENTRY SHEET'!H29)+('DATA ENTRY SHEET'!I29/60)+('DATA ENTRY SHEET'!J29/3600))+'ANGLE DETERMINATION'!V19) | Y19: =IF('DATA ENTRY SHEET'!K29="","",(('DATA ENTRY SHEET'!K29)+('DATA ENTRY SHEET'!L29/60)+('DATA ENTRY SHEET'!M29/3600))+'ANGLE DETERMINATION'!V19) | Z19: =IF('DATA ENTRY SHEET'!N29="","",(('DATA ENTRY SHEET'!N29)+('DATA ENTRY SHEET'!O29/60)+('DATA ENTRY SHEET'!P29/3600))+'ANGLE DETERMINATION'!V19) | AA19: =+IF('DATA ENTRY SHEET'!Q29="","",(('DATA ENTRY SHEET'!Q29)+('DATA ENTRY SHEET'!R29/60)+('DATA ENTRY SHEET'!S29/3600))+'ANGLE DETERMINATION'!V19) | AB19: =IF(W19="","",W19/2) | AC19: =IF(X19="","",X19/3) | AD19: =IF(Y19="","",Y19/4) | AE19: =IF(Z19="","",Z19/5) | AF19: =IF(AA19="","",AA19/6) | AG19: =IF('DATA ENTRY SHEET'!$U$5="RESET",SUM(AB19:AF19),IF('DATA ENTRY SHEET'!$U$5="ACC",SUM(AH19:AL19),IF('DATA ENTRY SHEET'!$U$5="AVE",SUM(AM19:AQ19),FALSE))) -> FALSE | AH19: =IF('DATA ENTRY SHEET'!E29="","",(SUM(('DATA ENTRY SHEET'!E29)+('DATA ENTRY SHEET'!F29/60)+('DATA ENTRY SHEET'!G29/3600)))/2) | AI19: =IF('DATA ENTRY SHEET'!H29="","",(SUM(('DATA ENTRY SHEET'!H29)+('DATA ENTRY SHEET'!I29/60)+('DATA ENTRY SHEET'!J29/3600)))/3) | AJ19: =IF('DATA ENTRY SHEET'!K29="","",(SUM(('DATA ENTRY SHEET'!K29)+('DATA ENTRY SHEET'!L29/60)+('DATA ENTRY SHEET'!M29/3600)))/4) | AK19: =IF('DATA ENTRY SHEET'!N29="","",(SUM(('DATA ENTRY SHEET'!N29)+('DATA ENTRY SHEET'!O29/60)+('DATA ENTRY SHEET'!P29/3600)))/5) | AL19: =IF('DATA ENTRY SHEET'!Q29="","",(SUM(('DATA ENTRY SHEET'!Q29)+('DATA ENTRY SHEET'!R29/60)+('DATA ENTRY SHEET'!S29/3600)))/6) | AM19: =IF('DATA ENTRY SHEET'!E29="","",('DATA ENTRY SHEET'!E29)+('DATA ENTRY SHEET'!F29/60)+('DATA ENTRY SHEET'!G29/3600)) | AN19: =IF('DATA ENTRY SHEET'!H29="","",('DATA ENTRY SHEET'!H29)+('DATA ENTRY SHEET'!I29/60)+('DATA ENTRY SHEET'!J29/3600)) | AO19: =IF('DATA ENTRY SHEET'!K29="","",('DATA ENTRY SHEET'!K29)+('DATA ENTRY SHEET'!L29/60)+('DATA ENTRY SHEET'!M29/3600)) | AP19: =IF('DATA ENTRY SHEET'!N29="","",('DATA ENTRY SHEET'!N29)+('DATA ENTRY SHEET'!O29/60)+('DATA ENTRY SHEET'!P29/3600)) | AQ19: =IF('DATA ENTRY SHEET'!Q29="","",('DATA ENTRY SHEET'!Q29)+('DATA ENTRY SHEET'!R29/60)+('DATA ENTRY SHEET'!S29/3600))
A20: 18 | B20: =(('DATA ENTRY SHEET'!B30)+('DATA ENTRY SHEET'!C30/60)+('DATA ENTRY SHEET'!D30/3600)) -> 0 | C20: =IF('DATA ENTRY SHEET'!E30="","",B20*2) | D20: =IF('DATA ENTRY SHEET'!H30="","",B20*3) | E20: =IF('DATA ENTRY SHEET'!K30="","",B20*4) | F20: =IF('DATA ENTRY SHEET'!N30="","",B20*5) | G20: =IF('DATA ENTRY SHEET'!Q30="","",B20*6) | H20: =SUM(C20:G20) -> 0 | I20: =IF(H20<=360,0,IF(AND(H20>360,H20<=720),360,IF(AND(H20>720,H20<=1080),720,IF(AND(H20>1080,H20<=1440),1080,IF(AND(H20>1440,H20<=1800),1440,IF(AND(H20>1800,H20<=2160),1800,"")))))) -> 0 | J20: =IF('DATA ENTRY SHEET'!E30="","",(('DATA ENTRY SHEET'!E30)+('DATA ENTRY SHEET'!F30/60)+('DATA ENTRY SHEET'!G30/3600))+I20) | K20: =IF('DATA ENTRY SHEET'!H30="","",(('DATA ENTRY SHEET'!H30)+('DATA ENTRY SHEET'!I30/60)+('DATA ENTRY SHEET'!J30/3600))+I20) | L20: =IF('DATA ENTRY SHEET'!K30="","",(('DATA ENTRY SHEET'!K30)+('DATA ENTRY SHEET'!L30/60)+('DATA ENTRY SHEET'!M30/3600))+I20) | M20: =IF('DATA ENTRY SHEET'!N30="","",(('DATA ENTRY SHEET'!N30)+('DATA ENTRY SHEET'!O30/60)+('DATA ENTRY SHEET'!P30/3600))+I20) | N20: =IF('DATA ENTRY SHEET'!Q30="","",(('DATA ENTRY SHEET'!Q30)+('DATA ENTRY SHEET'!R30/60)+('DATA ENTRY SHEET'!S30/3600))+I20) | O20: =IF(J20="","",J20/$J$2) | P20: =IF(K20="","",K20/$K$2) | Q20: =IF(L20="","",L20/$L$2) | R20: =IF(M20="","",M20/$M$2) | S20: =IF(N20="","",N20/$N$2) | T20: =IF(AND(O20="",P20="",Q20="",R20="",S20=""),"",SUM(O20:S20)) | U20: =IF(T20<(B20-1),360,IF(T20>(B20+1),-360,0)) -> -360 | V20: =I20+U20 -> -360 | W20: =IF('DATA ENTRY SHEET'!E30="","",(('DATA ENTRY SHEET'!E30)+('DATA ENTRY SHEET'!F30/60)+('DATA ENTRY SHEET'!G30/3600))+'ANGLE DETERMINATION'!V20) | X20: =IF('DATA ENTRY SHEET'!H30="","",(('DATA ENTRY SHEET'!H30)+('DATA ENTRY SHEET'!I30/60)+('DATA ENTRY SHEET'!J30/3600))+'ANGLE DETERMINATION'!V20) | Y20: =IF('DATA ENTRY SHEET'!K30="","",(('DATA ENTRY SHEET'!K30)+('DATA ENTRY SHEET'!L30/60)+('DATA ENTRY SHEET'!M30/3600))+'ANGLE DETERMINATION'!V20) | Z20: =IF('DATA ENTRY SHEET'!N30="","",(('DATA ENTRY SHEET'!N30)+('DATA ENTRY SHEET'!O30/60)+('DATA ENTRY SHEET'!P30/3600))+'ANGLE DETERMINATION'!V20) | AA20: =+IF('DATA ENTRY SHEET'!Q30="","",(('DATA ENTRY SHEET'!Q30)+('DATA ENTRY SHEET'!R30/60)+('DATA ENTRY SHEET'!S30/3600))+'ANGLE DETERMINATION'!V20) | AB20: =IF(W20="","",W20/2) | AC20: =IF(X20="","",X20/3) | AD20: =IF(Y20="","",Y20/4) | AE20: =IF(Z20="","",Z20/5) | AF20: =IF(AA20="","",AA20/6) | AG20: =IF('DATA ENTRY SHEET'!$U$5="RESET",SUM(AB20:AF20),IF('DATA ENTRY SHEET'!$U$5="ACC",SUM(AH20:AL20),IF('DATA ENTRY SHEET'!$U$5="AVE",SUM(AM20:AQ20),FALSE))) -> FALSE | AH20: =IF('DATA ENTRY SHEET'!E30="","",(SUM(('DATA ENTRY SHEET'!E30)+('DATA ENTRY SHEET'!F30/60)+('DATA ENTRY SHEET'!G30/3600)))/2) | AI20: =IF('DATA ENTRY SHEET'!H30="","",(SUM(('DATA ENTRY SHEET'!H30)+('DATA ENTRY SHEET'!I30/60)+('DATA ENTRY SHEET'!J30/3600)))/3) | AJ20: =IF('DATA ENTRY SHEET'!K30="","",(SUM(('DATA ENTRY SHEET'!K30)+('DATA ENTRY SHEET'!L30/60)+('DATA ENTRY SHEET'!M30/3600)))/4) | AK20: =IF('DATA ENTRY SHEET'!N30="","",(SUM(('DATA ENTRY SHEET'!N30)+('DATA ENTRY SHEET'!O30/60)+('DATA ENTRY SHEET'!P30/3600)))/5) | AL20: =IF('DATA ENTRY SHEET'!Q30="","",(SUM(('DATA ENTRY SHEET'!Q30)+('DATA ENTRY SHEET'!R30/60)+('DATA ENTRY SHEET'!S30/3600)))/6) | AM20: =IF('DATA ENTRY SHEET'!E30="","",('DATA ENTRY SHEET'!E30)+('DATA ENTRY SHEET'!F30/60)+('DATA ENTRY SHEET'!G30/3600)) | AN20: =IF('DATA ENTRY SHEET'!H30="","",('DATA ENTRY SHEET'!H30)+('DATA ENTRY SHEET'!I30/60)+('DATA ENTRY SHEET'!J30/3600)) | AO20: =IF('DATA ENTRY SHEET'!K30="","",('DATA ENTRY SHEET'!K30)+('DATA ENTRY SHEET'!L30/60)+('DATA ENTRY SHEET'!M30/3600)) | AP20: =IF('DATA ENTRY SHEET'!N30="","",('DATA ENTRY SHEET'!N30)+('DATA ENTRY SHEET'!O30/60)+('DATA ENTRY SHEET'!P30/3600)) | AQ20: =IF('DATA ENTRY SHEET'!Q30="","",('DATA ENTRY SHEET'!Q30)+('DATA ENTRY SHEET'!R30/60)+('DATA ENTRY SHEET'!S30/3600))
A21: 19 | B21: =(('DATA ENTRY SHEET'!B31)+('DATA ENTRY SHEET'!C31/60)+('DATA ENTRY SHEET'!D31/3600)) -> 0 | C21: =IF('DATA ENTRY SHEET'!E31="","",B21*2) | D21: =IF('DATA ENTRY SHEET'!H31="","",B21*3) | E21: =IF('DATA ENTRY SHEET'!K31="","",B21*4) | F21: =IF('DATA ENTRY SHEET'!N31="","",B21*5) | G21: =IF('DATA ENTRY SHEET'!Q31="","",B21*6) | H21: =SUM(C21:G21) -> 0 | I21: =IF(H21<=360,0,IF(AND(H21>360,H21<=720),360,IF(AND(H21>720,H21<=1080),720,IF(AND(H21>1080,H21<=1440),1080,IF(AND(H21>1440,H21<=1800),1440,IF(AND(H21>1800,H21<=2160),1800,"")))))) -> 0 | J21: =IF('DATA ENTRY SHEET'!E31="","",(('DATA ENTRY SHEET'!E31)+('DATA ENTRY SHEET'!F31/60)+('DATA ENTRY SHEET'!G31/3600))+I21) | K21: =IF('DATA ENTRY SHEET'!H31="","",(('DATA ENTRY SHEET'!H31)+('DATA ENTRY SHEET'!I31/60)+('DATA ENTRY SHEET'!J31/3600))+I21) | L21: =IF('DATA ENTRY SHEET'!K31="","",(('DATA ENTRY SHEET'!K31)+('DATA ENTRY SHEET'!L31/60)+('DATA ENTRY SHEET'!M31/3600))+I21) | M21: =IF('DATA ENTRY SHEET'!N31="","",(('DATA ENTRY SHEET'!N31)+('DATA ENTRY SHEET'!O31/60)+('DATA ENTRY SHEET'!P31/3600))+I21) | N21: =IF('DATA ENTRY SHEET'!Q31="","",(('DATA ENTRY SHEET'!Q31)+('DATA ENTRY SHEET'!R31/60)+('DATA ENTRY SHEET'!S31/3600))+I21) | O21: =IF(J21="","",J21/$J$2) | P21: =IF(K21="","",K21/$K$2) | Q21: =IF(L21="","",L21/$L$2) | R21: =IF(M21="","",M21/$M$2) | S21: =IF(N21="","",N21/$N$2) | T21: =IF(AND(O21="",P21="",Q21="",R21="",S21=""),"",SUM(O21:S21)) | U21: =IF(T21<(B21-1),360,IF(T21>(B21+1),-360,0)) -> -360 | V21: =I21+U21 -> -360 | W21: =IF('DATA ENTRY SHEET'!E31="","",(('DATA ENTRY SHEET'!E31)+('DATA ENTRY SHEET'!F31/60)+('DATA ENTRY SHEET'!G31/3600))+'ANGLE DETERMINATION'!V21) | X21: =IF('DATA ENTRY SHEET'!H31="","",(('DATA ENTRY SHEET'!H31)+('DATA ENTRY SHEET'!I31/60)+('DATA ENTRY SHEET'!J31/3600))+'ANGLE DETERMINATION'!V21) | Y21: =IF('DATA ENTRY SHEET'!K31="","",(('DATA ENTRY SHEET'!K31)+('DATA ENTRY SHEET'!L31/60)+('DATA ENTRY SHEET'!M31/3600))+'ANGLE DETERMINATION'!V21) | Z21: =IF('DATA ENTRY SHEET'!N31="","",(('DATA ENTRY SHEET'!N31)+('DATA ENTRY SHEET'!O31/60)+('DATA ENTRY SHEET'!P31/3600))+'ANGLE DETERMINATION'!V21) | AA21: =+IF('DATA ENTRY SHEET'!Q31="","",(('DATA ENTRY SHEET'!Q31)+('DATA ENTRY SHEET'!R31/60)+('DATA ENTRY SHEET'!S31/3600))+'ANGLE DETERMINATION'!V21) | AB21: =IF(W21="","",W21/2) | AC21: =IF(X21="","",X21/3) | AD21: =IF(Y21="","",Y21/4) | AE21: =IF(Z21="","",Z21/5) | AF21: =IF(AA21="","",AA21/6) | AG21: =IF('DATA ENTRY SHEET'!$U$5="RESET",SUM(AB21:AF21),IF('DATA ENTRY SHEET'!$U$5="ACC",SUM(AH21:AL21),IF('DATA ENTRY SHEET'!$U$5="AVE",SUM(AM21:AQ21),FALSE))) -> FALSE | AH21: =IF('DATA ENTRY SHEET'!E31="","",(SUM(('DATA ENTRY SHEET'!E31)+('DATA ENTRY SHEET'!F31/60)+('DATA ENTRY SHEET'!G31/3600)))/2) | AI21: =IF('DATA ENTRY SHEET'!H31="","",(SUM(('DATA ENTRY SHEET'!H31)+('DATA ENTRY SHEET'!I31/60)+('DATA ENTRY SHEET'!J31/3600)))/3) | AJ21: =IF('DATA ENTRY SHEET'!K31="","",(SUM(('DATA ENTRY SHEET'!K31)+('DATA ENTRY SHEET'!L31/60)+('DATA ENTRY SHEET'!M31/3600)))/4) | AK21: =IF('DATA ENTRY SHEET'!N31="","",(SUM(('DATA ENTRY SHEET'!N31)+('DATA ENTRY SHEET'!O31/60)+('DATA ENTRY SHEET'!P31/3600)))/5) | AL21: =IF('DATA ENTRY SHEET'!Q31="","",(SUM(('DATA ENTRY SHEET'!Q31)+('DATA ENTRY SHEET'!R31/60)+('DATA ENTRY SHEET'!S31/3600)))/6) | AM21: =IF('DATA ENTRY SHEET'!E31="","",('DATA ENTRY SHEET'!E31)+('DATA ENTRY SHEET'!F31/60)+('DATA ENTRY SHEET'!G31/3600)) | AN21: =IF('DATA ENTRY SHEET'!H31="","",('DATA ENTRY SHEET'!H31)+('DATA ENTRY SHEET'!I31/60)+('DATA ENTRY SHEET'!J31/3600)) | AO21: =IF('DATA ENTRY SHEET'!K31="","",('DATA ENTRY SHEET'!K31)+('DATA ENTRY SHEET'!L31/60)+('DATA ENTRY SHEET'!M31/3600)) | AP21: =IF('DATA ENTRY SHEET'!N31="","",('DATA ENTRY SHEET'!N31)+('DATA ENTRY SHEET'!O31/60)+('DATA ENTRY SHEET'!P31/3600)) | AQ21: =IF('DATA ENTRY SHEET'!Q31="","",('DATA ENTRY SHEET'!Q31)+('DATA ENTRY SHEET'!R31/60)+('DATA ENTRY SHEET'!S31/3600))
A22: 20 | B22: =(('DATA ENTRY SHEET'!B32)+('DATA ENTRY SHEET'!C32/60)+('DATA ENTRY SHEET'!D32/3600)) -> 0 | C22: =IF('DATA ENTRY SHEET'!E32="","",B22*2) | D22: =IF('DATA ENTRY SHEET'!H32="","",B22*3) | E22: =IF('DATA ENTRY SHEET'!K32="","",B22*4) | F22: =IF('DATA ENTRY SHEET'!N32="","",B22*5) | G22: =IF('DATA ENTRY SHEET'!Q32="","",B22*6) | H22: =SUM(C22:G22) -> 0 | I22: =IF(H22<=360,0,IF(AND(H22>360,H22<=720),360,IF(AND(H22>720,H22<=1080),720,IF(AND(H22>1080,H22<=1440),1080,IF(AND(H22>1440,H22<=1800),1440,IF(AND(H22>1800,H22<=2160),1800,"")))))) -> 0 | J22: =IF('DATA ENTRY SHEET'!E32="","",(('DATA ENTRY SHEET'!E32)+('DATA ENTRY SHEET'!F32/60)+('DATA ENTRY SHEET'!G32/3600))+I22) | K22: =IF('DATA ENTRY SHEET'!H32="","",(('DATA ENTRY SHEET'!H32)+('DATA ENTRY SHEET'!I32/60)+('DATA ENTRY SHEET'!J32/3600))+I22) | L22: =IF('DATA ENTRY SHEET'!K32="","",(('DATA ENTRY SHEET'!K32)+('DATA ENTRY SHEET'!L32/60)+('DATA ENTRY SHEET'!M32/3600))+I22) | M22: =IF('DATA ENTRY SHEET'!N32="","",(('DATA ENTRY SHEET'!N32)+('DATA ENTRY SHEET'!O32/60)+('DATA ENTRY SHEET'!P32/3600))+I22) | N22: =IF('DATA ENTRY SHEET'!Q32="","",(('DATA ENTRY SHEET'!Q32)+('DATA ENTRY SHEET'!R32/60)+('DATA ENTRY SHEET'!S32/3600))+I22) | O22: =IF(J22="","",J22/$J$2) | P22: =IF(K22="","",K22/$K$2) | Q22: =IF(L22="","",L22/$L$2) | R22: =IF(M22="","",M22/$M$2) | S22: =IF(N22="","",N22/$N$2) | T22: =IF(AND(O22="",P22="",Q22="",R22="",S22=""),"",SUM(O22:S22)) | U22: =IF(T22<(B22-1),360,IF(T22>(B22+1),-360,0)) -> -360 | V22: =I22+U22 -> -360 | W22: =IF('DATA ENTRY SHEET'!E32="","",(('DATA ENTRY SHEET'!E32)+('DATA ENTRY SHEET'!F32/60)+('DATA ENTRY SHEET'!G32/3600))+'ANGLE DETERMINATION'!V22) | X22: =IF('DATA ENTRY SHEET'!H32="","",(('DATA ENTRY SHEET'!H32)+('DATA ENTRY SHEET'!I32/60)+('DATA ENTRY SHEET'!J32/3600))+'ANGLE DETERMINATION'!V22) | Y22: =IF('DATA ENTRY SHEET'!K32="","",(('DATA ENTRY SHEET'!K32)+('DATA ENTRY SHEET'!L32/60)+('DATA ENTRY SHEET'!M32/3600))+'ANGLE DETERMINATION'!V22) | Z22: =IF('DATA ENTRY SHEET'!N32="","",(('DATA ENTRY SHEET'!N32)+('DATA ENTRY SHEET'!O32/60)+('DATA ENTRY SHEET'!P32/3600))+'ANGLE DETERMINATION'!V22) | AA22: =+IF('DATA ENTRY SHEET'!Q32="","",(('DATA ENTRY SHEET'!Q32)+('DATA ENTRY SHEET'!R32/60)+('DATA ENTRY SHEET'!S32/3600))+'ANGLE DETERMINATION'!V22) | AB22: =IF(W22="","",W22/2) | AC22: =IF(X22="","",X22/3) | AD22: =IF(Y22="","",Y22/4) | AE22: =IF(Z22="","",Z22/5) | AF22: =IF(AA22="","",AA22/6) | AG22: =IF('DATA ENTRY SHEET'!$U$5="RESET",SUM(AB22:AF22),IF('DATA ENTRY SHEET'!$U$5="ACC",SUM(AH22:AL22),IF('DATA ENTRY SHEET'!$U$5="AVE",SUM(AM22:AQ22),FALSE))) -> FALSE | AH22: =IF('DATA ENTRY SHEET'!E32="","",(SUM(('DATA ENTRY SHEET'!E32)+('DATA ENTRY SHEET'!F32/60)+('DATA ENTRY SHEET'!G32/3600)))/2) | AI22: =IF('DATA ENTRY SHEET'!H32="","",(SUM(('DATA ENTRY SHEET'!H32)+('DATA ENTRY SHEET'!I32/60)+('DATA ENTRY SHEET'!J32/3600)))/3) | AJ22: =IF('DATA ENTRY SHEET'!K32="","",(SUM(('DATA ENTRY SHEET'!K32)+('DATA ENTRY SHEET'!L32/60)+('DATA ENTRY SHEET'!M32/3600)))/4) | AK22: =IF('DATA ENTRY SHEET'!N32="","",(SUM(('DATA ENTRY SHEET'!N32)+('DATA ENTRY SHEET'!O32/60)+('DATA ENTRY SHEET'!P32/3600)))/5) | AL22: =IF('DATA ENTRY SHEET'!Q32="","",(SUM(('DATA ENTRY SHEET'!Q32)+('DATA ENTRY SHEET'!R32/60)+('DATA ENTRY SHEET'!S32/3600)))/6) | AM22: =IF('DATA ENTRY SHEET'!E32="","",('DATA ENTRY SHEET'!E32)+('DATA ENTRY SHEET'!F32/60)+('DATA ENTRY SHEET'!G32/3600)) | AN22: =IF('DATA ENTRY SHEET'!H32="","",('DATA ENTRY SHEET'!H32)+('DATA ENTRY SHEET'!I32/60)+('DATA ENTRY SHEET'!J32/3600)) | AO22: =IF('DATA ENTRY SHEET'!K32="","",('DATA ENTRY SHEET'!K32)+('DATA ENTRY SHEET'!L32/60)+('DATA ENTRY SHEET'!M32/3600)) | AP22: =IF('DATA ENTRY SHEET'!N32="","",('DATA ENTRY SHEET'!N32)+('DATA ENTRY SHEET'!O32/60)+('DATA ENTRY SHEET'!P32/3600)) | AQ22: =IF('DATA ENTRY SHEET'!Q32="","",('DATA ENTRY SHEET'!Q32)+('DATA ENTRY SHEET'!R32/60)+('DATA ENTRY SHEET'!S32/3600))
A23: 21 | B23: =(('DATA ENTRY SHEET'!B33)+('DATA ENTRY SHEET'!C33/60)+('DATA ENTRY SHEET'!D33/3600)) -> 0 | C23: =IF('DATA ENTRY SHEET'!E33="","",B23*2) | D23: =IF('DATA ENTRY SHEET'!H33="","",B23*3) | E23: =IF('DATA ENTRY SHEET'!K33="","",B23*4) | F23: =IF('DATA ENTRY SHEET'!N33="","",B23*5) | G23: =IF('DATA ENTRY SHEET'!Q33="","",B23*6) | H23: =SUM(C23:G23) -> 0 | I23: =IF(H23<=360,0,IF(AND(H23>360,H23<=720),360,IF(AND(H23>720,H23<=1080),720,IF(AND(H23>1080,H23<=1440),1080,IF(AND(H23>1440,H23<=1800),1440,IF(AND(H23>1800,H23<=2160),1800,"")))))) -> 0 | J23: =IF('DATA ENTRY SHEET'!E33="","",(('DATA ENTRY SHEET'!E33)+('DATA ENTRY SHEET'!F33/60)+('DATA ENTRY SHEET'!G33/3600))+I23) | K23: =IF('DATA ENTRY SHEET'!H33="","",(('DATA ENTRY SHEET'!H33)+('DATA ENTRY SHEET'!I33/60)+('DATA ENTRY SHEET'!J33/3600))+I23) | L23: =IF('DATA ENTRY SHEET'!K33="","",(('DATA ENTRY SHEET'!K33)+('DATA ENTRY SHEET'!L33/60)+('DATA ENTRY SHEET'!M33/3600))+I23) | M23: =IF('DATA ENTRY SHEET'!N33="","",(('DATA ENTRY SHEET'!N33)+('DATA ENTRY SHEET'!O33/60)+('DATA ENTRY SHEET'!P33/3600))+I23) | N23: =IF('DATA ENTRY SHEET'!Q33="","",(('DATA ENTRY SHEET'!Q33)+('DATA ENTRY SHEET'!R33/60)+('DATA ENTRY SHEET'!S33/3600))+I23) | O23: =IF(J23="","",J23/$J$2) | P23: =IF(K23="","",K23/$K$2) | Q23: =IF(L23="","",L23/$L$2) | R23: =IF(M23="","",M23/$M$2) | S23: =IF(N23="","",N23/$N$2) | T23: =IF(AND(O23="",P23="",Q23="",R23="",S23=""),"",SUM(O23:S23)) | U23: =IF(T23<(B23-1),360,IF(T23>(B23+1),-360,0)) -> -360 | V23: =I23+U23 -> -360 | W23: =IF('DATA ENTRY SHEET'!E33="","",(('DATA ENTRY SHEET'!E33)+('DATA ENTRY SHEET'!F33/60)+('DATA ENTRY SHEET'!G33/3600))+'ANGLE DETERMINATION'!V23) | X23: =IF('DATA ENTRY SHEET'!H33="","",(('DATA ENTRY SHEET'!H33)+('DATA ENTRY SHEET'!I33/60)+('DATA ENTRY SHEET'!J33/3600))+'ANGLE DETERMINATION'!V23) | Y23: =IF('DATA ENTRY SHEET'!K33="","",(('DATA ENTRY SHEET'!K33)+('DATA ENTRY SHEET'!L33/60)+('DATA ENTRY SHEET'!M33/3600))+'ANGLE DETERMINATION'!V23) | Z23: =IF('DATA ENTRY SHEET'!N33="","",(('DATA ENTRY SHEET'!N33)+('DATA ENTRY SHEET'!O33/60)+('DATA ENTRY SHEET'!P33/3600))+'ANGLE DETERMINATION'!V23) | AA23: =+IF('DATA ENTRY SHEET'!Q33="","",(('DATA ENTRY SHEET'!Q33)+('DATA ENTRY SHEET'!R33/60)+('DATA ENTRY SHEET'!S33/3600))+'ANGLE DETERMINATION'!V23) | AB23: =IF(W23="","",W23/2) | AC23: =IF(X23="","",X23/3) | AD23: =IF(Y23="","",Y23/4) | AE23: =IF(Z23="","",Z23/5) | AF23: =IF(AA23="","",AA23/6) | AG23: =IF('DATA ENTRY SHEET'!$U$5="RESET",SUM(AB23:AF23),IF('DATA ENTRY SHEET'!$U$5="ACC",SUM(AH23:AL23),IF('DATA ENTRY SHEET'!$U$5="AVE",SUM(AM23:AQ23),FALSE))) -> FALSE | AH23: =IF('DATA ENTRY SHEET'!E33="","",(SUM(('DATA ENTRY SHEET'!E33)+('DATA ENTRY SHEET'!F33/60)+('DATA ENTRY SHEET'!G33/3600)))/2) | AI23: =IF('DATA ENTRY SHEET'!H33="","",(SUM(('DATA ENTRY SHEET'!H33)+('DATA ENTRY SHEET'!I33/60)+('DATA ENTRY SHEET'!J33/3600)))/3) | AJ23: =IF('DATA ENTRY SHEET'!K33="","",(SUM(('DATA ENTRY SHEET'!K33)+('DATA ENTRY SHEET'!L33/60)+('DATA ENTRY SHEET'!M33/3600)))/4) | AK23: =IF('DATA ENTRY SHEET'!N33="","",(SUM(('DATA ENTRY SHEET'!N33)+('DATA ENTRY SHEET'!O33/60)+('DATA ENTRY SHEET'!P33/3600)))/5) | AL23: =IF('DATA ENTRY SHEET'!Q33="","",(SUM(('DATA ENTRY SHEET'!Q33)+('DATA ENTRY SHEET'!R33/60)+('DATA ENTRY SHEET'!S33/3600)))/6) | AM23: =IF('DATA ENTRY SHEET'!E33="","",('DATA ENTRY SHEET'!E33)+('DATA ENTRY SHEET'!F33/60)+('DATA ENTRY SHEET'!G33/3600)) | AN23: =IF('DATA ENTRY SHEET'!H33="","",('DATA ENTRY SHEET'!H33)+('DATA ENTRY SHEET'!I33/60)+('DATA ENTRY SHEET'!J33/3600)) | AO23: =IF('DATA ENTRY SHEET'!K33="","",('DATA ENTRY SHEET'!K33)+('DATA ENTRY SHEET'!L33/60)+('DATA ENTRY SHEET'!M33/3600)) | AP23: =IF('DATA ENTRY SHEET'!N33="","",('DATA ENTRY SHEET'!N33)+('DATA ENTRY SHEET'!O33/60)+('DATA ENTRY SHEET'!P33/3600)) | AQ23: =IF('DATA ENTRY SHEET'!Q33="","",('DATA ENTRY SHEET'!Q33)+('DATA ENTRY SHEET'!R33/60)+('DATA ENTRY SHEET'!S33/3600))
A24: 22 | B24: =(('DATA ENTRY SHEET'!B34)+('DATA ENTRY SHEET'!C34/60)+('DATA ENTRY SHEET'!D34/3600)) -> 0 | C24: =IF('DATA ENTRY SHEET'!E34="","",B24*2) | D24: =IF('DATA ENTRY SHEET'!H34="","",B24*3) | E24: =IF('DATA ENTRY SHEET'!K34="","",B24*4) | F24: =IF('DATA ENTRY SHEET'!N34="","",B24*5) | G24: =IF('DATA ENTRY SHEET'!Q34="","",B24*6) | H24: =SUM(C24:G24) -> 0 | I24: =IF(H24<=360,0,IF(AND(H24>360,H24<=720),360,IF(AND(H24>720,H24<=1080),720,IF(AND(H24>1080,H24<=1440),1080,IF(AND(H24>1440,H24<=1800),1440,IF(AND(H24>1800,H24<=2160),1800,"")))))) -> 0 | J24: =IF('DATA ENTRY SHEET'!E34="","",(('DATA ENTRY SHEET'!E34)+('DATA ENTRY SHEET'!F34/60)+('DATA ENTRY SHEET'!G34/3600))+I24) | K24: =IF('DATA ENTRY SHEET'!H34="","",(('DATA ENTRY SHEET'!H34)+('DATA ENTRY SHEET'!I34/60)+('DATA ENTRY SHEET'!J34/3600))+I24) | L24: =IF('DATA ENTRY SHEET'!K34="","",(('DATA ENTRY SHEET'!K34)+('DATA ENTRY SHEET'!L34/60)+('DATA ENTRY SHEET'!M34/3600))+I24) | M24: =IF('DATA ENTRY SHEET'!N34="","",(('DATA ENTRY SHEET'!N34)+('DATA ENTRY SHEET'!O34/60)+('DATA ENTRY SHEET'!P34/3600))+I24) | N24: =IF('DATA ENTRY SHEET'!Q34="","",(('DATA ENTRY SHEET'!Q34)+('DATA ENTRY SHEET'!R34/60)+('DATA ENTRY SHEET'!S34/3600))+I24) | O24: =IF(J24="","",J24/$J$2) | P24: =IF(K24="","",K24/$K$2) | Q24: =IF(L24="","",L24/$L$2) | R24: =IF(M24="","",M24/$M$2) | S24: =IF(N24="","",N24/$N$2) | T24: =IF(AND(O24="",P24="",Q24="",R24="",S24=""),"",SUM(O24:S24)) | U24: =IF(T24<(B24-1),360,IF(T24>(B24+1),-360,0)) -> -360 | V24: =I24+U24 -> -360 | W24: =IF('DATA ENTRY SHEET'!E34="","",(('DATA ENTRY SHEET'!E34)+('DATA ENTRY SHEET'!F34/60)+('DATA ENTRY SHEET'!G34/3600))+'ANGLE DETERMINATION'!V24) | X24: =IF('DATA ENTRY SHEET'!H34="","",(('DATA ENTRY SHEET'!H34)+('DATA ENTRY SHEET'!I34/60)+('DATA ENTRY SHEET'!J34/3600))+'ANGLE DETERMINATION'!V24) | Y24: =IF('DATA ENTRY SHEET'!K34="","",(('DATA ENTRY SHEET'!K34)+('DATA ENTRY SHEET'!L34/60)+('DATA ENTRY SHEET'!M34/3600))+'ANGLE DETERMINATION'!V24) | Z24: =IF('DATA ENTRY SHEET'!N34="","",(('DATA ENTRY SHEET'!N34)+('DATA ENTRY SHEET'!O34/60)+('DATA ENTRY SHEET'!P34/3600))+'ANGLE DETERMINATION'!V24) | AA24: =+IF('DATA ENTRY SHEET'!Q34="","",(('DATA ENTRY SHEET'!Q34)+('DATA ENTRY SHEET'!R34/60)+('DATA ENTRY SHEET'!S34/3600))+'ANGLE DETERMINATION'!V24) | AB24: =IF(W24="","",W24/2) | AC24: =IF(X24="","",X24/3) | AD24: =IF(Y24="","",Y24/4) | AE24: =IF(Z24="","",Z24/5) | AF24: =IF(AA24="","",AA24/6) | AG24: =IF('DATA ENTRY SHEET'!$U$5="RESET",SUM(AB24:AF24),IF('DATA ENTRY SHEET'!$U$5="ACC",SUM(AH24:AL24),IF('DATA ENTRY SHEET'!$U$5="AVE",SUM(AM24:AQ24),FALSE))) -> FALSE | AH24: =IF('DATA ENTRY SHEET'!E34="","",(SUM(('DATA ENTRY SHEET'!E34)+('DATA ENTRY SHEET'!F34/60)+('DATA ENTRY SHEET'!G34/3600)))/2) | AI24: =IF('DATA ENTRY SHEET'!H34="","",(SUM(('DATA ENTRY SHEET'!H34)+('DATA ENTRY SHEET'!I34/60)+('DATA ENTRY SHEET'!J34/3600)))/3) | AJ24: =IF('DATA ENTRY SHEET'!K34="","",(SUM(('DATA ENTRY SHEET'!K34)+('DATA ENTRY SHEET'!L34/60)+('DATA ENTRY SHEET'!M34/3600)))/4) | AK24: =IF('DATA ENTRY SHEET'!N34="","",(SUM(('DATA ENTRY SHEET'!N34)+('DATA ENTRY SHEET'!O34/60)+('DATA ENTRY SHEET'!P34/3600)))/5) | AL24: =IF('DATA ENTRY SHEET'!Q34="","",(SUM(('DATA ENTRY SHEET'!Q34)+('DATA ENTRY SHEET'!R34/60)+('DATA ENTRY SHEET'!S34/3600)))/6) | AM24: =IF('DATA ENTRY SHEET'!E34="","",('DATA ENTRY SHEET'!E34)+('DATA ENTRY SHEET'!F34/60)+('DATA ENTRY SHEET'!G34/3600)) | AN24: =IF('DATA ENTRY SHEET'!H34="","",('DATA ENTRY SHEET'!H34)+('DATA ENTRY SHEET'!I34/60)+('DATA ENTRY SHEET'!J34/3600)) | AO24: =IF('DATA ENTRY SHEET'!K34="","",('DATA ENTRY SHEET'!K34)+('DATA ENTRY SHEET'!L34/60)+('DATA ENTRY SHEET'!M34/3600)) | AP24: =IF('DATA ENTRY SHEET'!N34="","",('DATA ENTRY SHEET'!N34)+('DATA ENTRY SHEET'!O34/60)+('DATA ENTRY SHEET'!P34/3600)) | AQ24: =IF('DATA ENTRY SHEET'!Q34="","",('DATA ENTRY SHEET'!Q34)+('DATA ENTRY SHEET'!R34/60)+('DATA ENTRY SHEET'!S34/3600))
A25: 23 | B25: =(('DATA ENTRY SHEET'!B35)+('DATA ENTRY SHEET'!C35/60)+('DATA ENTRY SHEET'!D35/3600)) -> 0 | C25: =IF('DATA ENTRY SHEET'!E35="","",B25*2) | D25: =IF('DATA ENTRY SHEET'!H35="","",B25*3) | E25: =IF('DATA ENTRY SHEET'!K35="","",B25*4) | F25: =IF('DATA ENTRY SHEET'!N35="","",B25*5) | G25: =IF('DATA ENTRY SHEET'!Q35="","",B25*6) | H25: =SUM(C25:G25) -> 0 | I25: =IF(H25<=360,0,IF(AND(H25>360,H25<=720),360,IF(AND(H25>720,H25<=1080),720,IF(AND(H25>1080,H25<=1440),1080,IF(AND(H25>1440,H25<=1800),1440,IF(AND(H25>1800,H25<=2160),1800,"")))))) -> 0 | J25: =IF('DATA ENTRY SHEET'!E35="","",(('DATA ENTRY SHEET'!E35)+('DATA ENTRY SHEET'!F35/60)+('DATA ENTRY SHEET'!G35/3600))+I25) | K25: =IF('DATA ENTRY SHEET'!H35="","",(('DATA ENTRY SHEET'!H35)+('DATA ENTRY SHEET'!I35/60)+('DATA ENTRY SHEET'!J35/3600))+I25) | L25: =IF('DATA ENTRY SHEET'!K35="","",(('DATA ENTRY SHEET'!K35)+('DATA ENTRY SHEET'!L35/60)+('DATA ENTRY SHEET'!M35/3600))+I25) | M25: =IF('DATA ENTRY SHEET'!N35="","",(('DATA ENTRY SHEET'!N35)+('DATA ENTRY SHEET'!O35/60)+('DATA ENTRY SHEET'!P35/3600))+I25) | N25: =IF('DATA ENTRY SHEET'!Q35="","",(('DATA ENTRY SHEET'!Q35)+('DATA ENTRY SHEET'!R35/60)+('DATA ENTRY SHEET'!S35/3600))+I25) | O25: =IF(J25="","",J25/$J$2) | P25: =IF(K25="","",K25/$K$2) | Q25: =IF(L25="","",L25/$L$2) | R25: =IF(M25="","",M25/$M$2) | S25: =IF(N25="","",N25/$N$2) | T25: =IF(AND(O25="",P25="",Q25="",R25="",S25=""),"",SUM(O25:S25)) | U25: =IF(T25<(B25-1),360,IF(T25>(B25+1),-360,0)) -> -360 | V25: =I25+U25 -> -360 | W25: =IF('DATA ENTRY SHEET'!E35="","",(('DATA ENTRY SHEET'!E35)+('DATA ENTRY SHEET'!F35/60)+('DATA ENTRY SHEET'!G35/3600))+'ANGLE DETERMINATION'!V25) | X25: =IF('DATA ENTRY SHEET'!H35="","",(('DATA ENTRY SHEET'!H35)+('DATA ENTRY SHEET'!I35/60)+('DATA ENTRY SHEET'!J35/3600))+'ANGLE DETERMINATION'!V25) | Y25: =IF('DATA ENTRY SHEET'!K35="","",(('DATA ENTRY SHEET'!K35)+('DATA ENTRY SHEET'!L35/60)+('DATA ENTRY SHEET'!M35/3600))+'ANGLE DETERMINATION'!V25) | Z25: =IF('DATA ENTRY SHEET'!N35="","",(('DATA ENTRY SHEET'!N35)+('DATA ENTRY SHEET'!O35/60)+('DATA ENTRY SHEET'!P35/3600))+'ANGLE DETERMINATION'!V25) | AA25: =+IF('DATA ENTRY SHEET'!Q35="","",(('DATA ENTRY SHEET'!Q35)+('DATA ENTRY SHEET'!R35/60)+('DATA ENTRY SHEET'!S35/3600))+'ANGLE DETERMINATION'!V25) | AB25: =IF(W25="","",W25/2) | AC25: =IF(X25="","",X25/3) | AD25: =IF(Y25="","",Y25/4) | AE25: =IF(Z25="","",Z25/5) | AF25: =IF(AA25="","",AA25/6) | AG25: =IF('DATA ENTRY SHEET'!$U$5="RESET",SUM(AB25:AF25),IF('DATA ENTRY SHEET'!$U$5="ACC",SUM(AH25:AL25),IF('DATA ENTRY SHEET'!$U$5="AVE",SUM(AM25:AQ25),FALSE))) -> FALSE | AH25: =IF('DATA ENTRY SHEET'!E35="","",(SUM(('DATA ENTRY SHEET'!E35)+('DATA ENTRY SHEET'!F35/60)+('DATA ENTRY SHEET'!G35/3600)))/2) | AI25: =IF('DATA ENTRY SHEET'!H35="","",(SUM(('DATA ENTRY SHEET'!H35)+('DATA ENTRY SHEET'!I35/60)+('DATA ENTRY SHEET'!J35/3600)))/3) | AJ25: =IF('DATA ENTRY SHEET'!K35="","",(SUM(('DATA ENTRY SHEET'!K35)+('DATA ENTRY SHEET'!L35/60)+('DATA ENTRY SHEET'!M35/3600)))/4) | AK25: =IF('DATA ENTRY SHEET'!N35="","",(SUM(('DATA ENTRY SHEET'!N35)+('DATA ENTRY SHEET'!O35/60)+('DATA ENTRY SHEET'!P35/3600)))/5) | AL25: =IF('DATA ENTRY SHEET'!Q35="","",(SUM(('DATA ENTRY SHEET'!Q35)+('DATA ENTRY SHEET'!R35/60)+('DATA ENTRY SHEET'!S35/3600)))/6) | AM25: =IF('DATA ENTRY SHEET'!E35="","",('DATA ENTRY SHEET'!E35)+('DATA ENTRY SHEET'!F35/60)+('DATA ENTRY SHEET'!G35/3600)) | AN25: =IF('DATA ENTRY SHEET'!H35="","",('DATA ENTRY SHEET'!H35)+('DATA ENTRY SHEET'!I35/60)+('DATA ENTRY SHEET'!J35/3600)) | AO25: =IF('DATA ENTRY SHEET'!K35="","",('DATA ENTRY SHEET'!K35)+('DATA ENTRY SHEET'!L35/60)+('DATA ENTRY SHEET'!M35/3600)) | AP25: =IF('DATA ENTRY SHEET'!N35="","",('DATA ENTRY SHEET'!N35)+('DATA ENTRY SHEET'!O35/60)+('DATA ENTRY SHEET'!P35/3600)) | AQ25: =IF('DATA ENTRY SHEET'!Q35="","",('DATA ENTRY SHEET'!Q35)+('DATA ENTRY SHEET'!R35/60)+('DATA ENTRY SHEET'!S35/3600))
A26: 24 | B26: =(('DATA ENTRY SHEET'!B36)+('DATA ENTRY SHEET'!C36/60)+('DATA ENTRY SHEET'!D36/3600)) -> 0 | C26: =IF('DATA ENTRY SHEET'!E36="","",B26*2) | D26: =IF('DATA ENTRY SHEET'!H36="","",B26*3) | E26: =IF('DATA ENTRY SHEET'!K36="","",B26*4) | F26: =IF('DATA ENTRY SHEET'!N36="","",B26*5) | G26: =IF('DATA ENTRY SHEET'!Q36="","",B26*6) | H26: =SUM(C26:G26) -> 0 | I26: =IF(H26<=360,0,IF(AND(H26>360,H26<=720),360,IF(AND(H26>720,H26<=1080),720,IF(AND(H26>1080,H26<=1440),1080,IF(AND(H26>1440,H26<=1800),1440,IF(AND(H26>1800,H26<=2160),1800,"")))))) -> 0 | J26: =IF('DATA ENTRY SHEET'!E36="","",(('DATA ENTRY SHEET'!E36)+('DATA ENTRY SHEET'!F36/60)+('DATA ENTRY SHEET'!G36/3600))+I26) | K26: =IF('DATA ENTRY SHEET'!H36="","",(('DATA ENTRY SHEET'!H36)+('DATA ENTRY SHEET'!I36/60)+('DATA ENTRY SHEET'!J36/3600))+I26) | L26: =IF('DATA ENTRY SHEET'!K36="","",(('DATA ENTRY SHEET'!K36)+('DATA ENTRY SHEET'!L36/60)+('DATA ENTRY SHEET'!M36/3600))+I26) | M26: =IF('DATA ENTRY SHEET'!N36="","",(('DATA ENTRY SHEET'!N36)+('DATA ENTRY SHEET'!O36/60)+('DATA ENTRY SHEET'!P36/3600))+I26) | N26: =IF('DATA ENTRY SHEET'!Q36="","",(('DATA ENTRY SHEET'!Q36)+('DATA ENTRY SHEET'!R36/60)+('DATA ENTRY SHEET'!S36/3600))+I26) | O26: =IF(J26="","",J26/$J$2) | P26: =IF(K26="","",K26/$K$2) | Q26: =IF(L26="","",L26/$L$2) | R26: =IF(M26="","",M26/$M$2) | S26: =IF(N26="","",N26/$N$2) | T26: =IF(AND(O26="",P26="",Q26="",R26="",S26=""),"",SUM(O26:S26)) | U26: =IF(T26<(B26-1),360,IF(T26>(B26+1),-360,0)) -> -360 | V26: =I26+U26 -> -360 | W26: =IF('DATA ENTRY SHEET'!E36="","",(('DATA ENTRY SHEET'!E36)+('DATA ENTRY SHEET'!F36/60)+('DATA ENTRY SHEET'!G36/3600))+'ANGLE DETERMINATION'!V26) | X26: =IF('DATA ENTRY SHEET'!H36="","",(('DATA ENTRY SHEET'!H36)+('DATA ENTRY SHEET'!I36/60)+('DATA ENTRY SHEET'!J36/3600))+'ANGLE DETERMINATION'!V26) | Y26: =IF('DATA ENTRY SHEET'!K36="","",(('DATA ENTRY SHEET'!K36)+('DATA ENTRY SHEET'!L36/60)+('DATA ENTRY SHEET'!M36/3600))+'ANGLE DETERMINATION'!V26) | Z26: =IF('DATA ENTRY SHEET'!N36="","",(('DATA ENTRY SHEET'!N36)+('DATA ENTRY SHEET'!O36/60)+('DATA ENTRY SHEET'!P36/3600))+'ANGLE DETERMINATION'!V26) | AA26: =+IF('DATA ENTRY SHEET'!Q36="","",(('DATA ENTRY SHEET'!Q36)+('DATA ENTRY SHEET'!R36/60)+('DATA ENTRY SHEET'!S36/3600))+'ANGLE DETERMINATION'!V26) | AB26: =IF(W26="","",W26/2) | AC26: =IF(X26="","",X26/3) | AD26: =IF(Y26="","",Y26/4) | AE26: =IF(Z26="","",Z26/5) | AF26: =IF(AA26="","",AA26/6) | AG26: =IF('DATA ENTRY SHEET'!$U$5="RESET",SUM(AB26:AF26),IF('DATA ENTRY SHEET'!$U$5="ACC",SUM(AH26:AL26),IF('DATA ENTRY SHEET'!$U$5="AVE",SUM(AM26:AQ26),FALSE))) -> FALSE | AH26: =IF('DATA ENTRY SHEET'!E36="","",(SUM(('DATA ENTRY SHEET'!E36)+('DATA ENTRY SHEET'!F36/60)+('DATA ENTRY SHEET'!G36/3600)))/2) | AI26: =IF('DATA ENTRY SHEET'!H36="","",(SUM(('DATA ENTRY SHEET'!H36)+('DATA ENTRY SHEET'!I36/60)+('DATA ENTRY SHEET'!J36/3600)))/3) | AJ26: =IF('DATA ENTRY SHEET'!K36="","",(SUM(('DATA ENTRY SHEET'!K36)+('DATA ENTRY SHEET'!L36/60)+('DATA ENTRY SHEET'!M36/3600)))/4) | AK26: =IF('DATA ENTRY SHEET'!N36="","",(SUM(('DATA ENTRY SHEET'!N36)+('DATA ENTRY SHEET'!O36/60)+('DATA ENTRY SHEET'!P36/3600)))/5) | AL26: =IF('DATA ENTRY SHEET'!Q36="","",(SUM(('DATA ENTRY SHEET'!Q36)+('DATA ENTRY SHEET'!R36/60)+('DATA ENTRY SHEET'!S36/3600)))/6) | AM26: =IF('DATA ENTRY SHEET'!E36="","",('DATA ENTRY SHEET'!E36)+('DATA ENTRY SHEET'!F36/60)+('DATA ENTRY SHEET'!G36/3600)) | AN26: =IF('DATA ENTRY SHEET'!H36="","",('DATA ENTRY SHEET'!H36)+('DATA ENTRY SHEET'!I36/60)+('DATA ENTRY SHEET'!J36/3600)) | AO26: =IF('DATA ENTRY SHEET'!K36="","",('DATA ENTRY SHEET'!K36)+('DATA ENTRY SHEET'!L36/60)+('DATA ENTRY SHEET'!M36/3600)) | AP26: =IF('DATA ENTRY SHEET'!N36="","",('DATA ENTRY SHEET'!N36)+('DATA ENTRY SHEET'!O36/60)+('DATA ENTRY SHEET'!P36/3600)) | AQ26: =IF('DATA ENTRY SHEET'!Q36="","",('DATA ENTRY SHEET'!Q36)+('DATA ENTRY SHEET'!R36/60)+('DATA ENTRY SHEET'!S36/3600))
A27: 25 | B27: =(('DATA ENTRY SHEET'!B37)+('DATA ENTRY SHEET'!C37/60)+('DATA ENTRY SHEET'!D37/3600)) -> 0 | C27: =IF('DATA ENTRY SHEET'!E37="","",B27*2) | D27: =IF('DATA ENTRY SHEET'!H37="","",B27*3) | E27: =IF('DATA ENTRY SHEET'!K37="","",B27*4) | F27: =IF('DATA ENTRY SHEET'!N37="","",B27*5) | G27: =IF('DATA ENTRY SHEET'!Q37="","",B27*6) | H27: =SUM(C27:G27) -> 0 | I27: =IF(H27<=360,0,IF(AND(H27>360,H27<=720),360,IF(AND(H27>720,H27<=1080),720,IF(AND(H27>1080,H27<=1440),1080,IF(AND(H27>1440,H27<=1800),1440,IF(AND(H27>1800,H27<=2160),1800,"")))))) -> 0 | J27: =IF('DATA ENTRY SHEET'!E37="","",(('DATA ENTRY SHEET'!E37)+('DATA ENTRY SHEET'!F37/60)+('DATA ENTRY SHEET'!G37/3600))+I27) | K27: =IF('DATA ENTRY SHEET'!H37="","",(('DATA ENTRY SHEET'!H37)+('DATA ENTRY SHEET'!I37/60)+('DATA ENTRY SHEET'!J37/3600))+I27) | L27: =IF('DATA ENTRY SHEET'!K37="","",(('DATA ENTRY SHEET'!K37)+('DATA ENTRY SHEET'!L37/60)+('DATA ENTRY SHEET'!M37/3600))+I27) | M27: =IF('DATA ENTRY SHEET'!N37="","",(('DATA ENTRY SHEET'!N37)+('DATA ENTRY SHEET'!O37/60)+('DATA ENTRY SHEET'!P37/3600))+I27) | N27: =IF('DATA ENTRY SHEET'!Q37="","",(('DATA ENTRY SHEET'!Q37)+('DATA ENTRY SHEET'!R37/60)+('DATA ENTRY SHEET'!S37/3600))+I27) | O27: =IF(J27="","",J27/$J$2) | P27: =IF(K27="","",K27/$K$2) | Q27: =IF(L27="","",L27/$L$2) | R27: =IF(M27="","",M27/$M$2) | S27: =IF(N27="","",N27/$N$2) | T27: =IF(AND(O27="",P27="",Q27="",R27="",S27=""),"",SUM(O27:S27)) | U27: =IF(T27<(B27-1),360,IF(T27>(B27+1),-360,0)) -> -360 | V27: =I27+U27 -> -360 | W27: =IF('DATA ENTRY SHEET'!E37="","",(('DATA ENTRY SHEET'!E37)+('DATA ENTRY SHEET'!F37/60)+('DATA ENTRY SHEET'!G37/3600))+'ANGLE DETERMINATION'!V27) | X27: =IF('DATA ENTRY SHEET'!H37="","",(('DATA ENTRY SHEET'!H37)+('DATA ENTRY SHEET'!I37/60)+('DATA ENTRY SHEET'!J37/3600))+'ANGLE DETERMINATION'!V27) | Y27: =IF('DATA ENTRY SHEET'!K37="","",(('DATA ENTRY SHEET'!K37)+('DATA ENTRY SHEET'!L37/60)+('DATA ENTRY SHEET'!M37/3600))+'ANGLE DETERMINATION'!V27) | Z27: =IF('DATA ENTRY SHEET'!N37="","",(('DATA ENTRY SHEET'!N37)+('DATA ENTRY SHEET'!O37/60)+('DATA ENTRY SHEET'!P37/3600))+'ANGLE DETERMINATION'!V27) | AA27: =+IF('DATA ENTRY SHEET'!Q37="","",(('DATA ENTRY SHEET'!Q37)+('DATA ENTRY SHEET'!R37/60)+('DATA ENTRY SHEET'!S37/3600))+'ANGLE DETERMINATION'!V27) | AB27: =IF(W27="","",W27/2) | AC27: =IF(X27="","",X27/3) | AD27: =IF(Y27="","",Y27/4) | AE27: =IF(Z27="","",Z27/5) | AF27: =IF(AA27="","",AA27/6) | AG27: =IF('DATA ENTRY SHEET'!$U$5="RESET",SUM(AB27:AF27),IF('DATA ENTRY SHEET'!$U$5="ACC",SUM(AH27:AL27),IF('DATA ENTRY SHEET'!$U$5="AVE",SUM(AM27:AQ27),FALSE))) -> FALSE | AH27: =IF('DATA ENTRY SHEET'!E37="","",(SUM(('DATA ENTRY SHEET'!E37)+('DATA ENTRY SHEET'!F37/60)+('DATA ENTRY SHEET'!G37/3600)))/2) | AI27: =IF('DATA ENTRY SHEET'!H37="","",(SUM(('DATA ENTRY SHEET'!H37)+('DATA ENTRY SHEET'!I37/60)+('DATA ENTRY SHEET'!J37/3600)))/3) | AJ27: =IF('DATA ENTRY SHEET'!K37="","",(SUM(('DATA ENTRY SHEET'!K37)+('DATA ENTRY SHEET'!L37/60)+('DATA ENTRY SHEET'!M37/3600)))/4) | AK27: =IF('DATA ENTRY SHEET'!N37="","",(SUM(('DATA ENTRY SHEET'!N37)+('DATA ENTRY SHEET'!O37/60)+('DATA ENTRY SHEET'!P37/3600)))/5) | AL27: =IF('DATA ENTRY SHEET'!Q37="","",(SUM(('DATA ENTRY SHEET'!Q37)+('DATA ENTRY SHEET'!R37/60)+('DATA ENTRY SHEET'!S37/3600)))/6) | AM27: =IF('DATA ENTRY SHEET'!E37="","",('DATA ENTRY SHEET'!E37)+('DATA ENTRY SHEET'!F37/60)+('DATA ENTRY SHEET'!G37/3600)) | AN27: =IF('DATA ENTRY SHEET'!H37="","",('DATA ENTRY SHEET'!H37)+('DATA ENTRY SHEET'!I37/60)+('DATA ENTRY SHEET'!J37/3600)) | AO27: =IF('DATA ENTRY SHEET'!K37="","",('DATA ENTRY SHEET'!K37)+('DATA ENTRY SHEET'!L37/60)+('DATA ENTRY SHEET'!M37/3600)) | AP27: =IF('DATA ENTRY SHEET'!N37="","",('DATA ENTRY SHEET'!N37)+('DATA ENTRY SHEET'!O37/60)+('DATA ENTRY SHEET'!P37/3600)) | AQ27: =IF('DATA ENTRY SHEET'!Q37="","",('DATA ENTRY SHEET'!Q37)+('DATA ENTRY SHEET'!R37/60)+('DATA ENTRY SHEET'!S37/3600))
A28: 26 | B28: =(('DATA ENTRY SHEET'!B38)+('DATA ENTRY SHEET'!C38/60)+('DATA ENTRY SHEET'!D38/3600)) -> 0 | C28: =IF('DATA ENTRY SHEET'!E38="","",B28*2) | D28: =IF('DATA ENTRY SHEET'!H38="","",B28*3) | E28: =IF('DATA ENTRY SHEET'!K38="","",B28*4) | F28: =IF('DATA ENTRY SHEET'!N38="","",B28*5) | G28: =IF('DATA ENTRY SHEET'!Q38="","",B28*6) | H28: =SUM(C28:G28) -> 0 | I28: =IF(H28<=360,0,IF(AND(H28>360,H28<=720),360,IF(AND(H28>720,H28<=1080),720,IF(AND(H28>1080,H28<=1440),1080,IF(AND(H28>1440,H28<=1800),1440,IF(AND(H28>1800,H28<=2160),1800,"")))))) -> 0 | J28: =IF('DATA ENTRY SHEET'!E38="","",(('DATA ENTRY SHEET'!E38)+('DATA ENTRY SHEET'!F38/60)+('DATA ENTRY SHEET'!G38/3600))+I28) | K28: =IF('DATA ENTRY SHEET'!H38="","",(('DATA ENTRY SHEET'!H38)+('DATA ENTRY SHEET'!I38/60)+('DATA ENTRY SHEET'!J38/3600))+I28) | L28: =IF('DATA ENTRY SHEET'!K38="","",(('DATA ENTRY SHEET'!K38)+('DATA ENTRY SHEET'!L38/60)+('DATA ENTRY SHEET'!M38/3600))+I28) | M28: =IF('DATA ENTRY SHEET'!N38="","",(('DATA ENTRY SHEET'!N38)+('DATA ENTRY SHEET'!O38/60)+('DATA ENTRY SHEET'!P38/3600))+I28) | N28: =IF('DATA ENTRY SHEET'!Q38="","",(('DATA ENTRY SHEET'!Q38)+('DATA ENTRY SHEET'!R38/60)+('DATA ENTRY SHEET'!S38/3600))+I28) | O28: =IF(J28="","",J28/$J$2) | P28: =IF(K28="","",K28/$K$2) | Q28: =IF(L28="","",L28/$L$2) | R28: =IF(M28="","",M28/$M$2) | S28: =IF(N28="","",N28/$N$2) | T28: =IF(AND(O28="",P28="",Q28="",R28="",S28=""),"",SUM(O28:S28)) | U28: =IF(T28<(B28-1),360,IF(T28>(B28+1),-360,0)) -> -360 | V28: =I28+U28 -> -360 | W28: =IF('DATA ENTRY SHEET'!E38="","",(('DATA ENTRY SHEET'!E38)+('DATA ENTRY SHEET'!F38/60)+('DATA ENTRY SHEET'!G38/3600))+'ANGLE DETERMINATION'!V28) | X28: =IF('DATA ENTRY SHEET'!H38="","",(('DATA ENTRY SHEET'!H38)+('DATA ENTRY SHEET'!I38/60)+('DATA ENTRY SHEET'!J38/3600))+'ANGLE DETERMINATION'!V28) | Y28: =IF('DATA ENTRY SHEET'!K38="","",(('DATA ENTRY SHEET'!K38)+('DATA ENTRY SHEET'!L38/60)+('DATA ENTRY SHEET'!M38/3600))+'ANGLE DETERMINATION'!V28) | Z28: =IF('DATA ENTRY SHEET'!N38="","",(('DATA ENTRY SHEET'!N38)+('DATA ENTRY SHEET'!O38/60)+('DATA ENTRY SHEET'!P38/3600))+'ANGLE DETERMINATION'!V28) | AA28: =+IF('DATA ENTRY SHEET'!Q38="","",(('DATA ENTRY SHEET'!Q38)+('DATA ENTRY SHEET'!R38/60)+('DATA ENTRY SHEET'!S38/3600))+'ANGLE DETERMINATION'!V28) | AB28: =IF(W28="","",W28/2) | AC28: =IF(X28="","",X28/3) | AD28: =IF(Y28="","",Y28/4) | AE28: =IF(Z28="","",Z28/5) | AF28: =IF(AA28="","",AA28/6) | AG28: =IF('DATA ENTRY SHEET'!$U$5="RESET",SUM(AB28:AF28),IF('DATA ENTRY SHEET'!$U$5="ACC",SUM(AH28:AL28),IF('DATA ENTRY SHEET'!$U$5="AVE",SUM(AM28:AQ28),FALSE))) -> FALSE | AH28: =IF('DATA ENTRY SHEET'!E38="","",(SUM(('DATA ENTRY SHEET'!E38)+('DATA ENTRY SHEET'!F38/60)+('DATA ENTRY SHEET'!G38/3600)))/2) | AI28: =IF('DATA ENTRY SHEET'!H38="","",(SUM(('DATA ENTRY SHEET'!H38)+('DATA ENTRY SHEET'!I38/60)+('DATA ENTRY SHEET'!J38/3600)))/3) | AJ28: =IF('DATA ENTRY SHEET'!K38="","",(SUM(('DATA ENTRY SHEET'!K38)+('DATA ENTRY SHEET'!L38/60)+('DATA ENTRY SHEET'!M38/3600)))/4) | AK28: =IF('DATA ENTRY SHEET'!N38="","",(SUM(('DATA ENTRY SHEET'!N38)+('DATA ENTRY SHEET'!O38/60)+('DATA ENTRY SHEET'!P38/3600)))/5) | AL28: =IF('DATA ENTRY SHEET'!Q38="","",(SUM(('DATA ENTRY SHEET'!Q38)+('DATA ENTRY SHEET'!R38/60)+('DATA ENTRY SHEET'!S38/3600)))/6) | AM28: =IF('DATA ENTRY SHEET'!E38="","",('DATA ENTRY SHEET'!E38)+('DATA ENTRY SHEET'!F38/60)+('DATA ENTRY SHEET'!G38/3600)) | AN28: =IF('DATA ENTRY SHEET'!H38="","",('DATA ENTRY SHEET'!H38)+('DATA ENTRY SHEET'!I38/60)+('DATA ENTRY SHEET'!J38/3600)) | AO28: =IF('DATA ENTRY SHEET'!K38="","",('DATA ENTRY SHEET'!K38)+('DATA ENTRY SHEET'!L38/60)+('DATA ENTRY SHEET'!M38/3600)) | AP28: =IF('DATA ENTRY SHEET'!N38="","",('DATA ENTRY SHEET'!N38)+('DATA ENTRY SHEET'!O38/60)+('DATA ENTRY SHEET'!P38/3600)) | AQ28: =IF('DATA ENTRY SHEET'!Q38="","",('DATA ENTRY SHEET'!Q38)+('DATA ENTRY SHEET'!R38/60)+('DATA ENTRY SHEET'!S38/3600))
A29: 27 | B29: =(('DATA ENTRY SHEET'!B39)+('DATA ENTRY SHEET'!C39/60)+('DATA ENTRY SHEET'!D39/3600)) -> 0 | C29: =IF('DATA ENTRY SHEET'!E39="","",B29*2) | D29: =IF('DATA ENTRY SHEET'!H39="","",B29*3) | E29: =IF('DATA ENTRY SHEET'!K39="","",B29*4) | F29: =IF('DATA ENTRY SHEET'!N39="","",B29*5) | G29: =IF('DATA ENTRY SHEET'!Q39="","",B29*6) | H29: =SUM(C29:G29) -> 0 | I29: =IF(H29<=360,0,IF(AND(H29>360,H29<=720),360,IF(AND(H29>720,H29<=1080),720,IF(AND(H29>1080,H29<=1440),1080,IF(AND(H29>1440,H29<=1800),1440,IF(AND(H29>1800,H29<=2160),1800,"")))))) -> 0 | J29: =IF('DATA ENTRY SHEET'!E39="","",(('DATA ENTRY SHEET'!E39)+('DATA ENTRY SHEET'!F39/60)+('DATA ENTRY SHEET'!G39/3600))+I29) | K29: =IF('DATA ENTRY SHEET'!H39="","",(('DATA ENTRY SHEET'!H39)+('DATA ENTRY SHEET'!I39/60)+('DATA ENTRY SHEET'!J39/3600))+I29) | L29: =IF('DATA ENTRY SHEET'!K39="","",(('DATA ENTRY SHEET'!K39)+('DATA ENTRY SHEET'!L39/60)+('DATA ENTRY SHEET'!M39/3600))+I29) | M29: =IF('DATA ENTRY SHEET'!N39="","",(('DATA ENTRY SHEET'!N39)+('DATA ENTRY SHEET'!O39/60)+('DATA ENTRY SHEET'!#REF!/3600))+I29) | N29: =IF('DATA ENTRY SHEET'!Q39="","",(('DATA ENTRY SHEET'!Q39)+('DATA ENTRY SHEET'!R39/60)+('DATA ENTRY SHEET'!S39/3600))+I29) | O29: =IF(J29="","",J29/$J$2) | P29: =IF(K29="","",K29/$K$2) | Q29: =IF(L29="","",L29/$L$2) | R29: =IF(M29="","",M29/$M$2) | S29: =IF(N29="","",N29/$N$2) | T29: =IF(AND(O29="",P29="",Q29="",R29="",S29=""),"",SUM(O29:S29)) | U29: =IF(T29<(B29-1),360,IF(T29>(B29+1),-360,0)) -> -360 | V29: =I29+U29 -> -360 | W29: =IF('DATA ENTRY SHEET'!E39="","",(('DATA ENTRY SHEET'!E39)+('DATA ENTRY SHEET'!F39/60)+('DATA ENTRY SHEET'!G39/3600))+'ANGLE DETERMINATION'!V29) | X29: =IF('DATA ENTRY SHEET'!H39="","",(('DATA ENTRY SHEET'!H39)+('DATA ENTRY SHEET'!I39/60)+('DATA ENTRY SHEET'!J39/3600))+'ANGLE DETERMINATION'!V29) | Y29: =IF('DATA ENTRY SHEET'!K39="","",(('DATA ENTRY SHEET'!K39)+('DATA ENTRY SHEET'!L39/60)+('DATA ENTRY SHEET'!M39/3600))+'ANGLE DETERMINATION'!V29) | Z29: =IF('DATA ENTRY SHEET'!N39="","",(('DATA ENTRY SHEET'!N39)+('DATA ENTRY SHEET'!O39/60)+('DATA ENTRY SHEET'!#REF!/3600))+'ANGLE DETERMINATION'!V29) | AA29: =+IF('DATA ENTRY SHEET'!Q39="","",(('DATA ENTRY SHEET'!Q39)+('DATA ENTRY SHEET'!R39/60)+('DATA ENTRY SHEET'!S39/3600))+'ANGLE DETERMINATION'!V29) | AB29: =IF(W29="","",W29/2) | AC29: =IF(X29="","",X29/3) | AD29: =IF(Y29="","",Y29/4) | AE29: =IF(Z29="","",Z29/5) | AF29: =IF(AA29="","",AA29/6) | AG29: =IF('DATA ENTRY SHEET'!$U$5="RESET",SUM(AB29:AF29),IF('DATA ENTRY SHEET'!$U$5="ACC",SUM(AH29:AL29),IF('DATA ENTRY SHEET'!$U$5="AVE",SUM(AM29:AQ29),FALSE))) -> FALSE | AH29: =IF('DATA ENTRY SHEET'!E39="","",(SUM(('DATA ENTRY SHEET'!E39)+('DATA ENTRY SHEET'!F39/60)+('DATA ENTRY SHEET'!G39/3600)))/2) | AI29: =IF('DATA ENTRY SHEET'!H39="","",(SUM(('DATA ENTRY SHEET'!H39)+('DATA ENTRY SHEET'!I39/60)+('DATA ENTRY SHEET'!J39/3600)))/3) | AJ29: =IF('DATA ENTRY SHEET'!K39="","",(SUM(('DATA ENTRY SHEET'!K39)+('DATA ENTRY SHEET'!L39/60)+('DATA ENTRY SHEET'!M39/3600)))/4) | AK29: =IF('DATA ENTRY SHEET'!N39="","",(SUM(('DATA ENTRY SHEET'!N39)+('DATA ENTRY SHEET'!O39/60)+('DATA ENTRY SHEET'!#REF!/3600)))/5) | AL29: =IF('DATA ENTRY SHEET'!Q39="","",(SUM(('DATA ENTRY SHEET'!Q39)+('DATA ENTRY SHEET'!R39/60)+('DATA ENTRY SHEET'!S39/3600)))/6) | AM29: =IF('DATA ENTRY SHEET'!E39="","",('DATA ENTRY SHEET'!E39)+('DATA ENTRY SHEET'!F39/60)+('DATA ENTRY SHEET'!G39/3600)) | AN29: =IF('DATA ENTRY SHEET'!H39="","",('DATA ENTRY SHEET'!H39)+('DATA ENTRY SHEET'!I39/60)+('DATA ENTRY SHEET'!J39/3600)) | AO29: =IF('DATA ENTRY SHEET'!K39="","",('DATA ENTRY SHEET'!K39)+('DATA ENTRY SHEET'!L39/60)+('DATA ENTRY SHEET'!M39/3600)) | AP29: =IF('DATA ENTRY SHEET'!N39="","",('DATA ENTRY SHEET'!N39)+('DATA ENTRY SHEET'!O39/60)+('DATA ENTRY SHEET'!P39/3600)) | AQ29: =IF('DATA ENTRY SHEET'!Q39="","",('DATA ENTRY SHEET'!Q39)+('DATA ENTRY SHEET'!R39/60)+('DATA ENTRY SHEET'!S39/3600))
A30: 28 | B30: =(('DATA ENTRY SHEET'!B40)+('DATA ENTRY SHEET'!C40/60)+('DATA ENTRY SHEET'!D40/3600)) -> 0 | C30: =IF('DATA ENTRY SHEET'!E40="","",B30*2) | D30: =IF('DATA ENTRY SHEET'!H40="","",B30*3) | E30: =IF('DATA ENTRY SHEET'!K40="","",B30*4) | F30: =IF('DATA ENTRY SHEET'!N40="","",B30*5) | G30: =IF('DATA ENTRY SHEET'!Q40="","",B30*6) | H30: =SUM(C30:G30) -> 0 | I30: =IF(H30<=360,0,IF(AND(H30>360,H30<=720),360,IF(AND(H30>720,H30<=1080),720,IF(AND(H30>1080,H30<=1440),1080,IF(AND(H30>1440,H30<=1800),1440,IF(AND(H30>1800,H30<=2160),1800,"")))))) -> 0 | J30: =IF('DATA ENTRY SHEET'!E40="","",(('DATA ENTRY SHEET'!E40)+('DATA ENTRY SHEET'!F40/60)+('DATA ENTRY SHEET'!G40/3600))+I30) | K30: =IF('DATA ENTRY SHEET'!H40="","",(('DATA ENTRY SHEET'!H40)+('DATA ENTRY SHEET'!I40/60)+('DATA ENTRY SHEET'!J40/3600))+I30) | L30: =IF('DATA ENTRY SHEET'!K40="","",(('DATA ENTRY SHEET'!K40)+('DATA ENTRY SHEET'!L40/60)+('DATA ENTRY SHEET'!M40/3600))+I30) | M30: =IF('DATA ENTRY SHEET'!N40="","",(('DATA ENTRY SHEET'!N40)+('DATA ENTRY SHEET'!O40/60)+('DATA ENTRY SHEET'!P40/3600))+I30) | N30: =IF('DATA ENTRY SHEET'!Q40="","",(('DATA ENTRY SHEET'!Q40)+('DATA ENTRY SHEET'!R40/60)+('DATA ENTRY SHEET'!S40/3600))+I30) | O30: =IF(J30="","",J30/$J$2) | P30: =IF(K30="","",K30/$K$2) | Q30: =IF(L30="","",L30/$L$2) | R30: =IF(M30="","",M30/$M$2) | S30: =IF(N30="","",N30/$N$2) | T30: =IF(AND(O30="",P30="",Q30="",R30="",S30=""),"",SUM(O30:S30)) | U30: =IF(T30<(B30-1),360,IF(T30>(B30+1),-360,0)) -> -360 | V30: =I30+U30 -> -360 | W30: =IF('DATA ENTRY SHEET'!E40="","",(('DATA ENTRY SHEET'!E40)+('DATA ENTRY SHEET'!F40/60)+('DATA ENTRY SHEET'!G40/3600))+'ANGLE DETERMINATION'!V30) | X30: =IF('DATA ENTRY SHEET'!H40="","",(('DATA ENTRY SHEET'!H40)+('DATA ENTRY SHEET'!I40/60)+('DATA ENTRY SHEET'!J40/3600))+'ANGLE DETERMINATION'!V30) | Y30: =IF('DATA ENTRY SHEET'!K40="","",(('DATA ENTRY SHEET'!K40)+('DATA ENTRY SHEET'!L40/60)+('DATA ENTRY SHEET'!M40/3600))+'ANGLE DETERMINATION'!V30) | Z30: =IF('DATA ENTRY SHEET'!N40="","",(('DATA ENTRY SHEET'!N40)+('DATA ENTRY SHEET'!O40/60)+('DATA ENTRY SHEET'!P40/3600))+'ANGLE DETERMINATION'!V30) | AA30: =+IF('DATA ENTRY SHEET'!Q40="","",(('DATA ENTRY SHEET'!Q40)+('DATA ENTRY SHEET'!R40/60)+('DATA ENTRY SHEET'!S40/3600))+'ANGLE DETERMINATION'!V30) | AB30: =IF(W30="","",W30/2) | AC30: =IF(X30="","",X30/3) | AD30: =IF(Y30="","",Y30/4) | AE30: =IF(Z30="","",Z30/5) | AF30: =IF(AA30="","",AA30/6) | AG30: =IF('DATA ENTRY SHEET'!$U$5="RESET",SUM(AB30:AF30),IF('DATA ENTRY SHEET'!$U$5="ACC",SUM(AH30:AL30),IF('DATA ENTRY SHEET'!$U$5="AVE",SUM(AM30:AQ30),FALSE))) -> FALSE | AH30: =IF('DATA ENTRY SHEET'!E40="","",(SUM(('DATA ENTRY SHEET'!E40)+('DATA ENTRY SHEET'!F40/60)+('DATA ENTRY SHEET'!G40/3600)))/2) | AI30: =IF('DATA ENTRY SHEET'!H40="","",(SUM(('DATA ENTRY SHEET'!H40)+('DATA ENTRY SHEET'!I40/60)+('DATA ENTRY SHEET'!J40/3600)))/3) | AJ30: =IF('DATA ENTRY SHEET'!K40="","",(SUM(('DATA ENTRY SHEET'!K40)+('DATA ENTRY SHEET'!L40/60)+('DATA ENTRY SHEET'!M40/3600)))/4) | AK30: =IF('DATA ENTRY SHEET'!N40="","",(SUM(('DATA ENTRY SHEET'!N40)+('DATA ENTRY SHEET'!O40/60)+('DATA ENTRY SHEET'!P40/3600)))/5) | AL30: =IF('DATA ENTRY SHEET'!Q40="","",(SUM(('DATA ENTRY SHEET'!Q40)+('DATA ENTRY SHEET'!R40/60)+('DATA ENTRY SHEET'!S40/3600)))/6) | AM30: =IF('DATA ENTRY SHEET'!E40="","",('DATA ENTRY SHEET'!E40)+('DATA ENTRY SHEET'!F40/60)+('DATA ENTRY SHEET'!G40/3600)) | AN30: =IF('DATA ENTRY SHEET'!H40="","",('DATA ENTRY SHEET'!H40)+('DATA ENTRY SHEET'!I40/60)+('DATA ENTRY SHEET'!J40/3600)) | AO30: =IF('DATA ENTRY SHEET'!K40="","",('DATA ENTRY SHEET'!K40)+('DATA ENTRY SHEET'!L40/60)+('DATA ENTRY SHEET'!M40/3600)) | AP30: =IF('DATA ENTRY SHEET'!N40="","",('DATA ENTRY SHEET'!N40)+('DATA ENTRY SHEET'!O40/60)+('DATA ENTRY SHEET'!P40/3600)) | AQ30: =IF('DATA ENTRY SHEET'!Q40="","",('DATA ENTRY SHEET'!Q40)+('DATA ENTRY SHEET'!R40/60)+('DATA ENTRY SHEET'!S40/3600))
A31: 29 | B31: =(('DATA ENTRY SHEET'!B41)+('DATA ENTRY SHEET'!C41/60)+('DATA ENTRY SHEET'!D41/3600)) -> 0 | C31: =IF('DATA ENTRY SHEET'!E41="","",B31*2) | D31: =IF('DATA ENTRY SHEET'!H41="","",B31*3) | E31: =IF('DATA ENTRY SHEET'!K41="","",B31*4) | F31: =IF('DATA ENTRY SHEET'!N41="","",B31*5) | G31: =IF('DATA ENTRY SHEET'!Q41="","",B31*6) | H31: =SUM(C31:G31) -> 0 | I31: =IF(H31<=360,0,IF(AND(H31>360,H31<=720),360,IF(AND(H31>720,H31<=1080),720,IF(AND(H31>1080,H31<=1440),1080,IF(AND(H31>1440,H31<=1800),1440,IF(AND(H31>1800,H31<=2160),1800,"")))))) -> 0 | J31: =IF('DATA ENTRY SHEET'!E41="","",(('DATA ENTRY SHEET'!E41)+('DATA ENTRY SHEET'!F41/60)+('DATA ENTRY SHEET'!G41/3600))+I31) | K31: =IF('DATA ENTRY SHEET'!H41="","",(('DATA ENTRY SHEET'!H41)+('DATA ENTRY SHEET'!I41/60)+('DATA ENTRY SHEET'!J41/3600))+I31) | L31: =IF('DATA ENTRY SHEET'!K41="","",(('DATA ENTRY SHEET'!K41)+('DATA ENTRY SHEET'!L41/60)+('DATA ENTRY SHEET'!M41/3600))+I31) | M31: =IF('DATA ENTRY SHEET'!N41="","",(('DATA ENTRY SHEET'!N41)+('DATA ENTRY SHEET'!O41/60)+('DATA ENTRY SHEET'!P41/3600))+I31) | N31: =IF('DATA ENTRY SHEET'!Q41="","",(('DATA ENTRY SHEET'!Q41)+('DATA ENTRY SHEET'!R41/60)+('DATA ENTRY SHEET'!S41/3600))+I31) | O31: =IF(J31="","",J31/$J$2) | P31: =IF(K31="","",K31/$K$2) | Q31: =IF(L31="","",L31/$L$2) | R31: =IF(M31="","",M31/$M$2) | S31: =IF(N31="","",N31/$N$2) | T31: =IF(AND(O31="",P31="",Q31="",R31="",S31=""),"",SUM(O31:S31)) | U31: =IF(T31<(B31-1),360,IF(T31>(B31+1),-360,0)) -> -360 | V31: =I31+U31 -> -360 | W31: =IF('DATA ENTRY SHEET'!E41="","",(('DATA ENTRY SHEET'!E41)+('DATA ENTRY SHEET'!F41/60)+('DATA ENTRY SHEET'!G41/3600))+'ANGLE DETERMINATION'!V31) | X31: =IF('DATA ENTRY SHEET'!H41="","",(('DATA ENTRY SHEET'!H41)+('DATA ENTRY SHEET'!I41/60)+('DATA ENTRY SHEET'!J41/3600))+'ANGLE DETERMINATION'!V31) | Y31: =IF('DATA ENTRY SHEET'!K41="","",(('DATA ENTRY SHEET'!K41)+('DATA ENTRY SHEET'!L41/60)+('DATA ENTRY SHEET'!M41/3600))+'ANGLE DETERMINATION'!V31) | Z31: =IF('DATA ENTRY SHEET'!N41="","",(('DATA ENTRY SHEET'!N41)+('DATA ENTRY SHEET'!O41/60)+('DATA ENTRY SHEET'!P41/3600))+'ANGLE DETERMINATION'!V31) | AA31: =+IF('DATA ENTRY SHEET'!Q41="","",(('DATA ENTRY SHEET'!Q41)+('DATA ENTRY SHEET'!R41/60)+('DATA ENTRY SHEET'!S41/3600))+'ANGLE DETERMINATION'!V31) | AB31: =IF(W31="","",W31/2) | AC31: =IF(X31="","",X31/3) | AD31: =IF(Y31="","",Y31/4) | AE31: =IF(Z31="","",Z31/5) | AF31: =IF(AA31="","",AA31/6) | AG31: =IF('DATA ENTRY SHEET'!$U$5="RESET",SUM(AB31:AF31),IF('DATA ENTRY SHEET'!$U$5="ACC",SUM(AH31:AL31),IF('DATA ENTRY SHEET'!$U$5="AVE",SUM(AM31:AQ31),FALSE))) -> FALSE | AH31: =IF('DATA ENTRY SHEET'!E41="","",(SUM(('DATA ENTRY SHEET'!E41)+('DATA ENTRY SHEET'!F41/60)+('DATA ENTRY SHEET'!G41/3600)))/2) | AI31: =IF('DATA ENTRY SHEET'!H41="","",(SUM(('DATA ENTRY SHEET'!H41)+('DATA ENTRY SHEET'!I41/60)+('DATA ENTRY SHEET'!J41/3600)))/3) | AJ31: =IF('DATA ENTRY SHEET'!K41="","",(SUM(('DATA ENTRY SHEET'!K41)+('DATA ENTRY SHEET'!L41/60)+('DATA ENTRY SHEET'!M41/3600)))/4) | AK31: =IF('DATA ENTRY SHEET'!N41="","",(SUM(('DATA ENTRY SHEET'!N41)+('DATA ENTRY SHEET'!O41/60)+('DATA ENTRY SHEET'!P41/3600)))/5) | AL31: =IF('DATA ENTRY SHEET'!Q41="","",(SUM(('DATA ENTRY SHEET'!Q41)+('DATA ENTRY SHEET'!R41/60)+('DATA ENTRY SHEET'!S41/3600)))/6) | AM31: =IF('DATA ENTRY SHEET'!E41="","",('DATA ENTRY SHEET'!E41)+('DATA ENTRY SHEET'!F41/60)+('DATA ENTRY SHEET'!G41/3600)) | AN31: =IF('DATA ENTRY SHEET'!H41="","",('DATA ENTRY SHEET'!H41)+('DATA ENTRY SHEET'!I41/60)+('DATA ENTRY SHEET'!J41/3600)) | AO31: =IF('DATA ENTRY SHEET'!K41="","",('DATA ENTRY SHEET'!K41)+('DATA ENTRY SHEET'!L41/60)+('DATA ENTRY SHEET'!M41/3600)) | AP31: =IF('DATA ENTRY SHEET'!N41="","",('DATA ENTRY SHEET'!N41)+('DATA ENTRY SHEET'!O41/60)+('DATA ENTRY SHEET'!P41/3600)) | AQ31: =IF('DATA ENTRY SHEET'!Q41="","",('DATA ENTRY SHEET'!Q41)+('DATA ENTRY SHEET'!R41/60)+('DATA ENTRY SHEET'!S41/3600))
A32: 30 | B32: =(('DATA ENTRY SHEET'!B42)+('DATA ENTRY SHEET'!C42/60)+('DATA ENTRY SHEET'!D42/3600)) -> 0 | C32: =IF('DATA ENTRY SHEET'!E42="","",B32*2) | D32: =IF('DATA ENTRY SHEET'!H42="","",B32*3) | E32: =IF('DATA ENTRY SHEET'!K42="","",B32*4) | F32: =IF('DATA ENTRY SHEET'!N42="","",B32*5) | G32: =IF('DATA ENTRY SHEET'!Q42="","",B32*6) | H32: =SUM(C32:G32) -> 0 | I32: =IF(H32<=360,0,IF(AND(H32>360,H32<=720),360,IF(AND(H32>720,H32<=1080),720,IF(AND(H32>1080,H32<=1440),1080,IF(AND(H32>1440,H32<=1800),1440,IF(AND(H32>1800,H32<=2160),1800,"")))))) -> 0 | J32: =IF('DATA ENTRY SHEET'!E42="","",(('DATA ENTRY SHEET'!E42)+('DATA ENTRY SHEET'!F42/60)+('DATA ENTRY SHEET'!G42/3600))+I32) | K32: =IF('DATA ENTRY SHEET'!H42="","",(('DATA ENTRY SHEET'!H42)+('DATA ENTRY SHEET'!I42/60)+('DATA ENTRY SHEET'!J42/3600))+I32) | L32: =IF('DATA ENTRY SHEET'!K42="","",(('DATA ENTRY SHEET'!K42)+('DATA ENTRY SHEET'!L42/60)+('DATA ENTRY SHEET'!M42/3600))+I32) | M32: =IF('DATA ENTRY SHEET'!N42="","",(('DATA ENTRY SHEET'!N42)+('DATA ENTRY SHEET'!O42/60)+('DATA ENTRY SHEET'!P42/3600))+I32) | N32: =IF('DATA ENTRY SHEET'!Q42="","",(('DATA ENTRY SHEET'!Q42)+('DATA ENTRY SHEET'!R42/60)+('DATA ENTRY SHEET'!S42/3600))+I32) | O32: =IF(J32="","",J32/$J$2) | P32: =IF(K32="","",K32/$K$2) | Q32: =IF(L32="","",L32/$L$2) | R32: =IF(M32="","",M32/$M$2) | S32: =IF(N32="","",N32/$N$2) | T32: =IF(AND(O32="",P32="",Q32="",R32="",S32=""),"",SUM(O32:S32)) | U32: =IF(T32<(B32-1),360,IF(T32>(B32+1),-360,0)) -> -360 | V32: =I32+U32 -> -360 | W32: =IF('DATA ENTRY SHEET'!E42="","",(('DATA ENTRY SHEET'!E42)+('DATA ENTRY SHEET'!F42/60)+('DATA ENTRY SHEET'!G42/3600))+'ANGLE DETERMINATION'!V32) | X32: =IF('DATA ENTRY SHEET'!H42="","",(('DATA ENTRY SHEET'!H42)+('DATA ENTRY SHEET'!I42/60)+('DATA ENTRY SHEET'!J42/3600))+'ANGLE DETERMINATION'!V32) | Y32: =IF('DATA ENTRY SHEET'!K42="","",(('DATA ENTRY SHEET'!K42)+('DATA ENTRY SHEET'!L42/60)+('DATA ENTRY SHEET'!M42/3600))+'ANGLE DETERMINATION'!V32) | Z32: =IF('DATA ENTRY SHEET'!N42="","",(('DATA ENTRY SHEET'!N42)+('DATA ENTRY SHEET'!O42/60)+('DATA ENTRY SHEET'!P42/3600))+'ANGLE DETERMINATION'!V32) | AA32: =+IF('DATA ENTRY SHEET'!Q42="","",(('DATA ENTRY SHEET'!Q42)+('DATA ENTRY SHEET'!R42/60)+('DATA ENTRY SHEET'!S42/3600))+'ANGLE DETERMINATION'!V32) | AB32: =IF(W32="","",W32/2) | AC32: =IF(X32="","",X32/3) | AD32: =IF(Y32="","",Y32/4) | AE32: =IF(Z32="","",Z32/5) | AF32: =IF(AA32="","",AA32/6) | AG32: =IF('DATA ENTRY SHEET'!$U$5="RESET",SUM(AB32:AF32),IF('DATA ENTRY SHEET'!$U$5="ACC",SUM(AH32:AL32),IF('DATA ENTRY SHEET'!$U$5="AVE",SUM(AM32:AQ32),FALSE))) -> FALSE | AH32: =IF('DATA ENTRY SHEET'!E42="","",(SUM(('DATA ENTRY SHEET'!E42)+('DATA ENTRY SHEET'!F42/60)+('DATA ENTRY SHEET'!G42/3600)))/2) | AI32: =IF('DATA ENTRY SHEET'!H42="","",(SUM(('DATA ENTRY SHEET'!H42)+('DATA ENTRY SHEET'!I42/60)+('DATA ENTRY SHEET'!J42/3600)))/3) | AJ32: =IF('DATA ENTRY SHEET'!K42="","",(SUM(('DATA ENTRY SHEET'!K42)+('DATA ENTRY SHEET'!L42/60)+('DATA ENTRY SHEET'!M42/3600)))/4) | AK32: =IF('DATA ENTRY SHEET'!N42="","",(SUM(('DATA ENTRY SHEET'!N42)+('DATA ENTRY SHEET'!O42/60)+('DATA ENTRY SHEET'!P42/3600)))/5) | AL32: =IF('DATA ENTRY SHEET'!Q42="","",(SUM(('DATA ENTRY SHEET'!Q42)+('DATA ENTRY SHEET'!R42/60)+('DATA ENTRY SHEET'!S42/3600)))/6) | AM32: =IF('DATA ENTRY SHEET'!E42="","",('DATA ENTRY SHEET'!E42)+('DATA ENTRY SHEET'!F42/60)+('DATA ENTRY SHEET'!G42/3600)) | AN32: =IF('DATA ENTRY SHEET'!H42="","",('DATA ENTRY SHEET'!H42)+('DATA ENTRY SHEET'!I42/60)+('DATA ENTRY SHEET'!J42/3600)) | AO32: =IF('DATA ENTRY SHEET'!K42="","",('DATA ENTRY SHEET'!K42)+('DATA ENTRY SHEET'!L42/60)+('DATA ENTRY SHEET'!M42/3600)) | AP32: =IF('DATA ENTRY SHEET'!N42="","",('DATA ENTRY SHEET'!N42)+('DATA ENTRY SHEET'!O42/60)+('DATA ENTRY SHEET'!P42/3600)) | AQ32: =IF('DATA ENTRY SHEET'!Q42="","",('DATA ENTRY SHEET'!Q42)+('DATA ENTRY SHEET'!R42/60)+('DATA ENTRY SHEET'!S42/3600))
A33: 31 | B33: =(('DATA ENTRY SHEET'!B43)+('DATA ENTRY SHEET'!C43/60)+('DATA ENTRY SHEET'!D43/3600)) -> 0 | C33: =IF('DATA ENTRY SHEET'!E43="","",B33*2) | D33: =IF('DATA ENTRY SHEET'!H43="","",B33*3) | E33: =IF('DATA ENTRY SHEET'!K43="","",B33*4) | F33: =IF('DATA ENTRY SHEET'!N43="","",B33*5) | G33: =IF('DATA ENTRY SHEET'!Q43="","",B33*6) | H33: =SUM(C33:G33) -> 0 | I33: =IF(H33<=360,0,IF(AND(H33>360,H33<=720),360,IF(AND(H33>720,H33<=1080),720,IF(AND(H33>1080,H33<=1440),1080,IF(AND(H33>1440,H33<=1800),1440,IF(AND(H33>1800,H33<=2160),1800,"")))))) -> 0 | J33: =IF('DATA ENTRY SHEET'!E43="","",(('DATA ENTRY SHEET'!E43)+('DATA ENTRY SHEET'!F43/60)+('DATA ENTRY SHEET'!G43/3600))+I33) | K33: =IF('DATA ENTRY SHEET'!H43="","",(('DATA ENTRY SHEET'!H43)+('DATA ENTRY SHEET'!I43/60)+('DATA ENTRY SHEET'!J43/3600))+I33) | L33: =IF('DATA ENTRY SHEET'!K43="","",(('DATA ENTRY SHEET'!K43)+('DATA ENTRY SHEET'!L43/60)+('DATA ENTRY SHEET'!M43/3600))+I33) | M33: =IF('DATA ENTRY SHEET'!N43="","",(('DATA ENTRY SHEET'!N43)+('DATA ENTRY SHEET'!O43/60)+('DATA ENTRY SHEET'!P43/3600))+I33) | N33: =IF('DATA ENTRY SHEET'!Q43="","",(('DATA ENTRY SHEET'!Q43)+('DATA ENTRY SHEET'!R43/60)+('DATA ENTRY SHEET'!S43/3600))+I33) | O33: =IF(J33="","",J33/$J$2) | P33: =IF(K33="","",K33/$K$2) | Q33: =IF(L33="","",L33/$L$2) | R33: =IF(M33="","",M33/$M$2) | S33: =IF(N33="","",N33/$N$2) | T33: =IF(AND(O33="",P33="",Q33="",R33="",S33=""),"",SUM(O33:S33)) | U33: =IF(T33<(B33-1),360,IF(T33>(B33+1),-360,0)) -> -360 | V33: =I33+U33 -> -360 | W33: =IF('DATA ENTRY SHEET'!E43="","",(('DATA ENTRY SHEET'!E43)+('DATA ENTRY SHEET'!F43/60)+('DATA ENTRY SHEET'!G43/3600))+'ANGLE DETERMINATION'!V33) | X33: =IF('DATA ENTRY SHEET'!H43="","",(('DATA ENTRY SHEET'!H43)+('DATA ENTRY SHEET'!I43/60)+('DATA ENTRY SHEET'!J43/3600))+'ANGLE DETERMINATION'!V33) | Y33: =IF('DATA ENTRY SHEET'!K43="","",(('DATA ENTRY SHEET'!K43)+('DATA ENTRY SHEET'!L43/60)+('DATA ENTRY SHEET'!M43/3600))+'ANGLE DETERMINATION'!V33) | Z33: =IF('DATA ENTRY SHEET'!N43="","",(('DATA ENTRY SHEET'!N43)+('DATA ENTRY SHEET'!O43/60)+('DATA ENTRY SHEET'!P43/3600))+'ANGLE DETERMINATION'!V33) | AA33: =+IF('DATA ENTRY SHEET'!Q43="","",(('DATA ENTRY SHEET'!Q43)+('DATA ENTRY SHEET'!R43/60)+('DATA ENTRY SHEET'!S43/3600))+'ANGLE DETERMINATION'!V33) | AB33: =IF(W33="","",W33/2) | AC33: =IF(X33="","",X33/3) | AD33: =IF(Y33="","",Y33/4) | AE33: =IF(Z33="","",Z33/5) | AF33: =IF(AA33="","",AA33/6) | AG33: =IF('DATA ENTRY SHEET'!$U$5="RESET",SUM(AB33:AF33),IF('DATA ENTRY SHEET'!$U$5="ACC",SUM(AH33:AL33),IF('DATA ENTRY SHEET'!$U$5="AVE",SUM(AM33:AQ33),FALSE))) -> FALSE | AH33: =IF('DATA ENTRY SHEET'!E43="","",(SUM(('DATA ENTRY SHEET'!E43)+('DATA ENTRY SHEET'!F43/60)+('DATA ENTRY SHEET'!G43/3600)))/2) | AI33: =IF('DATA ENTRY SHEET'!H43="","",(SUM(('DATA ENTRY SHEET'!H43)+('DATA ENTRY SHEET'!I43/60)+('DATA ENTRY SHEET'!J43/3600)))/3) | AJ33: =IF('DATA ENTRY SHEET'!K43="","",(SUM(('DATA ENTRY SHEET'!K43)+('DATA ENTRY SHEET'!L43/60)+('DATA ENTRY SHEET'!M43/3600)))/4) | AK33: =IF('DATA ENTRY SHEET'!N43="","",(SUM(('DATA ENTRY SHEET'!N43)+('DATA ENTRY SHEET'!O43/60)+('DATA ENTRY SHEET'!P43/3600)))/5) | AL33: =IF('DATA ENTRY SHEET'!Q43="","",(SUM(('DATA ENTRY SHEET'!Q43)+('DATA ENTRY SHEET'!R43/60)+('DATA ENTRY SHEET'!S43/3600)))/6) | AM33: =IF('DATA ENTRY SHEET'!E43="","",('DATA ENTRY SHEET'!E43)+('DATA ENTRY SHEET'!F43/60)+('DATA ENTRY SHEET'!G43/3600)) | AN33: =IF('DATA ENTRY SHEET'!H43="","",('DATA ENTRY SHEET'!H43)+('DATA ENTRY SHEET'!I43/60)+('DATA ENTRY SHEET'!J43/3600)) | AO33: =IF('DATA ENTRY SHEET'!K43="","",('DATA ENTRY SHEET'!K43)+('DATA ENTRY SHEET'!L43/60)+('DATA ENTRY SHEET'!M43/3600)) | AP33: =IF('DATA ENTRY SHEET'!N43="","",('DATA ENTRY SHEET'!N43)+('DATA ENTRY SHEET'!O43/60)+('DATA ENTRY SHEET'!P43/3600)) | AQ33: =IF('DATA ENTRY SHEET'!Q43="","",('DATA ENTRY SHEET'!Q43)+('DATA ENTRY SHEET'!R43/60)+('DATA ENTRY SHEET'!S43/3600))
A34: 32 | B34: =(('DATA ENTRY SHEET'!B44)+('DATA ENTRY SHEET'!C44/60)+('DATA ENTRY SHEET'!D44/3600)) -> 0 | C34: =IF('DATA ENTRY SHEET'!E44="","",B34*2) | D34: =IF('DATA ENTRY SHEET'!H44="","",B34*3) | E34: =IF('DATA ENTRY SHEET'!K44="","",B34*4) | F34: =IF('DATA ENTRY SHEET'!N44="","",B34*5) | G34: =IF('DATA ENTRY SHEET'!Q44="","",B34*6) | H34: =SUM(C34:G34) -> 0 | I34: =IF(H34<=360,0,IF(AND(H34>360,H34<=720),360,IF(AND(H34>720,H34<=1080),720,IF(AND(H34>1080,H34<=1440),1080,IF(AND(H34>1440,H34<=1800),1440,IF(AND(H34>1800,H34<=2160),1800,"")))))) -> 0 | J34: =IF('DATA ENTRY SHEET'!E44="","",(('DATA ENTRY SHEET'!E44)+('DATA ENTRY SHEET'!F44/60)+('DATA ENTRY SHEET'!G44/3600))+I34) | K34: =IF('DATA ENTRY SHEET'!H44="","",(('DATA ENTRY SHEET'!H44)+('DATA ENTRY SHEET'!I44/60)+('DATA ENTRY SHEET'!J44/3600))+I34) | L34: =IF('DATA ENTRY SHEET'!K44="","",(('DATA ENTRY SHEET'!K44)+('DATA ENTRY SHEET'!L44/60)+('DATA ENTRY SHEET'!M44/3600))+I34) | M34: =IF('DATA ENTRY SHEET'!N44="","",(('DATA ENTRY SHEET'!N44)+('DATA ENTRY SHEET'!O44/60)+('DATA ENTRY SHEET'!P44/3600))+I34) | N34: =IF('DATA ENTRY SHEET'!Q44="","",(('DATA ENTRY SHEET'!Q44)+('DATA ENTRY SHEET'!R44/60)+('DATA ENTRY SHEET'!S44/3600))+I34) | O34: =IF(J34="","",J34/$J$2) | P34: =IF(K34="","",K34/$K$2) | Q34: =IF(L34="","",L34/$L$2) | R34: =IF(M34="","",M34/$M$2) | S34: =IF(N34="","",N34/$N$2) | T34: =IF(AND(O34="",P34="",Q34="",R34="",S34=""),"",SUM(O34:S34)) | U34: =IF(T34<(B34-1),360,IF(T34>(B34+1),-360,0)) -> -360 | V34: =I34+U34 -> -360 | W34: =IF('DATA ENTRY SHEET'!E44="","",(('DATA ENTRY SHEET'!E44)+('DATA ENTRY SHEET'!F44/60)+('DATA ENTRY SHEET'!G44/3600))+'ANGLE DETERMINATION'!V34) | X34: =IF('DATA ENTRY SHEET'!H44="","",(('DATA ENTRY SHEET'!H44)+('DATA ENTRY SHEET'!I44/60)+('DATA ENTRY SHEET'!J44/3600))+'ANGLE DETERMINATION'!V34) | Y34: =IF('DATA ENTRY SHEET'!K44="","",(('DATA ENTRY SHEET'!K44)+('DATA ENTRY SHEET'!L44/60)+('DATA ENTRY SHEET'!M44/3600))+'ANGLE DETERMINATION'!V34) | Z34: =IF('DATA ENTRY SHEET'!N44="","",(('DATA ENTRY SHEET'!N44)+('DATA ENTRY SHEET'!O44/60)+('DATA ENTRY SHEET'!P44/3600))+'ANGLE DETERMINATION'!V34) | AA34: =+IF('DATA ENTRY SHEET'!Q44="","",(('DATA ENTRY SHEET'!Q44)+('DATA ENTRY SHEET'!R44/60)+('DATA ENTRY SHEET'!S44/3600))+'ANGLE DETERMINATION'!V34) | AB34: =IF(W34="","",W34/2) | AC34: =IF(X34="","",X34/3) | AD34: =IF(Y34="","",Y34/4) | AE34: =IF(Z34="","",Z34/5) | AF34: =IF(AA34="","",AA34/6) | AG34: =IF('DATA ENTRY SHEET'!$U$5="RESET",SUM(AB34:AF34),IF('DATA ENTRY SHEET'!$U$5="ACC",SUM(AH34:AL34),IF('DATA ENTRY SHEET'!$U$5="AVE",SUM(AM34:AQ34),FALSE))) -> FALSE | AH34: =IF('DATA ENTRY SHEET'!E44="","",(SUM(('DATA ENTRY SHEET'!E44)+('DATA ENTRY SHEET'!F44/60)+('DATA ENTRY SHEET'!G44/3600)))/2) | AI34: =IF('DATA ENTRY SHEET'!H44="","",(SUM(('DATA ENTRY SHEET'!H44)+('DATA ENTRY SHEET'!I44/60)+('DATA ENTRY SHEET'!J44/3600)))/3) | AJ34: =IF('DATA ENTRY SHEET'!K44="","",(SUM(('DATA ENTRY SHEET'!K44)+('DATA ENTRY SHEET'!L44/60)+('DATA ENTRY SHEET'!M44/3600)))/4) | AK34: =IF('DATA ENTRY SHEET'!N44="","",(SUM(('DATA ENTRY SHEET'!N44)+('DATA ENTRY SHEET'!O44/60)+('DATA ENTRY SHEET'!P44/3600)))/5) | AL34: =IF('DATA ENTRY SHEET'!Q44="","",(SUM(('DATA ENTRY SHEET'!Q44)+('DATA ENTRY SHEET'!R44/60)+('DATA ENTRY SHEET'!S44/3600)))/6) | AM34: =IF('DATA ENTRY SHEET'!E44="","",('DATA ENTRY SHEET'!E44)+('DATA ENTRY SHEET'!F44/60)+('DATA ENTRY SHEET'!G44/3600)) | AN34: =IF('DATA ENTRY SHEET'!H44="","",('DATA ENTRY SHEET'!H44)+('DATA ENTRY SHEET'!I44/60)+('DATA ENTRY SHEET'!J44/3600)) | AO34: =IF('DATA ENTRY SHEET'!K44="","",('DATA ENTRY SHEET'!K44)+('DATA ENTRY SHEET'!L44/60)+('DATA ENTRY SHEET'!M44/3600)) | AP34: =IF('DATA ENTRY SHEET'!N44="","",('DATA ENTRY SHEET'!N44)+('DATA ENTRY SHEET'!O44/60)+('DATA ENTRY SHEET'!P44/3600)) | AQ34: =IF('DATA ENTRY SHEET'!Q44="","",('DATA ENTRY SHEET'!Q44)+('DATA ENTRY SHEET'!R44/60)+('DATA ENTRY SHEET'!S44/3600))
A35: 33 | B35: =(('DATA ENTRY SHEET'!B45)+('DATA ENTRY SHEET'!C45/60)+('DATA ENTRY SHEET'!D45/3600)) -> 0 | C35: =IF('DATA ENTRY SHEET'!E45="","",B35*2) | D35: =IF('DATA ENTRY SHEET'!H45="","",B35*3) | E35: =IF('DATA ENTRY SHEET'!K45="","",B35*4) | F35: =IF('DATA ENTRY SHEET'!N45="","",B35*5) | G35: =IF('DATA ENTRY SHEET'!Q45="","",B35*6) | H35: =SUM(C35:G35) -> 0 | I35: =IF(H35<=360,0,IF(AND(H35>360,H35<=720),360,IF(AND(H35>720,H35<=1080),720,IF(AND(H35>1080,H35<=1440),1080,IF(AND(H35>1440,H35<=1800),1440,IF(AND(H35>1800,H35<=2160),1800,"")))))) -> 0 | J35: =IF('DATA ENTRY SHEET'!E45="","",(('DATA ENTRY SHEET'!E45)+('DATA ENTRY SHEET'!F45/60)+('DATA ENTRY SHEET'!G45/3600))+I35) | K35: =IF('DATA ENTRY SHEET'!H45="","",(('DATA ENTRY SHEET'!H45)+('DATA ENTRY SHEET'!I45/60)+('DATA ENTRY SHEET'!J45/3600))+I35) | L35: =IF('DATA ENTRY SHEET'!K45="","",(('DATA ENTRY SHEET'!K45)+('DATA ENTRY SHEET'!L45/60)+('DATA ENTRY SHEET'!M45/3600))+I35) | M35: =IF('DATA ENTRY SHEET'!N45="","",(('DATA ENTRY SHEET'!N45)+('DATA ENTRY SHEET'!O45/60)+('DATA ENTRY SHEET'!P45/3600))+I35) | N35: =IF('DATA ENTRY SHEET'!Q45="","",(('DATA ENTRY SHEET'!Q45)+('DATA ENTRY SHEET'!R45/60)+('DATA ENTRY SHEET'!S45/3600))+I35) | O35: =IF(J35="","",J35/$J$2) | P35: =IF(K35="","",K35/$K$2) | Q35: =IF(L35="","",L35/$L$2) | R35: =IF(M35="","",M35/$M$2) | S35: =IF(N35="","",N35/$N$2) | T35: =IF(AND(O35="",P35="",Q35="",R35="",S35=""),"",SUM(O35:S35)) | U35: =IF(T35<(B35-1),360,IF(T35>(B35+1),-360,0)) -> -360 | V35: =I35+U35 -> -360 | W35: =IF('DATA ENTRY SHEET'!E45="","",(('DATA ENTRY SHEET'!E45)+('DATA ENTRY SHEET'!F45/60)+('DATA ENTRY SHEET'!G45/3600))+'ANGLE DETERMINATION'!V35) | X35: =IF('DATA ENTRY SHEET'!H45="","",(('DATA ENTRY SHEET'!H45)+('DATA ENTRY SHEET'!I45/60)+('DATA ENTRY SHEET'!J45/3600))+'ANGLE DETERMINATION'!V35) | Y35: =IF('DATA ENTRY SHEET'!K45="","",(('DATA ENTRY SHEET'!K45)+('DATA ENTRY SHEET'!L45/60)+('DATA ENTRY SHEET'!M45/3600))+'ANGLE DETERMINATION'!V35) | Z35: =IF('DATA ENTRY SHEET'!N45="","",(('DATA ENTRY SHEET'!N45)+('DATA ENTRY SHEET'!O45/60)+('DATA ENTRY SHEET'!P45/3600))+'ANGLE DETERMINATION'!V35) | AA35: =+IF('DATA ENTRY SHEET'!Q45="","",(('DATA ENTRY SHEET'!Q45)+('DATA ENTRY SHEET'!R45/60)+('DATA ENTRY SHEET'!S45/3600))+'ANGLE DETERMINATION'!V35) | AB35: =IF(W35="","",W35/2) | AC35: =IF(X35="","",X35/3) | AD35: =IF(Y35="","",Y35/4) | AE35: =IF(Z35="","",Z35/5) | AF35: =IF(AA35="","",AA35/6) | AG35: =IF('DATA ENTRY SHEET'!$U$5="RESET",SUM(AB35:AF35),IF('DATA ENTRY SHEET'!$U$5="ACC",SUM(AH35:AL35),IF('DATA ENTRY SHEET'!$U$5="AVE",SUM(AM35:AQ35),FALSE))) -> FALSE | AH35: =IF('DATA ENTRY SHEET'!E45="","",(SUM(('DATA ENTRY SHEET'!E45)+('DATA ENTRY SHEET'!F45/60)+('DATA ENTRY SHEET'!G45/3600)))/2) | AI35: =IF('DATA ENTRY SHEET'!H45="","",(SUM(('DATA ENTRY SHEET'!H45)+('DATA ENTRY SHEET'!I45/60)+('DATA ENTRY SHEET'!J45/3600)))/3) | AJ35: =IF('DATA ENTRY SHEET'!K45="","",(SUM(('DATA ENTRY SHEET'!K45)+('DATA ENTRY SHEET'!L45/60)+('DATA ENTRY SHEET'!M45/3600)))/4) | AK35: =IF('DATA ENTRY SHEET'!N45="","",(SUM(('DATA ENTRY SHEET'!N45)+('DATA ENTRY SHEET'!O45/60)+('DATA ENTRY SHEET'!P45/3600)))/5) | AL35: =IF('DATA ENTRY SHEET'!Q45="","",(SUM(('DATA ENTRY SHEET'!Q45)+('DATA ENTRY SHEET'!R45/60)+('DATA ENTRY SHEET'!S45/3600)))/6) | AM35: =IF('DATA ENTRY SHEET'!E45="","",('DATA ENTRY SHEET'!E45)+('DATA ENTRY SHEET'!F45/60)+('DATA ENTRY SHEET'!G45/3600)) | AN35: =IF('DATA ENTRY SHEET'!H45="","",('DATA ENTRY SHEET'!H45)+('DATA ENTRY SHEET'!I45/60)+('DATA ENTRY SHEET'!J45/3600)) | AO35: =IF('DATA ENTRY SHEET'!K45="","",('DATA ENTRY SHEET'!K45)+('DATA ENTRY SHEET'!L45/60)+('DATA ENTRY SHEET'!M45/3600)) | AP35: =IF('DATA ENTRY SHEET'!N45="","",('DATA ENTRY SHEET'!N45)+('DATA ENTRY SHEET'!O45/60)+('DATA ENTRY SHEET'!P45/3600)) | AQ35: =IF('DATA ENTRY SHEET'!Q45="","",('DATA ENTRY SHEET'!Q45)+('DATA ENTRY SHEET'!R45/60)+('DATA ENTRY SHEET'!S45/3600))
A36: 34 | B36: =(('DATA ENTRY SHEET'!B46)+('DATA ENTRY SHEET'!C46/60)+('DATA ENTRY SHEET'!D46/3600)) -> 0 | C36: =IF('DATA ENTRY SHEET'!E46="","",B36*2) | D36: =IF('DATA ENTRY SHEET'!H46="","",B36*3) | E36: =IF('DATA ENTRY SHEET'!K46="","",B36*4) | F36: =IF('DATA ENTRY SHEET'!N46="","",B36*5) | G36: =IF('DATA ENTRY SHEET'!Q46="","",B36*6) | H36: =SUM(C36:G36) -> 0 | I36: =IF(H36<=360,0,IF(AND(H36>360,H36<=720),360,IF(AND(H36>720,H36<=1080),720,IF(AND(H36>1080,H36<=1440),1080,IF(AND(H36>1440,H36<=1800),1440,IF(AND(H36>1800,H36<=2160),1800,"")))))) -> 0 | J36: =IF('DATA ENTRY SHEET'!E46="","",(('DATA ENTRY SHEET'!E46)+('DATA ENTRY SHEET'!F46/60)+('DATA ENTRY SHEET'!G46/3600))+I36) | K36: =IF('DATA ENTRY SHEET'!H46="","",(('DATA ENTRY SHEET'!H46)+('DATA ENTRY SHEET'!I46/60)+('DATA ENTRY SHEET'!J46/3600))+I36) | L36: =IF('DATA ENTRY SHEET'!K46="","",(('DATA ENTRY SHEET'!K46)+('DATA ENTRY SHEET'!L46/60)+('DATA ENTRY SHEET'!M46/3600))+I36) | M36: =IF('DATA ENTRY SHEET'!N46="","",(('DATA ENTRY SHEET'!N46)+('DATA ENTRY SHEET'!O46/60)+('DATA ENTRY SHEET'!P46/3600))+I36) | N36: =IF('DATA ENTRY SHEET'!Q46="","",(('DATA ENTRY SHEET'!Q46)+('DATA ENTRY SHEET'!R46/60)+('DATA ENTRY SHEET'!S46/3600))+I36) | O36: =IF(J36="","",J36/$J$2) | P36: =IF(K36="","",K36/$K$2) | Q36: =IF(L36="","",L36/$L$2) | R36: =IF(M36="","",M36/$M$2) | S36: =IF(N36="","",N36/$N$2) | T36: =IF(AND(O36="",P36="",Q36="",R36="",S36=""),"",SUM(O36:S36)) | U36: =IF(T36<(B36-1),360,IF(T36>(B36+1),-360,0)) -> -360 | V36: =I36+U36 -> -360 | W36: =IF('DATA ENTRY SHEET'!E46="","",(('DATA ENTRY SHEET'!E46)+('DATA ENTRY SHEET'!F46/60)+('DATA ENTRY SHEET'!G46/3600))+'ANGLE DETERMINATION'!V36) | X36: =IF('DATA ENTRY SHEET'!H46="","",(('DATA ENTRY SHEET'!H46)+('DATA ENTRY SHEET'!I46/60)+('DATA ENTRY SHEET'!J46/3600))+'ANGLE DETERMINATION'!V36) | Y36: =IF('DATA ENTRY SHEET'!K46="","",(('DATA ENTRY SHEET'!K46)+('DATA ENTRY SHEET'!L46/60)+('DATA ENTRY SHEET'!M46/3600))+'ANGLE DETERMINATION'!V36) | Z36: =IF('DATA ENTRY SHEET'!N46="","",(('DATA ENTRY SHEET'!N46)+('DATA ENTRY SHEET'!O46/60)+('DATA ENTRY SHEET'!P46/3600))+'ANGLE DETERMINATION'!V36) | AA36: =+IF('DATA ENTRY SHEET'!Q46="","",(('DATA ENTRY SHEET'!Q46)+('DATA ENTRY SHEET'!R46/60)+('DATA ENTRY SHEET'!S46/3600))+'ANGLE DETERMINATION'!V36) | AB36: =IF(W36="","",W36/2) | AC36: =IF(X36="","",X36/3) | AD36: =IF(Y36="","",Y36/4) | AE36: =IF(Z36="","",Z36/5) | AF36: =IF(AA36="","",AA36/6) | AG36: =IF('DATA ENTRY SHEET'!$U$5="RESET",SUM(AB36:AF36),IF('DATA ENTRY SHEET'!$U$5="ACC",SUM(AH36:AL36),IF('DATA ENTRY SHEET'!$U$5="AVE",SUM(AM36:AQ36),FALSE))) -> FALSE | AH36: =IF('DATA ENTRY SHEET'!E46="","",(SUM(('DATA ENTRY SHEET'!E46)+('DATA ENTRY SHEET'!F46/60)+('DATA ENTRY SHEET'!G46/3600)))/2) | AI36: =IF('DATA ENTRY SHEET'!H46="","",(SUM(('DATA ENTRY SHEET'!H46)+('DATA ENTRY SHEET'!I46/60)+('DATA ENTRY SHEET'!J46/3600)))/3) | AJ36: =IF('DATA ENTRY SHEET'!K46="","",(SUM(('DATA ENTRY SHEET'!K46)+('DATA ENTRY SHEET'!L46/60)+('DATA ENTRY SHEET'!M46/3600)))/4) | AK36: =IF('DATA ENTRY SHEET'!N46="","",(SUM(('DATA ENTRY SHEET'!N46)+('DATA ENTRY SHEET'!O46/60)+('DATA ENTRY SHEET'!P46/3600)))/5) | AL36: =IF('DATA ENTRY SHEET'!Q46="","",(SUM(('DATA ENTRY SHEET'!Q46)+('DATA ENTRY SHEET'!R46/60)+('DATA ENTRY SHEET'!S46/3600)))/6) | AM36: =IF('DATA ENTRY SHEET'!E46="","",('DATA ENTRY SHEET'!E46)+('DATA ENTRY SHEET'!F46/60)+('DATA ENTRY SHEET'!G46/3600)) | AN36: =IF('DATA ENTRY SHEET'!H46="","",('DATA ENTRY SHEET'!H46)+('DATA ENTRY SHEET'!I46/60)+('DATA ENTRY SHEET'!J46/3600)) | AO36: =IF('DATA ENTRY SHEET'!K46="","",('DATA ENTRY SHEET'!K46)+('DATA ENTRY SHEET'!L46/60)+('DATA ENTRY SHEET'!M46/3600)) | AP36: =IF('DATA ENTRY SHEET'!N46="","",('DATA ENTRY SHEET'!N46)+('DATA ENTRY SHEET'!O46/60)+('DATA ENTRY SHEET'!P46/3600)) | AQ36: =IF('DATA ENTRY SHEET'!Q46="","",('DATA ENTRY SHEET'!Q46)+('DATA ENTRY SHEET'!R46/60)+('DATA ENTRY SHEET'!S46/3600))
A37: 35 | B37: =(('DATA ENTRY SHEET'!B47)+('DATA ENTRY SHEET'!C47/60)+('DATA ENTRY SHEET'!D47/3600)) -> 0 | C37: =IF('DATA ENTRY SHEET'!E47="","",B37*2) | D37: =IF('DATA ENTRY SHEET'!H47="","",B37*3) | E37: =IF('DATA ENTRY SHEET'!K47="","",B37*4) | F37: =IF('DATA ENTRY SHEET'!N47="","",B37*5) | G37: =IF('DATA ENTRY SHEET'!Q47="","",B37*6) | H37: =SUM(C37:G37) -> 0 | I37: =IF(H37<=360,0,IF(AND(H37>360,H37<=720),360,IF(AND(H37>720,H37<=1080),720,IF(AND(H37>1080,H37<=1440),1080,IF(AND(H37>1440,H37<=1800),1440,IF(AND(H37>1800,H37<=2160),1800,"")))))) -> 0 | J37: =IF('DATA ENTRY SHEET'!E47="","",(('DATA ENTRY SHEET'!E47)+('DATA ENTRY SHEET'!F47/60)+('DATA ENTRY SHEET'!G47/3600))+I37) | K37: =IF('DATA ENTRY SHEET'!H47="","",(('DATA ENTRY SHEET'!H47)+('DATA ENTRY SHEET'!I47/60)+('DATA ENTRY SHEET'!J47/3600))+I37) | L37: =IF('DATA ENTRY SHEET'!K47="","",(('DATA ENTRY SHEET'!K47)+('DATA ENTRY SHEET'!L47/60)+('DATA ENTRY SHEET'!M47/3600))+I37) | M37: =IF('DATA ENTRY SHEET'!N47="","",(('DATA ENTRY SHEET'!N47)+('DATA ENTRY SHEET'!O47/60)+('DATA ENTRY SHEET'!P47/3600))+I37) | N37: =IF('DATA ENTRY SHEET'!Q47="","",(('DATA ENTRY SHEET'!Q47)+('DATA ENTRY SHEET'!R47/60)+('DATA ENTRY SHEET'!S47/3600))+I37) | O37: =IF(J37="","",J37/$J$2) | P37: =IF(K37="","",K37/$K$2) | Q37: =IF(L37="","",L37/$L$2) | R37: =IF(M37="","",M37/$M$2) | S37: =IF(N37="","",N37/$N$2) | T37: =IF(AND(O37="",P37="",Q37="",R37="",S37=""),"",SUM(O37:S37)) | U37: =IF(T37<(B37-1),360,IF(T37>(B37+1),-360,0)) -> -360 | V37: =I37+U37 -> -360 | W37: =IF('DATA ENTRY SHEET'!E47="","",(('DATA ENTRY SHEET'!E47)+('DATA ENTRY SHEET'!F47/60)+('DATA ENTRY SHEET'!G47/3600))+'ANGLE DETERMINATION'!V37) | X37: =IF('DATA ENTRY SHEET'!H47="","",(('DATA ENTRY SHEET'!H47)+('DATA ENTRY SHEET'!I47/60)+('DATA ENTRY SHEET'!J47/3600))+'ANGLE DETERMINATION'!V37) | Y37: =IF('DATA ENTRY SHEET'!K47="","",(('DATA ENTRY SHEET'!K47)+('DATA ENTRY SHEET'!L47/60)+('DATA ENTRY SHEET'!M47/3600))+'ANGLE DETERMINATION'!V37) | Z37: =IF('DATA ENTRY SHEET'!N47="","",(('DATA ENTRY SHEET'!N47)+('DATA ENTRY SHEET'!O47/60)+('DATA ENTRY SHEET'!P47/3600))+'ANGLE DETERMINATION'!V37) | AA37: =+IF('DATA ENTRY SHEET'!Q47="","",(('DATA ENTRY SHEET'!Q47)+('DATA ENTRY SHEET'!R47/60)+('DATA ENTRY SHEET'!S47/3600))+'ANGLE DETERMINATION'!V37) | AB37: =IF(W37="","",W37/2) | AC37: =IF(X37="","",X37/3) | AD37: =IF(Y37="","",Y37/4) | AE37: =IF(Z37="","",Z37/5) | AF37: =IF(AA37="","",AA37/6) | AG37: =IF('DATA ENTRY SHEET'!$U$5="RESET",SUM(AB37:AF37),IF('DATA ENTRY SHEET'!$U$5="ACC",SUM(AH37:AL37),IF('DATA ENTRY SHEET'!$U$5="AVE",SUM(AM37:AQ37),FALSE))) -> FALSE | AH37: =IF('DATA ENTRY SHEET'!E47="","",(SUM(('DATA ENTRY SHEET'!E47)+('DATA ENTRY SHEET'!F47/60)+('DATA ENTRY SHEET'!G47/3600)))/2) | AI37: =IF('DATA ENTRY SHEET'!H47="","",(SUM(('DATA ENTRY SHEET'!H47)+('DATA ENTRY SHEET'!I47/60)+('DATA ENTRY SHEET'!J47/3600)))/3) | AJ37: =IF('DATA ENTRY SHEET'!K47="","",(SUM(('DATA ENTRY SHEET'!K47)+('DATA ENTRY SHEET'!L47/60)+('DATA ENTRY SHEET'!M47/3600)))/4) | AK37: =IF('DATA ENTRY SHEET'!N47="","",(SUM(('DATA ENTRY SHEET'!N47)+('DATA ENTRY SHEET'!O47/60)+('DATA ENTRY SHEET'!P47/3600)))/5) | AL37: =IF('DATA ENTRY SHEET'!Q47="","",(SUM(('DATA ENTRY SHEET'!Q47)+('DATA ENTRY SHEET'!R47/60)+('DATA ENTRY SHEET'!S47/3600)))/6) | AM37: =IF('DATA ENTRY SHEET'!E47="","",('DATA ENTRY SHEET'!E47)+('DATA ENTRY SHEET'!F47/60)+('DATA ENTRY SHEET'!G47/3600)) | AN37: =IF('DATA ENTRY SHEET'!H47="","",('DATA ENTRY SHEET'!H47)+('DATA ENTRY SHEET'!I47/60)+('DATA ENTRY SHEET'!J47/3600)) | AO37: =IF('DATA ENTRY SHEET'!K47="","",('DATA ENTRY SHEET'!K47)+('DATA ENTRY SHEET'!L47/60)+('DATA ENTRY SHEET'!M47/3600)) | AP37: =IF('DATA ENTRY SHEET'!N47="","",('DATA ENTRY SHEET'!N47)+('DATA ENTRY SHEET'!O47/60)+('DATA ENTRY SHEET'!P47/3600)) | AQ37: =IF('DATA ENTRY SHEET'!Q47="","",('DATA ENTRY SHEET'!Q47)+('DATA ENTRY SHEET'!R47/60)+('DATA ENTRY SHEET'!S47/3600))
A38: 36 | B38: =(('DATA ENTRY SHEET'!B48)+('DATA ENTRY SHEET'!C48/60)+('DATA ENTRY SHEET'!D48/3600)) -> 0 | C38: =IF('DATA ENTRY SHEET'!E48="","",B38*2) | D38: =IF('DATA ENTRY SHEET'!H48="","",B38*3) | E38: =IF('DATA ENTRY SHEET'!K48="","",B38*4) | F38: =IF('DATA ENTRY SHEET'!N48="","",B38*5) | G38: =IF('DATA ENTRY SHEET'!Q48="","",B38*6) | H38: =SUM(C38:G38) -> 0 | I38: =IF(H38<=360,0,IF(AND(H38>360,H38<=720),360,IF(AND(H38>720,H38<=1080),720,IF(AND(H38>1080,H38<=1440),1080,IF(AND(H38>1440,H38<=1800),1440,IF(AND(H38>1800,H38<=2160),1800,"")))))) -> 0 | J38: =IF('DATA ENTRY SHEET'!E48="","",(('DATA ENTRY SHEET'!E48)+('DATA ENTRY SHEET'!F48/60)+('DATA ENTRY SHEET'!G48/3600))+I38) | K38: =IF('DATA ENTRY SHEET'!H48="","",(('DATA ENTRY SHEET'!H48)+('DATA ENTRY SHEET'!I48/60)+('DATA ENTRY SHEET'!J48/3600))+I38) | L38: =IF('DATA ENTRY SHEET'!K48="","",(('DATA ENTRY SHEET'!K48)+('DATA ENTRY SHEET'!L48/60)+('DATA ENTRY SHEET'!M48/3600))+I38) | M38: =IF('DATA ENTRY SHEET'!N48="","",(('DATA ENTRY SHEET'!N48)+('DATA ENTRY SHEET'!O48/60)+('DATA ENTRY SHEET'!P48/3600))+I38) | N38: =IF('DATA ENTRY SHEET'!Q48="","",(('DATA ENTRY SHEET'!Q48)+('DATA ENTRY SHEET'!R48/60)+('DATA ENTRY SHEET'!S48/3600))+I38) | O38: =IF(J38="","",J38/$J$2) | P38: =IF(K38="","",K38/$K$2) | Q38: =IF(L38="","",L38/$L$2) | R38: =IF(M38="","",M38/$M$2) | S38: =IF(N38="","",N38/$N$2) | T38: =IF(AND(O38="",P38="",Q38="",R38="",S38=""),"",SUM(O38:S38)) | U38: =IF(T38<(B38-1),360,IF(T38>(B38+1),-360,0)) -> -360 | V38: =I38+U38 -> -360 | W38: =IF('DATA ENTRY SHEET'!E48="","",(('DATA ENTRY SHEET'!E48)+('DATA ENTRY SHEET'!F48/60)+('DATA ENTRY SHEET'!G48/3600))+'ANGLE DETERMINATION'!V38) | X38: =IF('DATA ENTRY SHEET'!H48="","",(('DATA ENTRY SHEET'!H48)+('DATA ENTRY SHEET'!I48/60)+('DATA ENTRY SHEET'!J48/3600))+'ANGLE DETERMINATION'!V38) | Y38: =IF('DATA ENTRY SHEET'!K48="","",(('DATA ENTRY SHEET'!K48)+('DATA ENTRY SHEET'!L48/60)+('DATA ENTRY SHEET'!M48/3600))+'ANGLE DETERMINATION'!V38) | Z38: =IF('DATA ENTRY SHEET'!N48="","",(('DATA ENTRY SHEET'!N48)+('DATA ENTRY SHEET'!O48/60)+('DATA ENTRY SHEET'!P48/3600))+'ANGLE DETERMINATION'!V38) | AA38: =+IF('DATA ENTRY SHEET'!Q48="","",(('DATA ENTRY SHEET'!Q48)+('DATA ENTRY SHEET'!R48/60)+('DATA ENTRY SHEET'!S48/3600))+'ANGLE DETERMINATION'!V38) | AB38: =IF(W38="","",W38/2) | AC38: =IF(X38="","",X38/3) | AD38: =IF(Y38="","",Y38/4) | AE38: =IF(Z38="","",Z38/5) | AF38: =IF(AA38="","",AA38/6) | AG38: =IF('DATA ENTRY SHEET'!$U$5="RESET",SUM(AB38:AF38),IF('DATA ENTRY SHEET'!$U$5="ACC",SUM(AH38:AL38),IF('DATA ENTRY SHEET'!$U$5="AVE",SUM(AM38:AQ38),FALSE))) -> FALSE | AH38: =IF('DATA ENTRY SHEET'!E48="","",(SUM(('DATA ENTRY SHEET'!E48)+('DATA ENTRY SHEET'!F48/60)+('DATA ENTRY SHEET'!G48/3600)))/2) | AI38: =IF('DATA ENTRY SHEET'!H48="","",(SUM(('DATA ENTRY SHEET'!H48)+('DATA ENTRY SHEET'!I48/60)+('DATA ENTRY SHEET'!J48/3600)))/3) | AJ38: =IF('DATA ENTRY SHEET'!K48="","",(SUM(('DATA ENTRY SHEET'!K48)+('DATA ENTRY SHEET'!L48/60)+('DATA ENTRY SHEET'!M48/3600)))/4) | AK38: =IF('DATA ENTRY SHEET'!N48="","",(SUM(('DATA ENTRY SHEET'!N48)+('DATA ENTRY SHEET'!O48/60)+('DATA ENTRY SHEET'!P48/3600)))/5) | AL38: =IF('DATA ENTRY SHEET'!Q48="","",(SUM(('DATA ENTRY SHEET'!Q48)+('DATA ENTRY SHEET'!R48/60)+('DATA ENTRY SHEET'!S48/3600)))/6) | AM38: =IF('DATA ENTRY SHEET'!E48="","",('DATA ENTRY SHEET'!E48)+('DATA ENTRY SHEET'!F48/60)+('DATA ENTRY SHEET'!G48/3600)) | AN38: =IF('DATA ENTRY SHEET'!H48="","",('DATA ENTRY SHEET'!H48)+('DATA ENTRY SHEET'!I48/60)+('DATA ENTRY SHEET'!J48/3600)) | AO38: =IF('DATA ENTRY SHEET'!K48="","",('DATA ENTRY SHEET'!K48)+('DATA ENTRY SHEET'!L48/60)+('DATA ENTRY SHEET'!M48/3600)) | AP38: =IF('DATA ENTRY SHEET'!N48="","",('DATA ENTRY SHEET'!N48)+('DATA ENTRY SHEET'!O48/60)+('DATA ENTRY SHEET'!P48/3600)) | AQ38: =IF('DATA ENTRY SHEET'!Q48="","",('DATA ENTRY SHEET'!Q48)+('DATA ENTRY SHEET'!R48/60)+('DATA ENTRY SHEET'!S48/3600))
A39: 37 | B39: =(('DATA ENTRY SHEET'!B49)+('DATA ENTRY SHEET'!C49/60)+('DATA ENTRY SHEET'!D49/3600)) -> 0 | C39: =IF('DATA ENTRY SHEET'!E49="","",B39*2) | D39: =IF('DATA ENTRY SHEET'!H49="","",B39*3) | E39: =IF('DATA ENTRY SHEET'!K49="","",B39*4) | F39: =IF('DATA ENTRY SHEET'!N49="","",B39*5) | G39: =IF('DATA ENTRY SHEET'!Q49="","",B39*6) | H39: =SUM(C39:G39) -> 0 | I39: =IF(H39<=360,0,IF(AND(H39>360,H39<=720),360,IF(AND(H39>720,H39<=1080),720,IF(AND(H39>1080,H39<=1440),1080,IF(AND(H39>1440,H39<=1800),1440,IF(AND(H39>1800,H39<=2160),1800,"")))))) -> 0 | J39: =IF('DATA ENTRY SHEET'!E49="","",(('DATA ENTRY SHEET'!E49)+('DATA ENTRY SHEET'!F49/60)+('DATA ENTRY SHEET'!G49/3600))+I39) | K39: =IF('DATA ENTRY SHEET'!H49="","",(('DATA ENTRY SHEET'!H49)+('DATA ENTRY SHEET'!I49/60)+('DATA ENTRY SHEET'!J49/3600))+I39) | L39: =IF('DATA ENTRY SHEET'!K49="","",(('DATA ENTRY SHEET'!K49)+('DATA ENTRY SHEET'!L49/60)+('DATA ENTRY SHEET'!M49/3600))+I39) | M39: =IF('DATA ENTRY SHEET'!N49="","",(('DATA ENTRY SHEET'!N49)+('DATA ENTRY SHEET'!O49/60)+('DATA ENTRY SHEET'!P49/3600))+I39) | N39: =IF('DATA ENTRY SHEET'!Q49="","",(('DATA ENTRY SHEET'!Q49)+('DATA ENTRY SHEET'!R49/60)+('DATA ENTRY SHEET'!S49/3600))+I39) | O39: =IF(J39="","",J39/$J$2) | P39: =IF(K39="","",K39/$K$2) | Q39: =IF(L39="","",L39/$L$2) | R39: =IF(M39="","",M39/$M$2) | S39: =IF(N39="","",N39/$N$2) | T39: =IF(AND(O39="",P39="",Q39="",R39="",S39=""),"",SUM(O39:S39)) | U39: =IF(T39<(B39-1),360,IF(T39>(B39+1),-360,0)) -> -360 | V39: =I39+U39 -> -360 | W39: =IF('DATA ENTRY SHEET'!E49="","",(('DATA ENTRY SHEET'!E49)+('DATA ENTRY SHEET'!F49/60)+('DATA ENTRY SHEET'!G49/3600))+'ANGLE DETERMINATION'!V39) | X39: =IF('DATA ENTRY SHEET'!H49="","",(('DATA ENTRY SHEET'!H49)+('DATA ENTRY SHEET'!I49/60)+('DATA ENTRY SHEET'!J49/3600))+'ANGLE DETERMINATION'!V39) | Y39: =IF('DATA ENTRY SHEET'!K49="","",(('DATA ENTRY SHEET'!K49)+('DATA ENTRY SHEET'!L49/60)+('DATA ENTRY SHEET'!M49/3600))+'ANGLE DETERMINATION'!V39) | Z39: =IF('DATA ENTRY SHEET'!N49="","",(('DATA ENTRY SHEET'!N49)+('DATA ENTRY SHEET'!O49/60)+('DATA ENTRY SHEET'!P49/3600))+'ANGLE DETERMINATION'!V39) | AA39: =+IF('DATA ENTRY SHEET'!Q49="","",(('DATA ENTRY SHEET'!Q49)+('DATA ENTRY SHEET'!R49/60)+('DATA ENTRY SHEET'!S49/3600))+'ANGLE DETERMINATION'!V39) | AB39: =IF(W39="","",W39/2) | AC39: =IF(X39="","",X39/3) | AD39: =IF(Y39="","",Y39/4) | AE39: =IF(Z39="","",Z39/5) | AF39: =IF(AA39="","",AA39/6) | AG39: =IF('DATA ENTRY SHEET'!$U$5="RESET",SUM(AB39:AF39),IF('DATA ENTRY SHEET'!$U$5="ACC",SUM(AH39:AL39),IF('DATA ENTRY SHEET'!$U$5="AVE",SUM(AM39:AQ39),FALSE))) -> FALSE | AH39: =IF('DATA ENTRY SHEET'!E49="","",(SUM(('DATA ENTRY SHEET'!E49)+('DATA ENTRY SHEET'!F49/60)+('DATA ENTRY SHEET'!G49/3600)))/2) | AI39: =IF('DATA ENTRY SHEET'!H49="","",(SUM(('DATA ENTRY SHEET'!H49)+('DATA ENTRY SHEET'!I49/60)+('DATA ENTRY SHEET'!J49/3600)))/3) | AJ39: =IF('DATA ENTRY SHEET'!K49="","",(SUM(('DATA ENTRY SHEET'!K49)+('DATA ENTRY SHEET'!L49/60)+('DATA ENTRY SHEET'!M49/3600)))/4) | AK39: =IF('DATA ENTRY SHEET'!N49="","",(SUM(('DATA ENTRY SHEET'!N49)+('DATA ENTRY SHEET'!O49/60)+('DATA ENTRY SHEET'!P49/3600)))/5) | AL39: =IF('DATA ENTRY SHEET'!Q49="","",(SUM(('DATA ENTRY SHEET'!Q49)+('DATA ENTRY SHEET'!R49/60)+('DATA ENTRY SHEET'!S49/3600)))/6) | AM39: =IF('DATA ENTRY SHEET'!E49="","",('DATA ENTRY SHEET'!E49)+('DATA ENTRY SHEET'!F49/60)+('DATA ENTRY SHEET'!G49/3600)) | AN39: =IF('DATA ENTRY SHEET'!H49="","",('DATA ENTRY SHEET'!H49)+('DATA ENTRY SHEET'!I49/60)+('DATA ENTRY SHEET'!J49/3600)) | AO39: =IF('DATA ENTRY SHEET'!K49="","",('DATA ENTRY SHEET'!K49)+('DATA ENTRY SHEET'!L49/60)+('DATA ENTRY SHEET'!M49/3600)) | AP39: =IF('DATA ENTRY SHEET'!N49="","",('DATA ENTRY SHEET'!N49)+('DATA ENTRY SHEET'!O49/60)+('DATA ENTRY SHEET'!P49/3600)) | AQ39: =IF('DATA ENTRY SHEET'!Q49="","",('DATA ENTRY SHEET'!Q49)+('DATA ENTRY SHEET'!R49/60)+('DATA ENTRY SHEET'!S49/3600))
A40: 38 | B40: =(('DATA ENTRY SHEET'!B50)+('DATA ENTRY SHEET'!C50/60)+('DATA ENTRY SHEET'!D50/3600)) -> 0 | C40: =IF('DATA ENTRY SHEET'!E50="","",B40*2) | D40: =IF('DATA ENTRY SHEET'!H50="","",B40*3) | E40: =IF('DATA ENTRY SHEET'!K50="","",B40*4) | F40: =IF('DATA ENTRY SHEET'!N50="","",B40*5) | G40: =IF('DATA ENTRY SHEET'!Q50="","",B40*6) | H40: =SUM(C40:G40) -> 0 | I40: =IF(H40<=360,0,IF(AND(H40>360,H40<=720),360,IF(AND(H40>720,H40<=1080),720,IF(AND(H40>1080,H40<=1440),1080,IF(AND(H40>1440,H40<=1800),1440,IF(AND(H40>1800,H40<=2160),1800,"")))))) -> 0 | J40: =IF('DATA ENTRY SHEET'!E50="","",(('DATA ENTRY SHEET'!E50)+('DATA ENTRY SHEET'!F50/60)+('DATA ENTRY SHEET'!G50/3600))+I40) | K40: =IF('DATA ENTRY SHEET'!H50="","",(('DATA ENTRY SHEET'!H50)+('DATA ENTRY SHEET'!I50/60)+('DATA ENTRY SHEET'!J50/3600))+I40) | L40: =IF('DATA ENTRY SHEET'!K50="","",(('DATA ENTRY SHEET'!K50)+('DATA ENTRY SHEET'!L50/60)+('DATA ENTRY SHEET'!M50/3600))+I40) | M40: =IF('DATA ENTRY SHEET'!N50="","",(('DATA ENTRY SHEET'!N50)+('DATA ENTRY SHEET'!O50/60)+('DATA ENTRY SHEET'!P50/3600))+I40) | N40: =IF('DATA ENTRY SHEET'!Q50="","",(('DATA ENTRY SHEET'!Q50)+('DATA ENTRY SHEET'!R50/60)+('DATA ENTRY SHEET'!S50/3600))+I40) | O40: =IF(J40="","",J40/$J$2) | P40: =IF(K40="","",K40/$K$2) | Q40: =IF(L40="","",L40/$L$2) | R40: =IF(M40="","",M40/$M$2) | S40: =IF(N40="","",N40/$N$2) | T40: =IF(AND(O40="",P40="",Q40="",R40="",S40=""),"",SUM(O40:S40)) | U40: =IF(T40<(B40-1),360,IF(T40>(B40+1),-360,0)) -> -360 | V40: =I40+U40 -> -360 | W40: =IF('DATA ENTRY SHEET'!E50="","",(('DATA ENTRY SHEET'!E50)+('DATA ENTRY SHEET'!F50/60)+('DATA ENTRY SHEET'!G50/3600))+'ANGLE DETERMINATION'!V40) | X40: =IF('DATA ENTRY SHEET'!H50="","",(('DATA ENTRY SHEET'!H50)+('DATA ENTRY SHEET'!I50/60)+('DATA ENTRY SHEET'!J50/3600))+'ANGLE DETERMINATION'!V40) | Y40: =IF('DATA ENTRY SHEET'!K50="","",(('DATA ENTRY SHEET'!K50)+('DATA ENTRY SHEET'!L50/60)+('DATA ENTRY SHEET'!M50/3600))+'ANGLE DETERMINATION'!V40) | Z40: =IF('DATA ENTRY SHEET'!N50="","",(('DATA ENTRY SHEET'!N50)+('DATA ENTRY SHEET'!O50/60)+('DATA ENTRY SHEET'!P50/3600))+'ANGLE DETERMINATION'!V40) | AA40: =+IF('DATA ENTRY SHEET'!Q50="","",(('DATA ENTRY SHEET'!Q50)+('DATA ENTRY SHEET'!R50/60)+('DATA ENTRY SHEET'!S50/3600))+'ANGLE DETERMINATION'!V40) | AB40: =IF(W40="","",W40/2) | AC40: =IF(X40="","",X40/3) | AD40: =IF(Y40="","",Y40/4) | AE40: =IF(Z40="","",Z40/5) | AF40: =IF(AA40="","",AA40/6) | AG40: =IF('DATA ENTRY SHEET'!$U$5="RESET",SUM(AB40:AF40),IF('DATA ENTRY SHEET'!$U$5="ACC",SUM(AH40:AL40),IF('DATA ENTRY SHEET'!$U$5="AVE",SUM(AM40:AQ40),FALSE))) -> FALSE | AH40: =IF('DATA ENTRY SHEET'!E50="","",(SUM(('DATA ENTRY SHEET'!E50)+('DATA ENTRY SHEET'!F50/60)+('DATA ENTRY SHEET'!G50/3600)))/2) | AI40: =IF('DATA ENTRY SHEET'!H50="","",(SUM(('DATA ENTRY SHEET'!H50)+('DATA ENTRY SHEET'!I50/60)+('DATA ENTRY SHEET'!J50/3600)))/3) | AJ40: =IF('DATA ENTRY SHEET'!K50="","",(SUM(('DATA ENTRY SHEET'!K50)+('DATA ENTRY SHEET'!L50/60)+('DATA ENTRY SHEET'!M50/3600)))/4) | AK40: =IF('DATA ENTRY SHEET'!N50="","",(SUM(('DATA ENTRY SHEET'!N50)+('DATA ENTRY SHEET'!O50/60)+('DATA ENTRY SHEET'!P50/3600)))/5) | AL40: =IF('DATA ENTRY SHEET'!Q50="","",(SUM(('DATA ENTRY SHEET'!Q50)+('DATA ENTRY SHEET'!R50/60)+('DATA ENTRY SHEET'!S50/3600)))/6) | AM40: =IF('DATA ENTRY SHEET'!E50="","",('DATA ENTRY SHEET'!E50)+('DATA ENTRY SHEET'!F50/60)+('DATA ENTRY SHEET'!G50/3600)) | AN40: =IF('DATA ENTRY SHEET'!H50="","",('DATA ENTRY SHEET'!H50)+('DATA ENTRY SHEET'!I50/60)+('DATA ENTRY SHEET'!J50/3600)) | AO40: =IF('DATA ENTRY SHEET'!K50="","",('DATA ENTRY SHEET'!K50)+('DATA ENTRY SHEET'!L50/60)+('DATA ENTRY SHEET'!M50/3600)) | AP40: =IF('DATA ENTRY SHEET'!N50="","",('DATA ENTRY SHEET'!N50)+('DATA ENTRY SHEET'!O50/60)+('DATA ENTRY SHEET'!P50/3600)) | AQ40: =IF('DATA ENTRY SHEET'!Q50="","",('DATA ENTRY SHEET'!Q50)+('DATA ENTRY SHEET'!R50/60)+('DATA ENTRY SHEET'!S50/3600))
A41: 39 | B41: =(('DATA ENTRY SHEET'!B51)+('DATA ENTRY SHEET'!C51/60)+('DATA ENTRY SHEET'!D51/3600)) -> 0 | C41: =IF('DATA ENTRY SHEET'!E51="","",B41*2) | D41: =IF('DATA ENTRY SHEET'!H51="","",B41*3) | E41: =IF('DATA ENTRY SHEET'!K51="","",B41*4) | F41: =IF('DATA ENTRY SHEET'!N51="","",B41*5) | G41: =IF('DATA ENTRY SHEET'!Q51="","",B41*6) | H41: =SUM(C41:G41) -> 0 | I41: =IF(H41<=360,0,IF(AND(H41>360,H41<=720),360,IF(AND(H41>720,H41<=1080),720,IF(AND(H41>1080,H41<=1440),1080,IF(AND(H41>1440,H41<=1800),1440,IF(AND(H41>1800,H41<=2160),1800,"")))))) -> 0 | J41: =IF('DATA ENTRY SHEET'!E51="","",(('DATA ENTRY SHEET'!E51)+('DATA ENTRY SHEET'!F51/60)+('DATA ENTRY SHEET'!G51/3600))+I41) | K41: =IF('DATA ENTRY SHEET'!H51="","",(('DATA ENTRY SHEET'!H51)+('DATA ENTRY SHEET'!I51/60)+('DATA ENTRY SHEET'!J51/3600))+I41) | L41: =IF('DATA ENTRY SHEET'!K51="","",(('DATA ENTRY SHEET'!K51)+('DATA ENTRY SHEET'!L51/60)+('DATA ENTRY SHEET'!M51/3600))+I41) | M41: =IF('DATA ENTRY SHEET'!N51="","",(('DATA ENTRY SHEET'!N51)+('DATA ENTRY SHEET'!O51/60)+('DATA ENTRY SHEET'!P51/3600))+I41) | N41: =IF('DATA ENTRY SHEET'!Q51="","",(('DATA ENTRY SHEET'!Q51)+('DATA ENTRY SHEET'!R51/60)+('DATA ENTRY SHEET'!S51/3600))+I41) | O41: =IF(J41="","",J41/$J$2) | P41: =IF(K41="","",K41/$K$2) | Q41: =IF(L41="","",L41/$L$2) | R41: =IF(M41="","",M41/$M$2) | S41: =IF(N41="","",N41/$N$2) | T41: =IF(AND(O41="",P41="",Q41="",R41="",S41=""),"",SUM(O41:S41)) | U41: =IF(T41<(B41-1),360,IF(T41>(B41+1),-360,0)) -> -360 | V41: =I41+U41 -> -360 | W41: =IF('DATA ENTRY SHEET'!E51="","",(('DATA ENTRY SHEET'!E51)+('DATA ENTRY SHEET'!F51/60)+('DATA ENTRY SHEET'!G51/3600))+'ANGLE DETERMINATION'!V41) | X41: =IF('DATA ENTRY SHEET'!H51="","",(('DATA ENTRY SHEET'!H51)+('DATA ENTRY SHEET'!I51/60)+('DATA ENTRY SHEET'!J51/3600))+'ANGLE DETERMINATION'!V41) | Y41: =IF('DATA ENTRY SHEET'!K51="","",(('DATA ENTRY SHEET'!K51)+('DATA ENTRY SHEET'!L51/60)+('DATA ENTRY SHEET'!M51/3600))+'ANGLE DETERMINATION'!V41) | Z41: =IF('DATA ENTRY SHEET'!N51="","",(('DATA ENTRY SHEET'!N51)+('DATA ENTRY SHEET'!O51/60)+('DATA ENTRY SHEET'!P51/3600))+'ANGLE DETERMINATION'!V41) | AA41: =+IF('DATA ENTRY SHEET'!Q51="","",(('DATA ENTRY SHEET'!Q51)+('DATA ENTRY SHEET'!R51/60)+('DATA ENTRY SHEET'!S51/3600))+'ANGLE DETERMINATION'!V41) | AB41: =IF(W41="","",W41/2) | AC41: =IF(X41="","",X41/3) | AD41: =IF(Y41="","",Y41/4) | AE41: =IF(Z41="","",Z41/5) | AF41: =IF(AA41="","",AA41/6) | AG41: =IF('DATA ENTRY SHEET'!$U$5="RESET",SUM(AB41:AF41),IF('DATA ENTRY SHEET'!$U$5="ACC",SUM(AH41:AL41),IF('DATA ENTRY SHEET'!$U$5="AVE",SUM(AM41:AQ41),FALSE))) -> FALSE | AH41: =IF('DATA ENTRY SHEET'!E51="","",(SUM(('DATA ENTRY SHEET'!E51)+('DATA ENTRY SHEET'!F51/60)+('DATA ENTRY SHEET'!G51/3600)))/2) | AI41: =IF('DATA ENTRY SHEET'!H51="","",(SUM(('DATA ENTRY SHEET'!H51)+('DATA ENTRY SHEET'!I51/60)+('DATA ENTRY SHEET'!J51/3600)))/3) | AJ41: =IF('DATA ENTRY SHEET'!K51="","",(SUM(('DATA ENTRY SHEET'!K51)+('DATA ENTRY SHEET'!L51/60)+('DATA ENTRY SHEET'!M51/3600)))/4) | AK41: =IF('DATA ENTRY SHEET'!N51="","",(SUM(('DATA ENTRY SHEET'!N51)+('DATA ENTRY SHEET'!O51/60)+('DATA ENTRY SHEET'!P51/3600)))/5) | AL41: =IF('DATA ENTRY SHEET'!Q51="","",(SUM(('DATA ENTRY SHEET'!Q51)+('DATA ENTRY SHEET'!R51/60)+('DATA ENTRY SHEET'!S51/3600)))/6) | AM41: =IF('DATA ENTRY SHEET'!E51="","",('DATA ENTRY SHEET'!E51)+('DATA ENTRY SHEET'!F51/60)+('DATA ENTRY SHEET'!G51/3600)) | AN41: =IF('DATA ENTRY SHEET'!H51="","",('DATA ENTRY SHEET'!H51)+('DATA ENTRY SHEET'!I51/60)+('DATA ENTRY SHEET'!J51/3600)) | AO41: =IF('DATA ENTRY SHEET'!K51="","",('DATA ENTRY SHEET'!K51)+('DATA ENTRY SHEET'!L51/60)+('DATA ENTRY SHEET'!M51/3600)) | AP41: =IF('DATA ENTRY SHEET'!N51="","",('DATA ENTRY SHEET'!N51)+('DATA ENTRY SHEET'!O51/60)+('DATA ENTRY SHEET'!P51/3600)) | AQ41: =IF('DATA ENTRY SHEET'!Q51="","",('DATA ENTRY SHEET'!Q51)+('DATA ENTRY SHEET'!R51/60)+('DATA ENTRY SHEET'!S51/3600))
... A52: 50 | B52: =(('DATA ENTRY SHEET'!B62)+('DATA ENTRY SHEET'!C62/60)+('DATA ENTRY SHEET'!D62/3600)) -> 0 | C52: =IF('DATA ENTRY SHEET'!E62="","",B52*2) | D52: =IF('DATA ENTRY SHEET'!H62="","",B52*3) | E52: =IF('DATA ENTRY SHEET'!K62="","",B52*4) | F52: =IF('DATA ENTRY SHEET'!N62="","",B52*5) | G52: =IF('DATA ENTRY SHEET'!Q62="","",B52*6) | H52: =SUM(C52:G52) -> 0 | I52: =IF(H52<=360,0,IF(AND(H52>360,H52<=720),360,IF(AND(H52>720,H52<=1080),720,IF(AND(H52>1080,H52<=1440),1080,IF(AND(H52>1440,H52<=1800),1440,IF(AND(H52>1800,H52<=2160),1800,"")))))) -> 0 | J52: =IF('DATA ENTRY SHEET'!E62="","",(('DATA ENTRY SHEET'!E62)+('DATA ENTRY SHEET'!F62/60)+('DATA ENTRY SHEET'!G62/3600))+I52) | K52: =IF('DATA ENTRY SHEET'!H62="","",(('DATA ENTRY SHEET'!H62)+('DATA ENTRY SHEET'!I62/60)+('DATA ENTRY SHEET'!J62/3600))+I52) | L52: =IF('DATA ENTRY SHEET'!K62="","",(('DATA ENTRY SHEET'!K62)+('DATA ENTRY SHEET'!L62/60)+('DATA ENTRY SHEET'!M62/3600))+I52) | M52: =IF('DATA ENTRY SHEET'!N62="","",(('DATA ENTRY SHEET'!N62)+('DATA ENTRY SHEET'!O62/60)+('DATA ENTRY SHEET'!P62/3600))+I52) | N52: =IF('DATA ENTRY SHEET'!Q62="","",(('DATA ENTRY SHEET'!Q62)+('DATA ENTRY SHEET'!R62/60)+('DATA ENTRY SHEET'!S62/3600))+I52) | O52: =IF(J52="","",J52/$J$2) | P52: =IF(K52="","",K52/$K$2) | Q52: =IF(L52="","",L52/$L$2) | R52: =IF(M52="","",M52/$M$2) | S52: =IF(N52="","",N52/$N$2) | T52: =IF(AND(O52="",P52="",Q52="",R52="",S52=""),"",SUM(O52:S52)) | U52: =IF(T52<(B52-1),360,IF(T52>(B52+1),-360,0)) -> -360 | V52: =I52+U52 -> -360 | W52: =IF('DATA ENTRY SHEET'!E62="","",(('DATA ENTRY SHEET'!E62)+('DATA ENTRY SHEET'!F62/60)+('DATA ENTRY SHEET'!G62/3600))+'ANGLE DETERMINATION'!V52) | X52: =IF('DATA ENTRY SHEET'!H62="","",(('DATA ENTRY SHEET'!H62)+('DATA ENTRY SHEET'!I62/60)+('DATA ENTRY SHEET'!J62/3600))+'ANGLE DETERMINATION'!V52) | Y52: =IF('DATA ENTRY SHEET'!K62="","",(('DATA ENTRY SHEET'!K62)+('DATA ENTRY SHEET'!L62/60)+('DATA ENTRY SHEET'!M62/3600))+'ANGLE DETERMINATION'!V52) | Z52: =IF('DATA ENTRY SHEET'!N62="","",(('DATA ENTRY SHEET'!N62)+('DATA ENTRY SHEET'!O62/60)+('DATA ENTRY SHEET'!P62/3600))+'ANGLE DETERMINATION'!V52) | AA52: =+IF('DATA ENTRY SHEET'!Q62="","",(('DATA ENTRY SHEET'!Q62)+('DATA ENTRY SHEET'!R62/60)+('DATA ENTRY SHEET'!S62/3600))+'ANGLE DETERMINATION'!V52) | AB52: =IF(W52="","",W52/2) | AC52: =IF(X52="","",X52/3) | AD52: =IF(Y52="","",Y52/4) | AE52: =IF(Z52="","",Z52/5) | AF52: =IF(AA52="","",AA52/6) | AG52: =IF('DATA ENTRY SHEET'!$U$5="RESET",SUM(AB52:AF52),IF('DATA ENTRY SHEET'!$U$5="ACC",SUM(AH52:AL52),IF('DATA ENTRY SHEET'!$U$5="AVE",SUM(AM52:AQ52),FALSE))) -> FALSE | AH52: =IF('DATA ENTRY SHEET'!E62="","",(SUM(('DATA ENTRY SHEET'!E62)+('DATA ENTRY SHEET'!F62/60)+('DATA ENTRY SHEET'!G62/3600)))/2) | AI52: =IF('DATA ENTRY SHEET'!H62="","",(SUM(('DATA ENTRY SHEET'!H62)+('DATA ENTRY SHEET'!I62/60)+('DATA ENTRY SHEET'!J62/3600)))/3) | AJ52: =IF('DATA ENTRY SHEET'!K62="","",(SUM(('DATA ENTRY SHEET'!K62)+('DATA ENTRY SHEET'!L62/60)+('DATA ENTRY SHEET'!M62/3600)))/4) | AK52: =IF('DATA ENTRY SHEET'!N62="","",(SUM(('DATA ENTRY SHEET'!N62)+('DATA ENTRY SHEET'!O62/60)+('DATA ENTRY SHEET'!P62/3600)))/5) | AL52: =IF('DATA ENTRY SHEET'!Q62="","",(SUM(('DATA ENTRY SHEET'!Q62)+('DATA ENTRY SHEET'!R62/60)+('DATA ENTRY SHEET'!S62/3600)))/6) | AM52: =IF('DATA ENTRY SHEET'!E62="","",('DATA ENTRY SHEET'!E62)+('DATA ENTRY SHEET'!F62/60)+('DATA ENTRY SHEET'!G62/3600)) | AN52: =IF('DATA ENTRY SHEET'!H62="","",('DATA ENTRY SHEET'!H62)+('DATA ENTRY SHEET'!I62/60)+('DATA ENTRY SHEET'!J62/3600)) | AO52: =IF('DATA ENTRY SHEET'!K62="","",('DATA ENTRY SHEET'!K62)+('DATA ENTRY SHEET'!L62/60)+('DATA ENTRY SHEET'!M62/3600)) | AP52: =IF('DATA ENTRY SHEET'!N62="","",('DATA ENTRY SHEET'!N62)+('DATA ENTRY SHEET'!O62/60)+('DATA ENTRY SHEET'!P62/3600)) | AQ52: =IF('DATA ENTRY SHEET'!Q62="","",('DATA ENTRY SHEET'!Q62)+('DATA ENTRY SHEET'!R62/60)+('DATA ENTRY SHEET'!S62/3600))
