Workbook

Sheet DATA ENTRY SHEET
A1: Traverse Computation Spreadsheet | T1: "X" (EASTING) | U1: "Y"(NORTHING) | AD1: RIGHT | AE1: LEFT
Q2: Setup (OCC)
Q3: Backsight (BS)
G4: Enter "LEFT" if traverse runs counterclockwise, and "RIGHT" if clockwise
A5: Enter "ACC" if angles on your total station accumulate,"RESET" if it resets at 360°, and "AVE" if entering the mean
A6: Type in "YES" if you turn angles 'right' toward the inside of the traverse, and "NO" if your rear point is always your backsight
A7: If you have any difficulty with the information, if the traverse does not close, or if any information does not look correct, please E-Mail this file to Jason Schroeder at jasonwschroeder@yahoo.com | T7: LEOC | U7: =IF(T2="","",'PROTECTED CALCULATION SHEET'!L62)
R8: Area of traverse | U8: ='PROTECTED CALCULATION SHEET'!CI61 -> #VALUE! | V8: Acres
O9: Azimut of original line | U9: ='PROTECTED CALCULATION SHEET'!AJ3 -> 180
A10: TRAVERSE INFORMATION | T10: Precision | U10: =IF(T2="","",'PROTECTED CALCULATION SHEET'!L68)
B11: 1ST | E11: 2ND | H11: 3RD | K11: 4TH | N11: 5TH | Q11: 6TH | T11: Error:Angle | U11: =IF(T2="","",'PROTECTED CALCULATION SHEET'!AH64) | V11: =IF(T2="","",'PROTECTED CALCULATION SHEET'!AK64) | W11: =IF(T2="","",'PROTECTED CALCULATION SHEET'!AM64)
A12: Pt # | B12: Deg | C12: Min | D12: Sec | E12: Deg | F12: Min | G12: Sec | H12: Deg | I12: Min | J12: Sec | K12: Deg | L12: Min | M12: Sec | N12: Deg | O12: Min | P12: Sec | Q12: Deg | R12: Min | S12: Sec | T12: DIST FWD LINE | U12: "X" (EASTING) | V12: "Y"(NORTHING)
A13: 1 | U13: =IF(T13="","",'PROTECTED CALCULATION SHEET'!AX4) | V13: =IF(T13="","",'PROTECTED CALCULATION SHEET'!AW4)
A14: 2 | U14: =IF(T14="","",'PROTECTED CALCULATION SHEET'!AX5) | V14: =IF(T14="","",'PROTECTED CALCULATION SHEET'!AW5)
A15: 3 | U15: =IF(T15="","",'PROTECTED CALCULATION SHEET'!AX6) | V15: =IF(T15="","",'PROTECTED CALCULATION SHEET'!AW6)
A16: 4 | U16: =IF(T16="","",'PROTECTED CALCULATION SHEET'!AX7) | V16: =IF(T16="","",'PROTECTED CALCULATION SHEET'!AW7)
A17: 5 | U17: =IF(T17="","",'PROTECTED CALCULATION SHEET'!AX8) | V17: =IF(T17="","",'PROTECTED CALCULATION SHEET'!AW8)
A18: 6 | U18: =IF(T18="","",'PROTECTED CALCULATION SHEET'!AX9) | V18: =IF(T18="","",'PROTECTED CALCULATION SHEET'!AW9)
A19: 7 | U19: =IF(T19="","",'PROTECTED CALCULATION SHEET'!AX10) | V19: =IF(T19="","",'PROTECTED CALCULATION SHEET'!AW10)
A20: 8 | U20: =IF(T20="","",'PROTECTED CALCULATION SHEET'!AX11) | V20: =IF(T20="","",'PROTECTED CALCULATION SHEET'!AW11)
A21: 9 | U21: =IF(T21="","",'PROTECTED CALCULATION SHEET'!AX12) | V21: =IF(T21="","",'PROTECTED CALCULATION SHEET'!AW12)
A22: 10 | U22: =IF(T22="","",'PROTECTED CALCULATION SHEET'!AX13) | V22: =IF(T22="","",'PROTECTED CALCULATION SHEET'!AW13)
A23: 11 | U23: =IF(T23="","",'PROTECTED CALCULATION SHEET'!AX14) | V23: =IF(T23="","",'PROTECTED CALCULATION SHEET'!AW14)
A24: 12 | U24: =IF(T24="","",'PROTECTED CALCULATION SHEET'!AX15) | V24: =IF(T24="","",'PROTECTED CALCULATION SHEET'!AW15)
... A33: 21 | U33: =IF(T33="","",'PROTECTED CALCULATION SHEET'!AX24) | V33: =IF(T33="","",'PROTECTED CALCULATION SHEET'!AW24)
A34: 22 | U34: =IF(T34="","",'PROTECTED CALCULATION SHEET'!AX25) | V34: =IF(T34="","",'PROTECTED CALCULATION SHEET'!AW25) | W34: `
A35: 23 | U35: =IF(T35="","",'PROTECTED CALCULATION SHEET'!AX26) | V35: =IF(T35="","",'PROTECTED CALCULATION SHEET'!AW26)
A36: 24 | U36: =IF(T36="","",'PROTECTED CALCULATION SHEET'!AX27) | V36: =IF(T36="","",'PROTECTED CALCULATION SHEET'!AW27)
A37: 25 | U37: =IF(T37="","",'PROTECTED CALCULATION SHEET'!AX28) | V37: =IF(T37="","",'PROTECTED CALCULATION SHEET'!AW28)
A38: 26 | U38: =IF(T38="","",'PROTECTED CALCULATION SHEET'!AX29) | V38: =IF(T38="","",'PROTECTED CALCULATION SHEET'!AW29)
A39: 27 | U39: =IF(T39="","",'PROTECTED CALCULATION SHEET'!AX30) | V39: =IF(T39="","",'PROTECTED CALCULATION SHEET'!AW30)
A40: 28 | U40: =IF(T40="","",'PROTECTED CALCULATION SHEET'!AX31) | V40: =IF(T40="","",'PROTECTED CALCULATION SHEET'!AW31)
A41: 29 | U41: =IF(T41="","",'PROTECTED CALCULATION SHEET'!AX32) | V41: =IF(T41="","",'PROTECTED CALCULATION SHEET'!AW32)
A42: 30 | U42: =IF(T42="","",'PROTECTED CALCULATION SHEET'!AX33) | V42: =IF(T42="","",'PROTECTED CALCULATION SHEET'!AW33)
A43: 31 | U43: =IF(T43="","",'PROTECTED CALCULATION SHEET'!AX34) | V43: =IF(T43="","",'PROTECTED CALCULATION SHEET'!AW34)
A44: 32 | U44: =IF(T44="","",'PROTECTED CALCULATION SHEET'!AX35) | V44: =IF(T44="","",'PROTECTED CALCULATION SHEET'!AW35)
A45: 33 | U45: =IF(T45="","",'PROTECTED CALCULATION SHEET'!AX36) | V45: =IF(T45="","",'PROTECTED CALCULATION SHEET'!AW36)
A46: 34 | U46: =IF(T46="","",'PROTECTED CALCULATION SHEET'!AX37) | V46: =IF(T46="","",'PROTECTED CALCULATION SHEET'!AW37)
... A62: 50 | U62: =IF(T62="","",'PROTECTED CALCULATION SHEET'!AX53) | V62: =IF(T62="","",'PROTECTED CALCULATION SHEET'!AW53)

Sheet PROTECTED CALCULATION SHEET
A1: MAIN WORKSHEET AREA | AW1: y | AX1: x
M2: POINT NUMBER | AI2: ADJUSTED ANGLES | AJ2: FORMULA REF | AN2: DISTANCE ADJUSTEMENTS | AW2: COORDINATES
A3: LINE | B3: DEG | C3: MIN | D3: SEC | E3: AZIMUTH | F3: ADJ. DIST. | G3: DISTANCE | H3: COSINE | I3: LATITUDE | J3: SINE | K3: DEPARTURE | AH3: AVERAGE | AI3: INT. ANGLES | AJ3: =BN3 -> 180 | AK3: BACK AZIMUTH | AL3: AZIMUTH OF LINE | AM3: PERCENTAGES | AN3: LATITUDE ADJUSTMENT | AO3: DEPARTURE ADJUSTMENT | AP3: DISTANCE | AS3: COSINE | AT3: LATITUDE | AU3: SINE | AV3: DEPARTURE | AW3: NORTHING | AX3: EASTING | AY3: ='DATA ENTRY SHEET'!T2 -> 0 | AZ3: ='DATA ENTRY SHEET'!U2 -> 0 | BD3: =ABS(DEGREES(ATAN(('DATA ENTRY SHEET'!T3-'DATA ENTRY SHEET'!T2)/('DATA ENTRY SHEET'!U3-'DATA ENTRY SHEET'!U2)))) -> #DIV/0! | BE3: =IF(AND('DATA ENTRY SHEET'!T3>'DATA ENTRY SHEET'!T2,'DATA ENTRY SHEET'!U3>'DATA ENTRY SHEET'!U2),'PROTECTED CALCULATION SHEET'!BD3,"") | BF3: =IF(AND('DATA ENTRY SHEET'!T3>'DATA ENTRY SHEET'!T2,'DATA ENTRY SHEET'!U3<'DATA ENTRY SHEET'!U2),180-'PROTECTED CALCULATION SHEET'!BD3,"") | BG3: =IF(AND('DATA ENTRY SHEET'!U3>'DATA ENTRY SHEET'!U2,'DATA ENTRY SHEET'!T3<'DATA ENTRY SHEET'!T2),360-'PROTECTED CALCULATION SHEET'!BD3,"") | BH3: =IF(AND('DATA ENTRY SHEET'!T3<'DATA ENTRY SHEET'!T2,'DATA ENTRY SHEET'!U3<'DATA ENTRY SHEET'!U2),180+'PROTECTED CALCULATION SHEET'!BD3,"") | BI3: =IF(AND('DATA ENTRY SHEET'!T3-'DATA ENTRY SHEET'!T2=0,'DATA ENTRY SHEET'!U3>'DATA ENTRY SHEET'!U2),0,"") | BJ3: =IF(AND('DATA ENTRY SHEET'!T3-'DATA ENTRY SHEET'!T2=0,'DATA ENTRY SHEET'!U3<'DATA ENTRY SHEET'!U2),180,"") | BK3: =IF(AND('DATA ENTRY SHEET'!U3-'DATA ENTRY SHEET'!U2=0,'DATA ENTRY SHEET'!T3>'DATA ENTRY SHEET'!T2),90,"") | BL3: =IF(AND('DATA ENTRY SHEET'!U3-'DATA ENTRY SHEET'!U2=0,'DATA ENTRY SHEET'!T3<'DATA ENTRY SHEET'!T2),270,"") | BN3: =IF(BO3+180>360,(BO3+180)-360,BO3+180) -> 180 | BO3: =SUM(BE3:BL3) -> 0 | CG3: AREA CALCULATION
A4: 1 | E4: =SUM(AL4) -> 0 | G4: ='DATA ENTRY SHEET'!T13 -> 0 | H4: =(COS(RADIANS(E4))) -> 1 | I4: =(G4*H4) -> 0 | J4: =SIN(RADIANS(E4)) -> 0 | K4: =(G4*J4) -> 0 | AF4: =IF(AND($A$54="RIGHT",'DATA ENTRY SHEET'!B13>0),ABS('ANGLE DETERMINATION'!AG3-360),IF(AND($A$54="LEFT",'DATA ENTRY SHEET'!B13>0),'ANGLE DETERMINATION'!AG3,IF(OR('DATA ENTRY SHEET'!$U$4="",'DATA ENTRY SHEET'!B13=""),"",FALSE))) | AG4: =IF(AND($A$54="RIGHT",'DATA ENTRY SHEET'!B13>0),ABS('ANGLE DETERMINATION'!AG3),IF(AND($A$54="LEFT",'DATA ENTRY SHEET'!B13>0),'ANGLE DETERMINATION'!AG3,IF(OR('DATA ENTRY SHEET'!$U$4="",'DATA ENTRY SHEET'!B13=""),"",FALSE))) | AH4: =IF('DATA ENTRY SHEET'!$U$6="YES",'PROTECTED CALCULATION SHEET'!AG4,IF('DATA ENTRY SHEET'!$U$6="NO",'PROTECTED CALCULATION SHEET'!AF4,IF('DATA ENTRY SHEET'!$U$6="","", FALSE))) | AI4: =IF(AH4="","",IF($AH$59>$AH$60,(AH4-$AI$61),IF($AH$59<$AH$60,(AH4+$AI$61),AH4))) | AJ4: =IF(AI4="","",SUM(AL4)) | AK4: =IF(AI4="","",SUM(AJ3+180)) | AL4: =IF(AI4="","",IF($A$54="LEFT",BA4,IF($A$54="RIGHT",BB4,FALSE))) | AM4: =G4/$L$64 -> #DIV/0! | AN4: =IF((AND(I4>=0,$I$62>=0)),-($I$62*AM4)+I4,IF((AND(I4>=0,$I$62<0)),ABS(AM4*$I$62)+I4,IF((AND(I4<0,$I$62>=0)),-(AM4*$I$62)+I4,IF((AND(I4<0,$I$62<0)),ABS(AM4*$I$62)+I4)))) -> #DIV/0! | AO4: =IF((AND(K4>=0,$K$62>=0)),K4-ABS($K$62*AM4),IF((AND(K4>=0,$K$62<0)),ABS(AM4*$K$62)+K4,IF((AND(K4<0,$K$62>=0)),-(AM4*$K$62)+K4,IF((AND(K4<0,$K$62<0)),ABS(AM4*$K$62)+K4)))) -> #DIV/0! | AP4: =SQRT((AN4*AN4)+(AO4*AO4)) -> #DIV/0! | AS4: =IF(G4=0,"",(COS(RADIANS(AL4)))) | AT4: =(IF(AN4="","",AN4)) -> #DIV/0! | AU4: =IF(G4=0,"",SIN(RADIANS(AL4))) | AV4: =IF(AO4="","",AO4) -> #DIV/0! | AW4: ='DATA ENTRY SHEET'!U2+AT4 -> #DIV/0! | AX4: ='DATA ENTRY SHEET'!T2+AV4 -> #DIV/0! | AY4: =SUM(AX4) -> #DIV/0! | AZ4: =SUM(AW4) -> #DIV/0! | BA4: =IF(SUM(AK4+AI4)>360,SUM(AK4+AI4)-360,SUM(AK4+AI4)) -> #VALUE! | BB4: =IF(SUM(AK4-AI4)>360,SUM(AK4-AI4)-360,SUM(AK4-AI4)) -> #VALUE! | CH4: ='DATA ENTRY SHEET'!U13 | CI4: ='DATA ENTRY SHEET'!V13
A5: 2 | E5: =SUM(AL5) -> 0 | G5: ='DATA ENTRY SHEET'!T14 -> 0 | H5: =(COS(RADIANS(E5))) -> 1 | I5: =(G5*H5) -> 0 | J5: =SIN(RADIANS(E5)) -> 0 | K5: =(G5*J5) -> 0 | AF5: =IF(AND($A$54="RIGHT",'DATA ENTRY SHEET'!B14>0),ABS('ANGLE DETERMINATION'!AG4-360),IF(AND($A$54="LEFT",'DATA ENTRY SHEET'!B14>0),'ANGLE DETERMINATION'!AG4,IF(OR('DATA ENTRY SHEET'!$U$4="",'DATA ENTRY SHEET'!B14=""),"",FALSE))) | AG5: =IF(AND($A$54="RIGHT",'DATA ENTRY SHEET'!B14>0),ABS('ANGLE DETERMINATION'!AG4),IF(AND($A$54="LEFT",'DATA ENTRY SHEET'!B14>0),'ANGLE DETERMINATION'!AG4,IF(OR('DATA ENTRY SHEET'!$U$4="",'DATA ENTRY SHEET'!B14=""),"",FALSE))) | AH5: =IF('DATA ENTRY SHEET'!$U$6="YES",'PROTECTED CALCULATION SHEET'!AG5,IF('DATA ENTRY SHEET'!$U$6="NO",'PROTECTED CALCULATION SHEET'!AF5,IF('DATA ENTRY SHEET'!$U$6="","", FALSE))) | AI5: =IF(AH5="","",IF($AH$59>$AH$60,(AH5-$AI$61),IF($AH$59<$AH$60,(AH5+$AI$61),AH5))) | AJ5: =IF(AI5="","",SUM(AL5)) | AK5: =IF(AI5="","",SUM(AJ4+180)) | AL5: =IF(AI5="","",IF($A$54="LEFT",BA5,IF($A$54="RIGHT",BB5,FALSE))) | AM5: =G5/$L$64 -> #DIV/0! | AN5: =IF((AND(I5>=0,$I$62>=0)),-($I$62*AM5)+I5,IF((AND(I5>=0,$I$62<0)),ABS(AM5*$I$62)+I5,IF((AND(I5<0,$I$62>=0)),-(AM5*$I$62)+I5,IF((AND(I5<0,$I$62<0)),ABS(AM5*$I$62)+I5)))) -> #DIV/0! | AO5: =IF((AND(K5>=0,$K$62>=0)),K5-ABS($K$62*AM5),IF((AND(K5>=0,$K$62<0)),ABS(AM5*$K$62)+K5,IF((AND(K5<0,$K$62>=0)),-(AM5*$K$62)+K5,IF((AND(K5<0,$K$62<0)),ABS(AM5*$K$62)+K5)))) -> #DIV/0! | AP5: =SQRT((AN5*AN5)+(AO5*AO5)) -> #DIV/0! | AS5: =IF(G5=0,"",(COS(RADIANS(AL5)))) | AT5: =(IF(AN5="","",AN5)) -> #DIV/0! | AU5: =IF(G5=0,"",SIN(RADIANS(AL5))) | AV5: =IF(AO5="","",AO5) -> #DIV/0! | AW5: ='DATA ENTRY SHEET'!V13+AT5 -> #VALUE! | AX5: ='DATA ENTRY SHEET'!U13+AV5 -> #VALUE! | AY5: =SUM(AX5) -> #VALUE! | AZ5: =SUM(AW5) -> #VALUE! | BA5: =IF(SUM(AK5+AI5)>360,SUM(AK5+AI5)-360,SUM(AK5+AI5)) -> #VALUE! | BB5: =IF(SUM(AK5-AI5)>360,SUM(AK5-AI5)-360,SUM(AK5-AI5)) -> #VALUE! | CF5: =IF(CH6="",CH5,"") | CG5: =IF(CI5="","",CI4*CH5) | CH5: ='DATA ENTRY SHEET'!U14 | CI5: ='DATA ENTRY SHEET'!V14 | CJ5: =IF(CH5="","",CH4*CI5) | CK5: =IF(CI6="",CI5,"")
A6: 3 | E6: =SUM(AL6) -> 0 | G6: ='DATA ENTRY SHEET'!T15 -> 0 | H6: =(COS(RADIANS(E6))) -> 1 | I6: =(G6*H6) -> 0 | J6: =SIN(RADIANS(E6)) -> 0 | K6: =(G6*J6) -> 0 | AF6: =IF(AND($A$54="RIGHT",'DATA ENTRY SHEET'!B15>0),ABS('ANGLE DETERMINATION'!AG5-360),IF(AND($A$54="LEFT",'DATA ENTRY SHEET'!B15>0),'ANGLE DETERMINATION'!AG5,IF(OR('DATA ENTRY SHEET'!$U$4="",'DATA ENTRY SHEET'!B15=""),"",FALSE))) | AG6: =IF(AND($A$54="RIGHT",'DATA ENTRY SHEET'!B15>0),ABS('ANGLE DETERMINATION'!AG5),IF(AND($A$54="LEFT",'DATA ENTRY SHEET'!B15>0),'ANGLE DETERMINATION'!AG5,IF(OR('DATA ENTRY SHEET'!$U$4="",'DATA ENTRY SHEET'!B15=""),"",FALSE))) | AH6: =IF('DATA ENTRY SHEET'!$U$6="YES",'PROTECTED CALCULATION SHEET'!AG6,IF('DATA ENTRY SHEET'!$U$6="NO",'PROTECTED CALCULATION SHEET'!AF6,IF('DATA ENTRY SHEET'!$U$6="","", FALSE))) | AI6: =IF(AH6="","",IF($AH$59>$AH$60,(AH6-$AI$61),IF($AH$59<$AH$60,(AH6+$AI$61),AH6))) | AJ6: =IF(AI6="","",SUM(AL6)) | AK6: =IF(AI6="","",SUM(AJ5+180)) | AL6: =IF(AI6="","",IF($A$54="LEFT",BA6,IF($A$54="RIGHT",BB6,FALSE))) | AM6: =G6/$L$64 -> #DIV/0! | AN6: =IF((AND(I6>=0,$I$62>=0)),-($I$62*AM6)+I6,IF((AND(I6>=0,$I$62<0)),ABS(AM6*$I$62)+I6,IF((AND(I6<0,$I$62>=0)),-(AM6*$I$62)+I6,IF((AND(I6<0,$I$62<0)),ABS(AM6*$I$62)+I6)))) -> #DIV/0! | AO6: =IF((AND(K6>=0,$K$62>=0)),K6-ABS($K$62*AM6),IF((AND(K6>=0,$K$62<0)),ABS(AM6*$K$62)+K6,IF((AND(K6<0,$K$62>=0)),-(AM6*$K$62)+K6,IF((AND(K6<0,$K$62<0)),ABS(AM6*$K$62)+K6)))) -> #DIV/0! | AP6: =SQRT((AN6*AN6)+(AO6*AO6)) -> #DIV/0! | AS6: =IF(G6=0,"",(COS(RADIANS(AL6)))) | AT6: =(IF(AN6="","",AN6)) -> #DIV/0! | AU6: =IF(G6=0,"",SIN(RADIANS(AL6))) | AV6: =IF(AO6="","",AO6) -> #DIV/0! | AW6: ='DATA ENTRY SHEET'!V14+AT6 -> #VALUE! | AX6: ='DATA ENTRY SHEET'!U14+AV6 -> #VALUE! | AY6: =SUM(AX6) -> #VALUE! | AZ6: =SUM(AW6) -> #VALUE! | BA6: =IF(SUM(AK6+AI6)>360,SUM(AK6+AI6)-360,SUM(AK6+AI6)) -> #VALUE! | BB6: =IF(SUM(AK6-AI6)>360,SUM(AK6-AI6)-360,SUM(AK6-AI6)) -> #VALUE! | CF6: =IF(CH7="",CH6,"") | CG6: =IF(CI6="","",CI5*CH6) | CH6: ='DATA ENTRY SHEET'!U15 | CI6: ='DATA ENTRY SHEET'!V15 | CJ6: =IF(CH6="","",CH5*CI6) | CK6: =IF(CI7="",CI6,"")
A7: 4 | E7: =SUM(AL7) -> 0 | G7: ='DATA ENTRY SHEET'!T16 -> 0 | H7: =(COS(RADIANS(E7))) -> 1 | I7: =(G7*H7) -> 0 | J7: =SIN(RADIANS(E7)) -> 0 | K7: =(G7*J7) -> 0 | AF7: =IF(AND($A$54="RIGHT",'DATA ENTRY SHEET'!B16>0),ABS('ANGLE DETERMINATION'!AG6-360),IF(AND($A$54="LEFT",'DATA ENTRY SHEET'!B16>0),'ANGLE DETERMINATION'!AG6,IF(OR('DATA ENTRY SHEET'!$U$4="",'DATA ENTRY SHEET'!B16=""),"",FALSE))) | AG7: =IF(AND($A$54="RIGHT",'DATA ENTRY SHEET'!B16>0),ABS('ANGLE DETERMINATION'!AG6),IF(AND($A$54="LEFT",'DATA ENTRY SHEET'!B16>0),'ANGLE DETERMINATION'!AG6,IF(OR('DATA ENTRY SHEET'!$U$4="",'DATA ENTRY SHEET'!B16=""),"",FALSE))) | AH7: =IF('DATA ENTRY SHEET'!$U$6="YES",'PROTECTED CALCULATION SHEET'!AG7,IF('DATA ENTRY SHEET'!$U$6="NO",'PROTECTED CALCULATION SHEET'!AF7,IF('DATA ENTRY SHEET'!$U$6="","", FALSE))) | AI7: =IF(AH7="","",IF($AH$59>$AH$60,(AH7-$AI$61),IF($AH$59<$AH$60,(AH7+$AI$61),AH7))) | AJ7: =IF(AI7="","",SUM(AL7)) | AK7: =IF(AI7="","",SUM(AJ6+180)) | AL7: =IF(AI7="","",IF($A$54="LEFT",BA7,IF($A$54="RIGHT",BB7,FALSE))) | AM7: =G7/$L$64 -> #DIV/0! | AN7: =IF((AND(I7>=0,$I$62>=0)),-($I$62*AM7)+I7,IF((AND(I7>=0,$I$62<0)),ABS(AM7*$I$62)+I7,IF((AND(I7<0,$I$62>=0)),-(AM7*$I$62)+I7,IF((AND(I7<0,$I$62<0)),ABS(AM7*$I$62)+I7)))) -> #DIV/0! | AO7: =IF((AND(K7>=0,$K$62>=0)),K7-ABS($K$62*AM7),IF((AND(K7>=0,$K$62<0)),ABS(AM7*$K$62)+K7,IF((AND(K7<0,$K$62>=0)),-(AM7*$K$62)+K7,IF((AND(K7<0,$K$62<0)),ABS(AM7*$K$62)+K7)))) -> #DIV/0! | AP7: =SQRT((AN7*AN7)+(AO7*AO7)) -> #DIV/0! | AS7: =IF(G7=0,"",(COS(RADIANS(AL7)))) | AT7: =(IF(AN7="","",AN7)) -> #DIV/0! | AU7: =IF(G7=0,"",SIN(RADIANS(AL7))) | AV7: =IF(AO7="","",AO7) -> #DIV/0! | AW7: ='DATA ENTRY SHEET'!V15+AT7 -> #VALUE! | AX7: ='DATA ENTRY SHEET'!U15+AV7 -> #VALUE! | AY7: =SUM(AX7) -> #VALUE! | AZ7: =SUM(AW7) -> #VALUE! | BA7: =IF(SUM(AK7+AI7)>360,SUM(AK7+AI7)-360,SUM(AK7+AI7)) -> #VALUE! | BB7: =IF(SUM(AK7-AI7)>360,SUM(AK7-AI7)-360,SUM(AK7-AI7)) -> #VALUE! | CF7: =IF(CH8="",CH7,"") | CG7: =IF(CI7="","",CI6*CH7) | CH7: ='DATA ENTRY SHEET'!U16 | CI7: ='DATA ENTRY SHEET'!V16 | CJ7: =IF(CH7="","",CH6*CI7) | CK7: =IF(CI8="",CI7,"")
A8: 5 | E8: =SUM(AL8) -> 0 | G8: ='DATA ENTRY SHEET'!T17 -> 0 | H8: =(COS(RADIANS(E8))) -> 1 | I8: =(G8*H8) -> 0 | J8: =SIN(RADIANS(E8)) -> 0 | K8: =(G8*J8) -> 0 | AF8: =IF(AND($A$54="RIGHT",'DATA ENTRY SHEET'!B17>0),ABS('ANGLE DETERMINATION'!AG7-360),IF(AND($A$54="LEFT",'DATA ENTRY SHEET'!B17>0),'ANGLE DETERMINATION'!AG7,IF(OR('DATA ENTRY SHEET'!$U$4="",'DATA ENTRY SHEET'!B17=""),"",FALSE))) | AG8: =IF(AND($A$54="RIGHT",'DATA ENTRY SHEET'!B17>0),ABS('ANGLE DETERMINATION'!AG7),IF(AND($A$54="LEFT",'DATA ENTRY SHEET'!B17>0),'ANGLE DETERMINATION'!AG7,IF(OR('DATA ENTRY SHEET'!$U$4="",'DATA ENTRY SHEET'!B17=""),"",FALSE))) | AH8: =IF('DATA ENTRY SHEET'!$U$6="YES",'PROTECTED CALCULATION SHEET'!AG8,IF('DATA ENTRY SHEET'!$U$6="NO",'PROTECTED CALCULATION SHEET'!AF8,IF('DATA ENTRY SHEET'!$U$6="","", FALSE))) | AI8: =IF(AH8="","",IF($AH$59>$AH$60,(AH8-$AI$61),IF($AH$59<$AH$60,(AH8+$AI$61),AH8))) | AJ8: =IF(AI8="","",SUM(AL8)) | AK8: =IF(AI8="","",SUM(AJ7+180)) | AL8: =IF(AI8="","",IF($A$54="LEFT",BA8,IF($A$54="RIGHT",BB8,FALSE))) | AM8: =G8/$L$64 -> #DIV/0! | AN8: =IF((AND(I8>=0,$I$62>=0)),-($I$62*AM8)+I8,IF((AND(I8>=0,$I$62<0)),ABS(AM8*$I$62)+I8,IF((AND(I8<0,$I$62>=0)),-(AM8*$I$62)+I8,IF((AND(I8<0,$I$62<0)),ABS(AM8*$I$62)+I8)))) -> #DIV/0! | AO8: =IF((AND(K8>=0,$K$62>=0)),K8-ABS($K$62*AM8),IF((AND(K8>=0,$K$62<0)),ABS(AM8*$K$62)+K8,IF((AND(K8<0,$K$62>=0)),-(AM8*$K$62)+K8,IF((AND(K8<0,$K$62<0)),ABS(AM8*$K$62)+K8)))) -> #DIV/0! | AP8: =SQRT((AN8*AN8)+(AO8*AO8)) -> #DIV/0! | AS8: =IF(G8=0,"",(COS(RADIANS(AL8)))) | AT8: =(IF(AN8="","",AN8)) -> #DIV/0! | AU8: =IF(G8=0,"",SIN(RADIANS(AL8))) | AV8: =IF(AO8="","",AO8) -> #DIV/0! | AW8: ='DATA ENTRY SHEET'!V16+AT8 -> #VALUE! | AX8: ='DATA ENTRY SHEET'!U16+AV8 -> #VALUE! | AY8: =SUM(AX8) -> #VALUE! | AZ8: =SUM(AW8) -> #VALUE! | BA8: =IF(SUM(AK8+AI8)>360,SUM(AK8+AI8)-360,SUM(AK8+AI8)) -> #VALUE! | BB8: =IF(SUM(AK8-AI8)>360,SUM(AK8-AI8)-360,SUM(AK8-AI8)) -> #VALUE! | CF8: =IF(CH9="",CH8,"") | CG8: =IF(CI8="","",CI7*CH8) | CH8: ='DATA ENTRY SHEET'!U17 | CI8: ='DATA ENTRY SHEET'!V17 | CJ8: =IF(CH8="","",CH7*CI8) | CK8: =IF(CI9="",CI8,"")
A9: 6 | E9: =SUM(AL9) -> 0 | G9: ='DATA ENTRY SHEET'!T18 -> 0 | H9: =(COS(RADIANS(E9))) -> 1 | I9: =(G9*H9) -> 0 | J9: =SIN(RADIANS(E9)) -> 0 | K9: =(G9*J9) -> 0 | AF9: =IF(AND($A$54="RIGHT",'DATA ENTRY SHEET'!B18>0),ABS('ANGLE DETERMINATION'!AG8-360),IF(AND($A$54="LEFT",'DATA ENTRY SHEET'!B18>0),'ANGLE DETERMINATION'!AG8,IF(OR('DATA ENTRY SHEET'!$U$4="",'DATA ENTRY SHEET'!B18=""),"",FALSE))) | AG9: =IF(AND($A$54="RIGHT",'DATA ENTRY SHEET'!B18>0),ABS('ANGLE DETERMINATION'!AG8),IF(AND($A$54="LEFT",'DATA ENTRY SHEET'!B18>0),'ANGLE DETERMINATION'!AG8,IF(OR('DATA ENTRY SHEET'!$U$4="",'DATA ENTRY SHEET'!B18=""),"",FALSE))) | AH9: =IF('DATA ENTRY SHEET'!$U$6="YES",'PROTECTED CALCULATION SHEET'!AG9,IF('DATA ENTRY SHEET'!$U$6="NO",'PROTECTED CALCULATION SHEET'!AF9,IF('DATA ENTRY SHEET'!$U$6="","", FALSE))) | AI9: =IF(AH9="","",IF($AH$59>$AH$60,(AH9-$AI$61),IF($AH$59<$AH$60,(AH9+$AI$61),AH9))) | AJ9: =IF(AI9="","",SUM(AL9)) | AK9: =IF(AI9="","",SUM(AJ8+180)) | AL9: =IF(AI9="","",IF($A$54="LEFT",BA9,IF($A$54="RIGHT",BB9,FALSE))) | AM9: =G9/$L$64 -> #DIV/0! | AN9: =IF((AND(I9>=0,$I$62>=0)),-($I$62*AM9)+I9,IF((AND(I9>=0,$I$62<0)),ABS(AM9*$I$62)+I9,IF((AND(I9<0,$I$62>=0)),-(AM9*$I$62)+I9,IF((AND(I9<0,$I$62<0)),ABS(AM9*$I$62)+I9)))) -> #DIV/0! | AO9: =IF((AND(K9>=0,$K$62>=0)),K9-ABS($K$62*AM9),IF((AND(K9>=0,$K$62<0)),ABS(AM9*$K$62)+K9,IF((AND(K9<0,$K$62>=0)),-(AM9*$K$62)+K9,IF((AND(K9<0,$K$62<0)),ABS(AM9*$K$62)+K9)))) -> #DIV/0! | AP9: =SQRT((AN9*AN9)+(AO9*AO9)) -> #DIV/0! | AS9: =IF(G9=0,"",(COS(RADIANS(AL9)))) | AT9: =(IF(AN9="","",AN9)) -> #DIV/0! | AU9: =IF(G9=0,"",SIN(RADIANS(AL9))) | AV9: =IF(AO9="","",AO9) -> #DIV/0! | AW9: ='DATA ENTRY SHEET'!V17+AT9 -> #VALUE! | AX9: ='DATA ENTRY SHEET'!U17+AV9 -> #VALUE! | AY9: =SUM(AX9) -> #VALUE! | AZ9: =SUM(AW9) -> #VALUE! | BA9: =IF(SUM(AK9+AI9)>360,SUM(AK9+AI9)-360,SUM(AK9+AI9)) -> #VALUE! | BB9: =IF(SUM(AK9-AI9)>360,SUM(AK9-AI9)-360,SUM(AK9-AI9)) -> #VALUE! | CF9: =IF(CH10="",CH9,"") | CG9: =IF(CI9="","",CI8*CH9) | CH9: ='DATA ENTRY SHEET'!U18 | CI9: ='DATA ENTRY SHEET'!V18 | CJ9: =IF(CH9="","",CH8*CI9) | CK9: =IF(CI10="",CI9,"")
A10: 7 | E10: =SUM(AL10) -> 0 | G10: ='DATA ENTRY SHEET'!T19 -> 0 | H10: =(COS(RADIANS(E10))) -> 1 | I10: =(G10*H10) -> 0 | J10: =SIN(RADIANS(E10)) -> 0 | K10: =(G10*J10) -> 0 | AF10: =IF(AND($A$54="RIGHT",'DATA ENTRY SHEET'!B19>0),ABS('ANGLE DETERMINATION'!AG9-360),IF(AND($A$54="LEFT",'DATA ENTRY SHEET'!B19>0),'ANGLE DETERMINATION'!AG9,IF(OR('DATA ENTRY SHEET'!$U$4="",'DATA ENTRY SHEET'!B19=""),"",FALSE))) | AG10: =IF(AND($A$54="RIGHT",'DATA ENTRY SHEET'!B19>0),ABS('ANGLE DETERMINATION'!AG9),IF(AND($A$54="LEFT",'DATA ENTRY SHEET'!B19>0),'ANGLE DETERMINATION'!AG9,IF(OR('DATA ENTRY SHEET'!$U$4="",'DATA ENTRY SHEET'!B19=""),"",FALSE))) | AH10: =IF('DATA ENTRY SHEET'!$U$6="YES",'PROTECTED CALCULATION SHEET'!AG10,IF('DATA ENTRY SHEET'!$U$6="NO",'PROTECTED CALCULATION SHEET'!AF10,IF('DATA ENTRY SHEET'!$U$6="","", FALSE))) | AI10: =IF(AH10="","",IF($AH$59>$AH$60,(AH10-$AI$61),IF($AH$59<$AH$60,(AH10+$AI$61),AH10))) | AJ10: =IF(AI10="","",SUM(AL10)) | AK10: =IF(AI10="","",SUM(AJ9+180)) | AL10: =IF(AI10="","",IF($A$54="LEFT",BA10,IF($A$54="RIGHT",BB10,FALSE))) | AM10: =G10/$L$64 -> #DIV/0! | AN10: =IF((AND(I10>=0,$I$62>=0)),-($I$62*AM10)+I10,IF((AND(I10>=0,$I$62<0)),ABS(AM10*$I$62)+I10,IF((AND(I10<0,$I$62>=0)),-(AM10*$I$62)+I10,IF((AND(I10<0,$I$62<0)),ABS(AM10*$I$62)+I10)))) -> #DIV/0! | AO10: =IF((AND(K10>=0,$K$62>=0)),K10-ABS($K$62*AM10),IF((AND(K10>=0,$K$62<0)),ABS(AM10*$K$62)+K10,IF((AND(K10<0,$K$62>=0)),-(AM10*$K$62)+K10,IF((AND(K10<0,$K$62<0)),ABS(AM10*$K$62)+K10)))) -> #DIV/0! | AP10: =SQRT((AN10*AN10)+(AO10*AO10)) -> #DIV/0! | AS10: =IF(G10=0,"",(COS(RADIANS(AL10)))) | AT10: =(IF(AN10="","",AN10)) -> #DIV/0! | AU10: =IF(G10=0,"",SIN(RADIANS(AL10))) | AV10: =IF(AO10="","",AO10) -> #DIV/0! | AW10: ='DATA ENTRY SHEET'!V18+AT10 -> #VALUE! | AX10: ='DATA ENTRY SHEET'!U18+AV10 -> #VALUE! | AY10: =SUM(AX10) -> #VALUE! | AZ10: =SUM(AW10) -> #VALUE! | BA10: =IF(SUM(AK10+AI10)>360,SUM(AK10+AI10)-360,SUM(AK10+AI10)) -> #VALUE! | BB10: =IF(SUM(AK10-AI10)>360,SUM(AK10-AI10)-360,SUM(AK10-AI10)) -> #VALUE! | CF10: =IF(CH11="",CH10,"") | CG10: =IF(CI10="","",CI9*CH10) | CH10: ='DATA ENTRY SHEET'!U19 | CI10: ='DATA ENTRY SHEET'!V19 | CJ10: =IF(CH10="","",CH9*CI10) | CK10: =IF(CI11="",CI10,"")
A11: 8 | E11: =SUM(AL11) -> 0 | G11: ='DATA ENTRY SHEET'!T20 -> 0 | H11: =(COS(RADIANS(E11))) -> 1 | I11: =(G11*H11) -> 0 | J11: =SIN(RADIANS(E11)) -> 0 | K11: =(G11*J11) -> 0 | AF11: =IF(AND($A$54="RIGHT",'DATA ENTRY SHEET'!B20>0),ABS('ANGLE DETERMINATION'!AG10-360),IF(AND($A$54="LEFT",'DATA ENTRY SHEET'!B20>0),'ANGLE DETERMINATION'!AG10,IF(OR('DATA ENTRY SHEET'!$U$4="",'DATA ENTRY SHEET'!B20=""),"",FALSE))) | AG11: =IF(AND($A$54="RIGHT",'DATA ENTRY SHEET'!B20>0),ABS('ANGLE DETERMINATION'!AG10),IF(AND($A$54="LEFT",'DATA ENTRY SHEET'!B20>0),'ANGLE DETERMINATION'!AG10,IF(OR('DATA ENTRY SHEET'!$U$4="",'DATA ENTRY SHEET'!B20=""),"",FALSE))) | AH11: =IF('DATA ENTRY SHEET'!$U$6="YES",'PROTECTED CALCULATION SHEET'!AG11,IF('DATA ENTRY SHEET'!$U$6="NO",'PROTECTED CALCULATION SHEET'!AF11,IF('DATA ENTRY SHEET'!$U$6="","", FALSE))) | AI11: =IF(AH11="","",IF($AH$59>$AH$60,(AH11-$AI$61),IF($AH$59<$AH$60,(AH11+$AI$61),AH11))) | AJ11: =IF(AI11="","",SUM(AL11)) | AK11: =IF(AI11="","",SUM(AJ10+180)) | AL11: =IF(AI11="","",IF($A$54="LEFT",BA11,IF($A$54="RIGHT",BB11,FALSE))) | AM11: =G11/$L$64 -> #DIV/0! | AN11: =IF((AND(I11>=0,$I$62>=0)),-($I$62*AM11)+I11,IF((AND(I11>=0,$I$62<0)),ABS(AM11*$I$62)+I11,IF((AND(I11<0,$I$62>=0)),-(AM11*$I$62)+I11,IF((AND(I11<0,$I$62<0)),ABS(AM11*$I$62)+I11)))) -> #DIV/0! | AO11: =IF((AND(K11>=0,$K$62>=0)),K11-ABS($K$62*AM11),IF((AND(K11>=0,$K$62<0)),ABS(AM11*$K$62)+K11,IF((AND(K11<0,$K$62>=0)),-(AM11*$K$62)+K11,IF((AND(K11<0,$K$62<0)),ABS(AM11*$K$62)+K11)))) -> #DIV/0! | AP11: =SQRT((AN11*AN11)+(AO11*AO11)) -> #DIV/0! | AS11: =IF(G11=0,"",(COS(RADIANS(AL11)))) | AT11: =(IF(AN11="","",AN11)) -> #DIV/0! | AU11: =IF(G11=0,"",SIN(RADIANS(AL11))) | AV11: =IF(AO11="","",AO11) -> #DIV/0! | AW11: ='DATA ENTRY SHEET'!V19+AT11 -> #VALUE! | AX11: ='DATA ENTRY SHEET'!U19+AV11 -> #VALUE! | AY11: =SUM(AX11) -> #VALUE! | AZ11: =SUM(AW11) -> #VALUE! | BA11: =IF(SUM(AK11+AI11)>360,SUM(AK11+AI11)-360,SUM(AK11+AI11)) -> #VALUE! | BB11: =IF(SUM(AK11-AI11)>360,SUM(AK11-AI11)-360,SUM(AK11-AI11)) -> #VALUE! | CF11: =IF(CH12="",CH11,"") | CG11: =IF(CI11="","",CI10*CH11) | CH11: ='DATA ENTRY SHEET'!U20 | CI11: ='DATA ENTRY SHEET'!V20 | CJ11: =IF(CH11="","",CH10*CI11) | CK11: =IF(CI12="",CI11,"")
A12: 9 | E12: =SUM(AL12) -> 0 | G12: ='DATA ENTRY SHEET'!T21 -> 0 | H12: =(COS(RADIANS(E12))) -> 1 | I12: =(G12*H12) -> 0 | J12: =SIN(RADIANS(E12)) -> 0 | K12: =(G12*J12) -> 0 | AF12: =IF(AND($A$54="RIGHT",'DATA ENTRY SHEET'!B21>0),ABS('ANGLE DETERMINATION'!AG11-360),IF(AND($A$54="LEFT",'DATA ENTRY SHEET'!B21>0),'ANGLE DETERMINATION'!AG11,IF(OR('DATA ENTRY SHEET'!$U$4="",'DATA ENTRY SHEET'!B21=""),"",FALSE))) | AG12: =IF(AND($A$54="RIGHT",'DATA ENTRY SHEET'!B21>0),ABS('ANGLE DETERMINATION'!AG11),IF(AND($A$54="LEFT",'DATA ENTRY SHEET'!B21>0),'ANGLE DETERMINATION'!AG11,IF(OR('DATA ENTRY SHEET'!$U$4="",'DATA ENTRY SHEET'!B21=""),"",FALSE))) | AH12: =IF('DATA ENTRY SHEET'!$U$6="YES",'PROTECTED CALCULATION SHEET'!AG12,IF('DATA ENTRY SHEET'!$U$6="NO",'PROTECTED CALCULATION SHEET'!AF12,IF('DATA ENTRY SHEET'!$U$6="","", FALSE))) | AI12: =IF(AH12="","",IF($AH$59>$AH$60,(AH12-$AI$61),IF($AH$59<$AH$60,(AH12+$AI$61),AH12))) | AJ12: =IF(AI12="","",SUM(AL12)) | AK12: =IF(AI12="","",SUM(AJ11+180)) | AL12: =IF(AI12="","",IF($A$54="LEFT",BA12,IF($A$54="RIGHT",BB12,FALSE))) | AM12: =G12/$L$64 -> #DIV/0! | AN12: =IF((AND(I12>=0,$I$62>=0)),-($I$62*AM12)+I12,IF((AND(I12>=0,$I$62<0)),ABS(AM12*$I$62)+I12,IF((AND(I12<0,$I$62>=0)),-(AM12*$I$62)+I12,IF((AND(I12<0,$I$62<0)),ABS(AM12*$I$62)+I12)))) -> #DIV/0! | AO12: =IF((AND(K12>=0,$K$62>=0)),K12-ABS($K$62*AM12),IF((AND(K12>=0,$K$62<0)),ABS(AM12*$K$62)+K12,IF((AND(K12<0,$K$62>=0)),-(AM12*$K$62)+K12,IF((AND(K12<0,$K$62<0)),ABS(AM12*$K$62)+K12)))) -> #DIV/0! | AP12: =SQRT((AN12*AN12)+(AO12*AO12)) -> #DIV/0! | AS12: =IF(G12=0,"",(COS(RADIANS(AL12)))) | AT12: =(IF(AN12="","",AN12)) -> #DIV/0! | AU12: =IF(G12=0,"",SIN(RADIANS(AL12))) | AV12: =IF(AO12="","",AO12) -> #DIV/0! | AW12: ='DATA ENTRY SHEET'!V20+AT12 -> #VALUE! | AX12: ='DATA ENTRY SHEET'!U20+AV12 -> #VALUE! | AY12: =SUM(AX12) -> #VALUE! | AZ12: =SUM(AW12) -> #VALUE! | BA12: =IF(SUM(AK12+AI12)>360,SUM(AK12+AI12)-360,SUM(AK12+AI12)) -> #VALUE! | BB12: =IF(SUM(AK12-AI12)>360,SUM(AK12-AI12)-360,SUM(AK12-AI12)) -> #VALUE! | CF12: =IF(CH13="",CH12,"") | CG12: =IF(CI12="","",CI11*CH12) | CH12: ='DATA ENTRY SHEET'!U21 | CI12: ='DATA ENTRY SHEET'!V21 | CJ12: =IF(CH12="","",CH11*CI12) | CK12: =IF(CI13="",CI12,"")
A13: 10 | E13: =SUM(AL13) -> 0 | G13: ='DATA ENTRY SHEET'!T22 -> 0 | H13: =(COS(RADIANS(E13))) -> 1 | I13: =(G13*H13) -> 0 | J13: =SIN(RADIANS(E13)) -> 0 | K13: =(G13*J13) -> 0 | AF13: =IF(AND($A$54="RIGHT",'DATA ENTRY SHEET'!B22>0),ABS('ANGLE DETERMINATION'!AG12-360),IF(AND($A$54="LEFT",'DATA ENTRY SHEET'!B22>0),'ANGLE DETERMINATION'!AG12,IF(OR('DATA ENTRY SHEET'!$U$4="",'DATA ENTRY SHEET'!B22=""),"",FALSE))) | AG13: =IF(AND($A$54="RIGHT",'DATA ENTRY SHEET'!B22>0),ABS('ANGLE DETERMINATION'!AG12),IF(AND($A$54="LEFT",'DATA ENTRY SHEET'!B22>0),'ANGLE DETERMINATION'!AG12,IF(OR('DATA ENTRY SHEET'!$U$4="",'DATA ENTRY SHEET'!B22=""),"",FALSE))) | AH13: =IF('DATA ENTRY SHEET'!$U$6="YES",'PROTECTED CALCULATION SHEET'!AG13,IF('DATA ENTRY SHEET'!$U$6="NO",'PROTECTED CALCULATION SHEET'!AF13,IF('DATA ENTRY SHEET'!$U$6="","", FALSE))) | AI13: =IF(AH13="","",IF($AH$59>$AH$60,(AH13-$AI$61),IF($AH$59<$AH$60,(AH13+$AI$61),AH13))) | AJ13: =IF(AI13="","",SUM(AL13)) | AK13: =IF(AI13="","",SUM(AJ12+180)) | AL13: =IF(AI13="","",IF($A$54="LEFT",BA13,IF($A$54="RIGHT",BB13,FALSE))) | AM13: =G13/$L$64 -> #DIV/0! | AN13: =IF((AND(I13>=0,$I$62>=0)),-($I$62*AM13)+I13,IF((AND(I13>=0,$I$62<0)),ABS(AM13*$I$62)+I13,IF((AND(I13<0,$I$62>=0)),-(AM13*$I$62)+I13,IF((AND(I13<0,$I$62<0)),ABS(AM13*$I$62)+I13)))) -> #DIV/0! | AO13: =IF((AND(K13>=0,$K$62>=0)),K13-ABS($K$62*AM13),IF((AND(K13>=0,$K$62<0)),ABS(AM13*$K$62)+K13,IF((AND(K13<0,$K$62>=0)),-(AM13*$K$62)+K13,IF((AND(K13<0,$K$62<0)),ABS(AM13*$K$62)+K13)))) -> #DIV/0! | AP13: =SQRT((AN13*AN13)+(AO13*AO13)) -> #DIV/0! | AS13: =IF(G13=0,"",(COS(RADIANS(AL13)))) | AT13: =(IF(AN13="","",AN13)) -> #DIV/0! | AU13: =IF(G13=0,"",SIN(RADIANS(AL13))) | AV13: =IF(AO13="","",AO13) -> #DIV/0! | AW13: ='DATA ENTRY SHEET'!V21+AT13 -> #VALUE! | AX13: ='DATA ENTRY SHEET'!U21+AV13 -> #VALUE! | AY13: =SUM(AX13) -> #VALUE! | AZ13: =SUM(AW13) -> #VALUE! | BA13: =IF(SUM(AK13+AI13)>360,SUM(AK13+AI13)-360,SUM(AK13+AI13)) -> #VALUE! | BB13: =IF(SUM(AK13-AI13)>360,SUM(AK13-AI13)-360,SUM(AK13-AI13)) -> #VALUE! | CF13: =IF(CH14="",CH13,"") | CG13: =IF(CI13="","",CI12*CH13) | CH13: ='DATA ENTRY SHEET'!U22 | CI13: ='DATA ENTRY SHEET'!V22 | CJ13: =IF(CH13="","",CH12*CI13) | CK13: =IF(CI14="",CI13,"")
A14: 11 | E14: =SUM(AL14) -> 0 | G14: ='DATA ENTRY SHEET'!T23 -> 0 | H14: =(COS(RADIANS(E14))) -> 1 | I14: =(G14*H14) -> 0 | J14: =SIN(RADIANS(E14)) -> 0 | K14: =(G14*J14) -> 0 | AF14: =IF(AND($A$54="RIGHT",'DATA ENTRY SHEET'!B23>0),ABS('ANGLE DETERMINATION'!AG13-360),IF(AND($A$54="LEFT",'DATA ENTRY SHEET'!B23>0),'ANGLE DETERMINATION'!AG13,IF(OR('DATA ENTRY SHEET'!$U$4="",'DATA ENTRY SHEET'!B23=""),"",FALSE))) | AG14: =IF(AND($A$54="RIGHT",'DATA ENTRY SHEET'!B23>0),ABS('ANGLE DETERMINATION'!AG13),IF(AND($A$54="LEFT",'DATA ENTRY SHEET'!B23>0),'ANGLE DETERMINATION'!AG13,IF(OR('DATA ENTRY SHEET'!$U$4="",'DATA ENTRY SHEET'!B23=""),"",FALSE))) | AH14: =IF('DATA ENTRY SHEET'!$U$6="YES",'PROTECTED CALCULATION SHEET'!AG14,IF('DATA ENTRY SHEET'!$U$6="NO",'PROTECTED CALCULATION SHEET'!AF14,IF('DATA ENTRY SHEET'!$U$6="","", FALSE))) | AI14: =IF(AH14="","",IF($AH$59>$AH$60,(AH14-$AI$61),IF($AH$59<$AH$60,(AH14+$AI$61),AH14))) | AJ14: =IF(AI14="","",SUM(AL14)) | AK14: =IF(AI14="","",SUM(AJ13+180)) | AL14: =IF(AI14="","",IF($A$54="LEFT",BA14,IF($A$54="RIGHT",BB14,FALSE))) | AM14: =G14/$L$64 -> #DIV/0! | AN14: =IF((AND(I14>=0,$I$62>=0)),-($I$62*AM14)+I14,IF((AND(I14>=0,$I$62<0)),ABS(AM14*$I$62)+I14,IF((AND(I14<0,$I$62>=0)),-(AM14*$I$62)+I14,IF((AND(I14<0,$I$62<0)),ABS(AM14*$I$62)+I14)))) -> #DIV/0! | AO14: =IF((AND(K14>=0,$K$62>=0)),K14-ABS($K$62*AM14),IF((AND(K14>=0,$K$62<0)),ABS(AM14*$K$62)+K14,IF((AND(K14<0,$K$62>=0)),-(AM14*$K$62)+K14,IF((AND(K14<0,$K$62<0)),ABS(AM14*$K$62)+K14)))) -> #DIV/0! | AP14: =SQRT((AN14*AN14)+(AO14*AO14)) -> #DIV/0! | AS14: =IF(G14=0,"",(COS(RADIANS(AL14)))) | AT14: =(IF(AN14="","",AN14)) -> #DIV/0! | AU14: =IF(G14=0,"",SIN(RADIANS(AL14))) | AV14: =IF(AO14="","",AO14) -> #DIV/0! | AW14: ='DATA ENTRY SHEET'!V22+AT14 -> #VALUE! | AX14: ='DATA ENTRY SHEET'!U22+AV14 -> #VALUE! | AY14: =SUM(AX14) -> #VALUE! | AZ14: =SUM(AW14) -> #VALUE! | BA14: =IF(SUM(AK14+AI14)>360,SUM(AK14+AI14)-360,SUM(AK14+AI14)) -> #VALUE! | BB14: =IF(SUM(AK14-AI14)>360,SUM(AK14-AI14)-360,SUM(AK14-AI14)) -> #VALUE! | CF14: =IF(CH15="",CH14,"") | CG14: =IF(CI14="","",CI13*CH14) | CH14: ='DATA ENTRY SHEET'!U23 | CI14: ='DATA ENTRY SHEET'!V23 | CJ14: =IF(CH14="","",CH13*CI14) | CK14: =IF(CI15="",CI14,"")
A15: 12 | E15: =SUM(AL15) -> 0 | G15: ='DATA ENTRY SHEET'!T24 -> 0 | H15: =(COS(RADIANS(E15))) -> 1 | I15: =(G15*H15) -> 0 | J15: =SIN(RADIANS(E15)) -> 0 | K15: =(G15*J15) -> 0 | AF15: =IF(AND($A$54="RIGHT",'DATA ENTRY SHEET'!B24>0),ABS('ANGLE DETERMINATION'!AG14-360),IF(AND($A$54="LEFT",'DATA ENTRY SHEET'!B24>0),'ANGLE DETERMINATION'!AG14,IF(OR('DATA ENTRY SHEET'!$U$4="",'DATA ENTRY SHEET'!B24=""),"",FALSE))) | AG15: =IF(AND($A$54="RIGHT",'DATA ENTRY SHEET'!B24>0),ABS('ANGLE DETERMINATION'!AG14),IF(AND($A$54="LEFT",'DATA ENTRY SHEET'!B24>0),'ANGLE DETERMINATION'!AG14,IF(OR('DATA ENTRY SHEET'!$U$4="",'DATA ENTRY SHEET'!B24=""),"",FALSE))) | AH15: =IF('DATA ENTRY SHEET'!$U$6="YES",'PROTECTED CALCULATION SHEET'!AG15,IF('DATA ENTRY SHEET'!$U$6="NO",'PROTECTED CALCULATION SHEET'!AF15,IF('DATA ENTRY SHEET'!$U$6="","", FALSE))) | AI15: =IF(AH15="","",IF($AH$59>$AH$60,(AH15-$AI$61),IF($AH$59<$AH$60,(AH15+$AI$61),AH15))) | AJ15: =IF(AI15="","",SUM(AL15)) | AK15: =IF(AI15="","",SUM(AJ14+180)) | AL15: =IF(AI15="","",IF($A$54="LEFT",BA15,IF($A$54="RIGHT",BB15,FALSE))) | AM15: =G15/$L$64 -> #DIV/0! | AN15: =IF((AND(I15>=0,$I$62>=0)),-($I$62*AM15)+I15,IF((AND(I15>=0,$I$62<0)),ABS(AM15*$I$62)+I15,IF((AND(I15<0,$I$62>=0)),-(AM15*$I$62)+I15,IF((AND(I15<0,$I$62<0)),ABS(AM15*$I$62)+I15)))) -> #DIV/0! | AO15: =IF((AND(K15>=0,$K$62>=0)),K15-ABS($K$62*AM15),IF((AND(K15>=0,$K$62<0)),ABS(AM15*$K$62)+K15,IF((AND(K15<0,$K$62>=0)),-(AM15*$K$62)+K15,IF((AND(K15<0,$K$62<0)),ABS(AM15*$K$62)+K15)))) -> #DIV/0! | AP15: =SQRT((AN15*AN15)+(AO15*AO15)) -> #DIV/0! | AS15: =IF(G15=0,"",(COS(RADIANS(AL15)))) | AT15: =(IF(AN15="","",AN15)) -> #DIV/0! | AU15: =IF(G15=0,"",SIN(RADIANS(AL15))) | AV15: =IF(AO15="","",AO15) -> #DIV/0! | AW15: ='DATA ENTRY SHEET'!V23+AT15 -> #VALUE! | AX15: ='DATA ENTRY SHEET'!U23+AV15 -> #VALUE! | AY15: =SUM(AX15) -> #VALUE! | AZ15: =SUM(AW15) -> #VALUE! | BA15: =IF(SUM(AK15+AI15)>360,SUM(AK15+AI15)-360,SUM(AK15+AI15)) -> #VALUE! | BB15: =IF(SUM(AK15-AI15)>360,SUM(AK15-AI15)-360,SUM(AK15-AI15)) -> #VALUE! | CF15: =IF(CH16="",CH15,"") | CG15: =IF(CI15="","",CI14*CH15) | CH15: ='DATA ENTRY SHEET'!U24 | CI15: ='DATA ENTRY SHEET'!V24 | CJ15: =IF(CH15="","",CH14*CI15) | CK15: =IF(CI16="",CI15,"")
A16: 13 | E16: =SUM(AL16) -> 0 | G16: ='DATA ENTRY SHEET'!T25 -> 0 | H16: =(COS(RADIANS(E16))) -> 1 | I16: =(G16*H16) -> 0 | J16: =SIN(RADIANS(E16)) -> 0 | K16: =(G16*J16) -> 0 | AF16: =IF(AND($A$54="RIGHT",'DATA ENTRY SHEET'!B25>0),ABS('ANGLE DETERMINATION'!AG15-360),IF(AND($A$54="LEFT",'DATA ENTRY SHEET'!B25>0),'ANGLE DETERMINATION'!AG15,IF(OR('DATA ENTRY SHEET'!$U$4="",'DATA ENTRY SHEET'!B25=""),"",FALSE))) | AG16: =IF(AND($A$54="RIGHT",'DATA ENTRY SHEET'!B25>0),ABS('ANGLE DETERMINATION'!AG15),IF(AND($A$54="LEFT",'DATA ENTRY SHEET'!B25>0),'ANGLE DETERMINATION'!AG15,IF(OR('DATA ENTRY SHEET'!$U$4="",'DATA ENTRY SHEET'!B25=""),"",FALSE))) | AH16: =IF('DATA ENTRY SHEET'!$U$6="YES",'PROTECTED CALCULATION SHEET'!AG16,IF('DATA ENTRY SHEET'!$U$6="NO",'PROTECTED CALCULATION SHEET'!AF16,IF('DATA ENTRY SHEET'!$U$6="","", FALSE))) | AI16: =IF(AH16="","",IF($AH$59>$AH$60,(AH16-$AI$61),IF($AH$59<$AH$60,(AH16+$AI$61),AH16))) | AJ16: =IF(AI16="","",SUM(AL16)) | AK16: =IF(AI16="","",SUM(AJ15+180)) | AL16: =IF(AI16="","",IF($A$54="LEFT",BA16,IF($A$54="RIGHT",BB16,FALSE))) | AM16: =G16/$L$64 -> #DIV/0! | AN16: =IF((AND(I16>=0,$I$62>=0)),-($I$62*AM16)+I16,IF((AND(I16>=0,$I$62<0)),ABS(AM16*$I$62)+I16,IF((AND(I16<0,$I$62>=0)),-(AM16*$I$62)+I16,IF((AND(I16<0,$I$62<0)),ABS(AM16*$I$62)+I16)))) -> #DIV/0! | AO16: =IF((AND(K16>=0,$K$62>=0)),K16-ABS($K$62*AM16),IF((AND(K16>=0,$K$62<0)),ABS(AM16*$K$62)+K16,IF((AND(K16<0,$K$62>=0)),-(AM16*$K$62)+K16,IF((AND(K16<0,$K$62<0)),ABS(AM16*$K$62)+K16)))) -> #DIV/0! | AP16: =SQRT((AN16*AN16)+(AO16*AO16)) -> #DIV/0! | AS16: =IF(G16=0,"",(COS(RADIANS(AL16)))) | AT16: =(IF(AN16="","",AN16)) -> #DIV/0! | AU16: =IF(G16=0,"",SIN(RADIANS(AL16))) | AV16: =IF(AO16="","",AO16) -> #DIV/0! | AW16: ='DATA ENTRY SHEET'!V24+AT16 -> #VALUE! | AX16: ='DATA ENTRY SHEET'!U24+AV16 -> #VALUE! | AY16: =SUM(AX16) -> #VALUE! | AZ16: =SUM(AW16) -> #VALUE! | BA16: =IF(SUM(AK16+AI16)>360,SUM(AK16+AI16)-360,SUM(AK16+AI16)) -> #VALUE! | BB16: =IF(SUM(AK16-AI16)>360,SUM(AK16-AI16)-360,SUM(AK16-AI16)) -> #VALUE! | CF16: =IF(CH17="",CH16,"") | CG16: =IF(CI16="","",CI15*CH16) | CH16: ='DATA ENTRY SHEET'!U25 | CI16: ='DATA ENTRY SHEET'!V25 | CJ16: =IF(CH16="","",CH15*CI16) | CK16: =IF(CI17="",CI16,"")
... A53: 50 | E53: =SUM(AL53) -> 0 | G53: ='DATA ENTRY SHEET'!T62 -> 0 | H53: =(COS(RADIANS(E53))) -> 1 | I53: =(G53*H53) -> 0 | J53: =SIN(RADIANS(E53)) -> 0 | K53: =(G53*J53) -> 0 | AF53: =IF(AND($A$54="RIGHT",'DATA ENTRY SHEET'!B62>0),ABS('ANGLE DETERMINATION'!AG52-360),IF(AND($A$54="LEFT",'DATA ENTRY SHEET'!B62>0),'ANGLE DETERMINATION'!AG52,IF(OR('DATA ENTRY SHEET'!$U$4="",'DATA ENTRY SHEET'!B62=""),"",FALSE))) | AG53: =IF(AND($A$54="RIGHT",'DATA ENTRY SHEET'!B62>0),ABS('ANGLE DETERMINATION'!AG52),IF(AND($A$54="LEFT",'DATA ENTRY SHEET'!B62>0),'ANGLE DETERMINATION'!AG52,IF(OR('DATA ENTRY SHEET'!$U$4="",'DATA ENTRY SHEET'!B62=""),"",FALSE))) | AH53: =IF('DATA ENTRY SHEET'!$U$6="YES",'PROTECTED CALCULATION SHEET'!AG53,IF('DATA ENTRY SHEET'!$U$6="NO",'PROTECTED CALCULATION SHEET'!AF53,IF('DATA ENTRY SHEET'!$U$6="","", FALSE))) | AI53: =IF(AH53="","",IF($AH$59>$AH$60,(AH53-$AI$61),IF($AH$59<$AH$60,(AH53+$AI$61),AH53))) | AJ53: =IF(AI53="","",SUM(AL53)) | AK53: =IF(AI53="","",SUM(AJ52+180)) | AL53: =IF(AI53="","",IF($A$54="LEFT",BA53,IF($A$54="RIGHT",BB53,FALSE))) | AM53: =G53/$L$64 -> #DIV/0! | AN53: =IF((AND(I53>=0,$I$62>=0)),-($I$62*AM53)+I53,IF((AND(I53>=0,$I$62<0)),ABS(AM53*$I$62)+I53,IF((AND(I53<0,$I$62>=0)),-(AM53*$I$62)+I53,IF((AND(I53<0,$I$62<0)),ABS(AM53*$I$62)+I53)))) -> #DIV/0! | AO53: =IF((AND(K53>=0,$K$62>=0)),K53-ABS($K$62*AM53),IF((AND(K53>=0,$K$62<0)),ABS(AM53*$K$62)+K53,IF((AND(K53<0,$K$62>=0)),-(AM53*$K$62)+K53,IF((AND(K53<0,$K$62<0)),ABS(AM53*$K$62)+K53)))) -> #DIV/0! | AP53: =SQRT((AN53*AN53)+(AO53*AO53)) -> #DIV/0! | AS53: =IF(G53=0,"",(COS(RADIANS(AL53)))) | AT53: =(IF(AN53="","",AN53)) -> #DIV/0! | AU53: =IF(G53=0,"",SIN(RADIANS(AL53))) | AV53: =IF(AO53="","",AO53) -> #DIV/0! | AW53: ='DATA ENTRY SHEET'!V61+AT53 -> #VALUE! | AX53: ='DATA ENTRY SHEET'!U61+AV53 -> #VALUE! | AY53: =SUM(AX53) -> #VALUE! | AZ53: =SUM(AW53) -> #VALUE! | BA53: =IF(SUM(AK53+AI53)>360,SUM(AK53+AI53)-360,SUM(AK53+AI53)) -> #VALUE! | BB53: =IF(SUM(AK53-AI53)>360,SUM(AK53-AI53)-360,SUM(AK53-AI53)) -> #VALUE! | CF53: =IF(CH54="",CH53,"") | CG53: =IF(CI53="","",CI52*CH53) | CH53: ='DATA ENTRY SHEET'!U62 | CI53: ='DATA ENTRY SHEET'!V62 | CJ53: =IF(CH53="","",CH52*CI53) | CK53: =IF(CI54="",CI53,"")
A54: ='DATA ENTRY SHEET'!U4 -> 0 | CE54: ='DATA ENTRY SHEET'!U13 | CF54: =SUM(CF5:CF53) -> 0 | CG54: =IF(CI54="","",CI53*CH54) | CJ54: =IF(CH54="","",CH53*CI54) | CK54: =SUM(CK5:CK53) -> 0 | CL54: ='DATA ENTRY SHEET'!V13
CG55: =CK54*CE54 -> #VALUE! | CJ55: =CF54*CL54 -> #VALUE!
AE56: NUMBER | AH56: =COUNT(AH4:AH55) -> 0 | CG56: =SUM(CG5:CG55) -> #VALUE! | CJ56: =SUM(CJ5:CJ55) -> #VALUE!
AE59: TRUE INTERIOR ANGLE | AH59: =SUM(AH4:AH53) -> 0 | CI59: =ABS(CG56-CJ56) -> #VALUE!
AE60: SHOULD BE | AH60: =(AH56-2)*180 -> -360 | CI60: =CI59/2 -> #VALUE!
L61: LEOC | AE61: ERROR | AH61: =ABS(AH59-AH60) -> 360 | AI61: =SUM(AH61/AH56) -> #DIV/0! | AJ61: ERROR PER ANGLE | CI61: =CI60/CJ61 -> #VALUE! | CJ61: 43560.17
I62: =SUM(I4:I59) -> 0 | K62: =SUM(K4:K59) -> 0 | L62: =SQRT((I62*I62)+(K62*K62)) -> 0 | AI62: =SUM(AI4:AI14) -> 0 | AJ62: TRUE INTERIOR AFTER ADJUSTMENT | AN62: =SUM(AN4:AN29) -> #DIV/0! | AO62: =SUM(AO4:AO29) -> #DIV/0! | AT62: =SUM(AT4:AT59) -> #DIV/0! | AV62: =SUM(AV4:AV59) -> #DIV/0! | AW62: =SQRT((AT62*AT62)+(AU62*AU62)) -> #DIV/0! | AX62: LEOC
L63: PERIMETER | AW63: =SUM(L64/AW62) -> #DIV/0! | AX63: PRECISION
L64: =SUM(G4:G59) -> 0 | AD64: =AI61 -> #DIV/0! | AH64: =IF(AD64="","",ROUNDDOWN(AD64,0)) -> #DIV/0! | AI64: =(AD64-AH64) -> #DIV/0! | AJ64: =(AI64*60) -> #DIV/0! | AK64: =IF(AD64="","",ROUNDDOWN(AJ64,0)) -> #DIV/0! | AL64: =(AJ64-AK64) -> #DIV/0! | AM64: =IF(AD64="","",(AL64*60)) -> #DIV/0!
L67: CLOSURE ACCURACY
L68: =SUM(L64/L62) -> #DIV/0!
AH90: 184.79681 | AI90: =360-AH90 -> 175.20319

Sheet ANGLE DETERMINATION
C1: DETERMINATION | H1: SUM | I1: ROTATION | J1: LAST ANGLE | O1: AVERAGE ANGLE | T1: SUM | W1: ANGULAR ERROR ADJUSTMENT | AB1: AREA AVERAGING | AG1: SUM | AH1: DECIMAL FORM OF ENTRY SHEET | AM1: AVERAGE
B2: FIRST ANGLE | C2: 2 | D2: 3 | E2: 4 | F2: 5 | G2: 6 | J2: 2 | K2: 3 | L2: 4 | M2: 5 | N2: 6 | O2: 2 | P2: 3 | Q2: 4 | R2: 5 | S2: 6 | W2: 2 | X2: 3 | Y2: 4 | Z2: 5 | AA2: 6 | AB2: 2 | AC2: 3 | AD2: 4 | AE2: 5 | AF2: 6 | AH2: 2 | AI2: 3 | AJ2: 4 | AK2: 5 | AL2: 6 | AM2: 2 | AN2: 3 | AO2: 4 | AP2: 5 | AQ2: 6
A3: 1 | B3: =(('DATA ENTRY SHEET'!B13)+('DATA ENTRY SHEET'!C13/60)+('DATA ENTRY SHEET'!D13/3600)) -> 0 | C3: =IF('DATA ENTRY SHEET'!E13="","",B3*2) | D3: =IF('DATA ENTRY SHEET'!H13="","",B3*3) | E3: =IF('DATA ENTRY SHEET'!K13="","",B3*4) | F3: =IF('DATA ENTRY SHEET'!N13="","",B3*5) | G3: =IF('DATA ENTRY SHEET'!Q13="","",B3*6) | H3: =SUM(C3:G3) -> 0 | I3: =IF(H3<=360,0,IF(AND(H3>360,H3<=720),360,IF(AND(H3>720,H3<=1080),720,IF(AND(H3>1080,H3<=1440),1080,IF(AND(H3>1440,H3<=1800),1440,IF(AND(H3>1800,H3<=2160),1800,"")))))) -> 0 | J3: =IF('DATA ENTRY SHEET'!E13="","",(('DATA ENTRY SHEET'!E13)+('DATA ENTRY SHEET'!F13/60)+('DATA ENTRY SHEET'!G13/3600))+I3) | K3: =IF('DATA ENTRY SHEET'!H13="","",(('DATA ENTRY SHEET'!H13)+('DATA ENTRY SHEET'!I13/60)+('DATA ENTRY SHEET'!J13/3600))+I3) | L3: =IF('DATA ENTRY SHEET'!K13="","",(('DATA ENTRY SHEET'!K13)+('DATA ENTRY SHEET'!L13/60)+('DATA ENTRY SHEET'!M13/3600))+I3) | M3: =IF('DATA ENTRY SHEET'!N13="","",(('DATA ENTRY SHEET'!N13)+('DATA ENTRY SHEET'!O13/60)+('DATA ENTRY SHEET'!P13/3600))+I3) | N3: =IF('DATA ENTRY SHEET'!Q13="","",(('DATA ENTRY SHEET'!Q13)+('DATA ENTRY SHEET'!R13/60)+('DATA ENTRY SHEET'!S13/3600))+I3) | O3: =IF(J3="","",J3/$J$2) | P3: =IF(K3="","",K3/$K$2) | Q3: =IF(L3="","",L3/$L$2) | R3: =IF(M3="","",M3/$M$2) | S3: =IF(N3="","",N3/$N$2) | T3: =IF(AND(O3="",P3="",Q3="",R3="",S3=""),"",SUM(O3:S3)) | U3: =IF(T3<(B3-1),360,IF(T3>(B3+1),-360,0)) -> -360 | V3: =I3+U3 -> -360 | W3: =IF('DATA ENTRY SHEET'!E13="","",(('DATA ENTRY SHEET'!E13)+('DATA ENTRY SHEET'!F13/60)+('DATA ENTRY SHEET'!G13/3600))+'ANGLE DETERMINATION'!V3) | X3: =IF('DATA ENTRY SHEET'!H13="","",(('DATA ENTRY SHEET'!H13)+('DATA ENTRY SHEET'!I13/60)+('DATA ENTRY SHEET'!J13/3600))+'ANGLE DETERMINATION'!V3) | Y3: =IF('DATA ENTRY SHEET'!K13="","",(('DATA ENTRY SHEET'!K13)+('DATA ENTRY SHEET'!L13/60)+('DATA ENTRY SHEET'!M13/3600))+'ANGLE DETERMINATION'!V3) | Z3: =IF('DATA ENTRY SHEET'!N13="","",(('DATA ENTRY SHEET'!N13)+('DATA ENTRY SHEET'!O13/60)+('DATA ENTRY SHEET'!P13/3600))+'ANGLE DETERMINATION'!V3) | AA3: =+IF('DATA ENTRY SHEET'!Q13="","",(('DATA ENTRY SHEET'!Q13)+('DATA ENTRY SHEET'!R13/60)+('DATA ENTRY SHEET'!S13/3600))+'ANGLE DETERMINATION'!V3) | AB3: =IF(W3="","",W3/2) | AC3: =IF(X3="","",X3/3) | AD3: =IF(Y3="","",Y3/4) | AE3: =IF(Z3="","",Z3/5) | AF3: =IF(AA3="","",AA3/6) | AG3: =IF('DATA ENTRY SHEET'!$U$5="RESET",SUM(AB3:AF3),IF('DATA ENTRY SHEET'!$U$5="ACC",SUM(AH3:AL3),IF('DATA ENTRY SHEET'!$U$5="AVE",SUM(AM3:AQ3),FALSE))) -> FALSE | AH3: =IF('DATA ENTRY SHEET'!E13="","",(SUM(('DATA ENTRY SHEET'!E13)+('DATA ENTRY SHEET'!F13/60)+('DATA ENTRY SHEET'!G13/3600)))/2) | AI3: =IF('DATA ENTRY SHEET'!H13="","",(SUM(('DATA ENTRY SHEET'!H13)+('DATA ENTRY SHEET'!I13/60)+('DATA ENTRY SHEET'!J13/3600)))/3) | AJ3: =IF('DATA ENTRY SHEET'!K13="","",(SUM(('DATA ENTRY SHEET'!K13)+('DATA ENTRY SHEET'!L13/60)+('DATA ENTRY SHEET'!M13/3600)))/4) | AK3: =IF('DATA ENTRY SHEET'!N13="","",(SUM(('DATA ENTRY SHEET'!N13)+('DATA ENTRY SHEET'!O13/60)+('DATA ENTRY SHEET'!P13/3600)))/5) | AL3: =IF('DATA ENTRY SHEET'!Q13="","",(SUM(('DATA ENTRY SHEET'!Q13)+('DATA ENTRY SHEET'!R13/60)+('DATA ENTRY SHEET'!S13/3600)))/6) | AM3: =IF('DATA ENTRY SHEET'!E13="","",('DATA ENTRY SHEET'!E13)+('DATA ENTRY SHEET'!F13/60)+('DATA ENTRY SHEET'!G13/3600)) | AN3: =IF('DATA ENTRY SHEET'!H13="","",('DATA ENTRY SHEET'!H13)+('DATA ENTRY SHEET'!I13/60)+('DATA ENTRY SHEET'!J13/3600)) | AO3: =IF('DATA ENTRY SHEET'!K13="","",('DATA ENTRY SHEET'!K13)+('DATA ENTRY SHEET'!L13/60)+('DATA ENTRY SHEET'!M13/3600)) | AP3: =IF('DATA ENTRY SHEET'!N13="","",('DATA ENTRY SHEET'!N13)+('DATA ENTRY SHEET'!O13/60)+('DATA ENTRY SHEET'!P13/3600)) | AQ3: =IF('DATA ENTRY SHEET'!Q13="","",('DATA ENTRY SHEET'!Q13)+('DATA ENTRY SHEET'!R13/60)+('DATA ENTRY SHEET'!S13/3600))
A4: 2 | B4: =(('DATA ENTRY SHEET'!B14)+('DATA ENTRY SHEET'!C14/60)+('DATA ENTRY SHEET'!D14/3600)) -> 0 | C4: =IF('DATA ENTRY SHEET'!E14="","",B4*2) | D4: =IF('DATA ENTRY SHEET'!H14="","",B4*3) | E4: =IF('DATA ENTRY SHEET'!K14="","",B4*4) | F4: =IF('DATA ENTRY SHEET'!N14="","",B4*5) | G4: =IF('DATA ENTRY SHEET'!Q14="","",B4*6) | H4: =SUM(C4:G4) -> 0 | I4: =IF(H4<=360,0,IF(AND(H4>360,H4<=720),360,IF(AND(H4>720,H4<=1080),720,IF(AND(H4>1080,H4<=1440),1080,IF(AND(H4>1440,H4<=1800),1440,IF(AND(H4>1800,H4<=2160),1800,"")))))) -> 0 | J4: =IF('DATA ENTRY SHEET'!E14="","",(('DATA ENTRY SHEET'!E14)+('DATA ENTRY SHEET'!F14/60)+('DATA ENTRY SHEET'!G14/3600))+I4) | K4: =IF('DATA ENTRY SHEET'!H14="","",(('DATA ENTRY SHEET'!H14)+('DATA ENTRY SHEET'!I14/60)+('DATA ENTRY SHEET'!J14/3600))+I4) | L4: =IF('DATA ENTRY SHEET'!K14="","",(('DATA ENTRY SHEET'!K14)+('DATA ENTRY SHEET'!L14/60)+('DATA ENTRY SHEET'!M14/3600))+I4) | M4: =IF('DATA ENTRY SHEET'!N14="","",(('DATA ENTRY SHEET'!N14)+('DATA ENTRY SHEET'!O14/60)+('DATA ENTRY SHEET'!P14/3600))+I4) | N4: =IF('DATA ENTRY SHEET'!Q14="","",(('DATA ENTRY SHEET'!Q14)+('DATA ENTRY SHEET'!R14/60)+('DATA ENTRY SHEET'!S14/3600))+I4) | O4: =IF(J4="","",J4/$J$2) | P4: =IF(K4="","",K4/$K$2) | Q4: =IF(L4="","",L4/$L$2) | R4: =IF(M4="","",M4/$M$2) | S4: =IF(N4="","",N4/$N$2) | T4: =IF(AND(O4="",P4="",Q4="",R4="",S4=""),"",SUM(O4:S4)) | U4: =IF(T4<(B4-1),360,IF(T4>(B4+1),-360,0)) -> -360 | V4: =I4+U4 -> -360 | W4: =IF('DATA ENTRY SHEET'!E14="","",(('DATA ENTRY SHEET'!E14)+('DATA ENTRY SHEET'!F14/60)+('DATA ENTRY SHEET'!G14/3600))+'ANGLE DETERMINATION'!V4) | X4: =IF('DATA ENTRY SHEET'!H14="","",(('DATA ENTRY SHEET'!H14)+('DATA ENTRY SHEET'!I14/60)+('DATA ENTRY SHEET'!J14/3600))+'ANGLE DETERMINATION'!V4) | Y4: =IF('DATA ENTRY SHEET'!K14="","",(('DATA ENTRY SHEET'!K14)+('DATA ENTRY SHEET'!L14/60)+('DATA ENTRY SHEET'!M14/3600))+'ANGLE DETERMINATION'!V4) | Z4: =IF('DATA ENTRY SHEET'!N14="","",(('DATA ENTRY SHEET'!N14)+('DATA ENTRY SHEET'!O14/60)+('DATA ENTRY SHEET'!P14/3600))+'ANGLE DETERMINATION'!V4) | AA4: =+IF('DATA ENTRY SHEET'!Q14="","",(('DATA ENTRY SHEET'!Q14)+('DATA ENTRY SHEET'!R14/60)+('DATA ENTRY SHEET'!S14/3600))+'ANGLE DETERMINATION'!V4) | AB4: =IF(W4="","",W4/2) | AC4: =IF(X4="","",X4/3) | AD4: =IF(Y4="","",Y4/4) | AE4: =IF(Z4="","",Z4/5) | AF4: =IF(AA4="","",AA4/6) | AG4: =IF('DATA ENTRY SHEET'!$U$5="RESET",SUM(AB4:AF4),IF('DATA ENTRY SHEET'!$U$5="ACC",SUM(AH4:AL4),IF('DATA ENTRY SHEET'!$U$5="AVE",SUM(AM4:AQ4),FALSE))) -> FALSE | AH4: =IF('DATA ENTRY SHEET'!E14="","",(SUM(('DATA ENTRY SHEET'!E14)+('DATA ENTRY SHEET'!F14/60)+('DATA ENTRY SHEET'!G14/3600)))/2) | AI4: =IF('DATA ENTRY SHEET'!H14="","",(SUM(('DATA ENTRY SHEET'!H14)+('DATA ENTRY SHEET'!I14/60)+('DATA ENTRY SHEET'!J14/3600)))/3) | AJ4: =IF('DATA ENTRY SHEET'!K14="","",(SUM(('DATA ENTRY SHEET'!K14)+('DATA ENTRY SHEET'!L14/60)+('DATA ENTRY SHEET'!M14/3600)))/4) | AK4: =IF('DATA ENTRY SHEET'!N14="","",(SUM(('DATA ENTRY SHEET'!N14)+('DATA ENTRY SHEET'!O14/60)+('DATA ENTRY SHEET'!P14/3600)))/5) | AL4: =IF('DATA ENTRY SHEET'!Q14="","",(SUM(('DATA ENTRY SHEET'!Q14)+('DATA ENTRY SHEET'!R14/60)+('DATA ENTRY SHEET'!S14/3600)))/6) | AM4: =IF('DATA ENTRY SHEET'!E14="","",('DATA ENTRY SHEET'!E14)+('DATA ENTRY SHEET'!F14/60)+('DATA ENTRY SHEET'!G14/3600)) | AN4: =IF('DATA ENTRY SHEET'!H14="","",('DATA ENTRY SHEET'!H14)+('DATA ENTRY SHEET'!I14/60)+('DATA ENTRY SHEET'!J14/3600)) | AO4: =IF('DATA ENTRY SHEET'!K14="","",('DATA ENTRY SHEET'!K14)+('DATA ENTRY SHEET'!L14/60)+('DATA ENTRY SHEET'!M14/3600)) | AP4: =IF('DATA ENTRY SHEET'!N14="","",('DATA ENTRY SHEET'!N14)+('DATA ENTRY SHEET'!O14/60)+('DATA ENTRY SHEET'!P14/3600)) | AQ4: =IF('DATA ENTRY SHEET'!Q14="","",('DATA ENTRY SHEET'!Q14)+('DATA ENTRY SHEET'!R14/60)+('DATA ENTRY SHEET'!S14/3600))
A5: 3 | B5: =(('DATA ENTRY SHEET'!B15)+('DATA ENTRY SHEET'!C15/60)+('DATA ENTRY SHEET'!D15/3600)) -> 0 | C5: =IF('DATA ENTRY SHEET'!E15="","",B5*2) | D5: =IF('DATA ENTRY SHEET'!H15="","",B5*3) | E5: =IF('DATA ENTRY SHEET'!K15="","",B5*4) | F5: =IF('DATA ENTRY SHEET'!N15="","",B5*5) | G5: =IF('DATA ENTRY SHEET'!Q15="","",B5*6) | H5: =SUM(C5:G5) -> 0 | I5: =IF(H5<=360,0,IF(AND(H5>360,H5<=720),360,IF(AND(H5>720,H5<=1080),720,IF(AND(H5>1080,H5<=1440),1080,IF(AND(H5>1440,H5<=1800),1440,IF(AND(H5>1800,H5<=2160),1800,"")))))) -> 0 | J5: =IF('DATA ENTRY SHEET'!E15="","",(('DATA ENTRY SHEET'!E15)+('DATA ENTRY SHEET'!F15/60)+('DATA ENTRY SHEET'!G15/3600))+I5) | K5: =IF('DATA ENTRY SHEET'!H15="","",(('DATA ENTRY SHEET'!H15)+('DATA ENTRY SHEET'!I15/60)+('DATA ENTRY SHEET'!J15/3600))+I5) | L5: =IF('DATA ENTRY SHEET'!K15="","",(('DATA ENTRY SHEET'!K15)+('DATA ENTRY SHEET'!L15/60)+('DATA ENTRY SHEET'!M15/3600))+I5) | M5: =IF('DATA ENTRY SHEET'!N15="","",(('DATA ENTRY SHEET'!N15)+('DATA ENTRY SHEET'!O15/60)+('DATA ENTRY SHEET'!P15/3600))+I5) | N5: =IF('DATA ENTRY SHEET'!Q15="","",(('DATA ENTRY SHEET'!Q15)+('DATA ENTRY SHEET'!R15/60)+('DATA ENTRY SHEET'!S15/3600))+I5) | O5: =IF(J5="","",J5/$J$2) | P5: =IF(K5="","",K5/$K$2) | Q5: =IF(L5="","",L5/$L$2) | R5: =IF(M5="","",M5/$M$2) | S5: =IF(N5="","",N5/$N$2) | T5: =IF(AND(O5="",P5="",Q5="",R5="",S5=""),"",SUM(O5:S5)) | U5: =IF(T5<(B5-1),360,IF(T5>(B5+1),-360,0)) -> -360 | V5: =I5+U5 -> -360 | W5: =IF('DATA ENTRY SHEET'!E15="","",(('DATA ENTRY SHEET'!E15)+('DATA ENTRY SHEET'!F15/60)+('DATA ENTRY SHEET'!G15/3600))+'ANGLE DETERMINATION'!V5) | X5: =IF('DATA ENTRY SHEET'!H15="","",(('DATA ENTRY SHEET'!H15)+('DATA ENTRY SHEET'!I15/60)+('DATA ENTRY SHEET'!J15/3600))+'ANGLE DETERMINATION'!V5) | Y5: =IF('DATA ENTRY SHEET'!K15="","",(('DATA ENTRY SHEET'!K15)+('DATA ENTRY SHEET'!L15/60)+('DATA ENTRY SHEET'!M15/3600))+'ANGLE DETERMINATION'!V5) | Z5: =IF('DATA ENTRY SHEET'!N15="","",(('DATA ENTRY SHEET'!N15)+('DATA ENTRY SHEET'!O15/60)+('DATA ENTRY SHEET'!P15/3600))+'ANGLE DETERMINATION'!V5) | AA5: =+IF('DATA ENTRY SHEET'!Q15="","",(('DATA ENTRY SHEET'!Q15)+('DATA ENTRY SHEET'!R15/60)+('DATA ENTRY SHEET'!S15/3600))+'ANGLE DETERMINATION'!V5) | AB5: =IF(W5="","",W5/2) | AC5: =IF(X5="","",X5/3) | AD5: =IF(Y5="","",Y5/4) | AE5: =IF(Z5="","",Z5/5) | AF5: =IF(AA5="","",AA5/6) | AG5: =IF('DATA ENTRY SHEET'!$U$5="RESET",SUM(AB5:AF5),IF('DATA ENTRY SHEET'!$U$5="ACC",SUM(AH5:AL5),IF('DATA ENTRY SHEET'!$U$5="AVE",SUM(AM5:AQ5),FALSE))) -> FALSE | AH5: =IF('DATA ENTRY SHEET'!E15="","",(SUM(('DATA ENTRY SHEET'!E15)+('DATA ENTRY SHEET'!F15/60)+('DATA ENTRY SHEET'!G15/3600)))/2) | AI5: =IF('DATA ENTRY SHEET'!H15="","",(SUM(('DATA ENTRY SHEET'!H15)+('DATA ENTRY SHEET'!I15/60)+('DATA ENTRY SHEET'!J15/3600)))/3) | AJ5: =IF('DATA ENTRY SHEET'!K15="","",(SUM(('DATA ENTRY SHEET'!K15)+('DATA ENTRY SHEET'!L15/60)+('DATA ENTRY SHEET'!M15/3600)))/4) | AK5: =IF('DATA ENTRY SHEET'!N15="","",(SUM(('DATA ENTRY SHEET'!N15)+('DATA ENTRY SHEET'!O15/60)+('DATA ENTRY SHEET'!P15/3600)))/5) | AL5: =IF('DATA ENTRY SHEET'!Q15="","",(SUM(('DATA ENTRY SHEET'!Q15)+('DATA ENTRY SHEET'!R15/60)+('DATA ENTRY SHEET'!S15/3600)))/6) | AM5: =IF('DATA ENTRY SHEET'!E15="","",('DATA ENTRY SHEET'!E15)+('DATA ENTRY SHEET'!F15/60)+('DATA ENTRY SHEET'!G15/3600)) | AN5: =IF('DATA ENTRY SHEET'!H15="","",('DATA ENTRY SHEET'!H15)+('DATA ENTRY SHEET'!I15/60)+('DATA ENTRY SHEET'!J15/3600)) | AO5: =IF('DATA ENTRY SHEET'!K15="","",('DATA ENTRY SHEET'!K15)+('DATA ENTRY SHEET'!L15/60)+('DATA ENTRY SHEET'!M15/3600)) | AP5: =IF('DATA ENTRY SHEET'!N15="","",('DATA ENTRY SHEET'!N15)+('DATA ENTRY SHEET'!O15/60)+('DATA ENTRY SHEET'!P15/3600)) | AQ5: =IF('DATA ENTRY SHEET'!Q15="","",('DATA ENTRY SHEET'!Q15)+('DATA ENTRY SHEET'!R15/60)+('DATA ENTRY SHEET'!S15/3600))
A6: 4 | B6: =(('DATA ENTRY SHEET'!B16)+('DATA ENTRY SHEET'!C16/60)+('DATA ENTRY SHEET'!D16/3600)) -> 0 | C6: =IF('DATA ENTRY SHEET'!E16="","",B6*2) | D6: =IF('DATA ENTRY SHEET'!H16="","",B6*3) | E6: =IF('DATA ENTRY SHEET'!K16="","",B6*4) | F6: =IF('DATA ENTRY SHEET'!N16="","",B6*5) | G6: =IF('DATA ENTRY SHEET'!Q16="","",B6*6) | H6: =SUM(C6:G6) -> 0 | I6: =IF(H6<=360,0,IF(AND(H6>360,H6<=720),360,IF(AND(H6>720,H6<=1080),720,IF(AND(H6>1080,H6<=1440),1080,IF(AND(H6>1440,H6<=1800),1440,IF(AND(H6>1800,H6<=2160),1800,"")))))) -> 0 | J6: =IF('DATA ENTRY SHEET'!E16="","",(('DATA ENTRY SHEET'!E16)+('DATA ENTRY SHEET'!F16/60)+('DATA ENTRY SHEET'!G16/3600))+I6) | K6: =IF('DATA ENTRY SHEET'!H16="","",(('DATA ENTRY SHEET'!H16)+('DATA ENTRY SHEET'!I16/60)+('DATA ENTRY SHEET'!J16/3600))+I6) | L6: =IF('DATA ENTRY SHEET'!K16="","",(('DATA ENTRY SHEET'!K16)+('DATA ENTRY SHEET'!L16/60)+('DATA ENTRY SHEET'!M16/3600))+I6) | M6: =IF('DATA ENTRY SHEET'!N16="","",(('DATA ENTRY SHEET'!N16)+('DATA ENTRY SHEET'!O16/60)+('DATA ENTRY SHEET'!P16/3600))+I6) | N6: =IF('DATA ENTRY SHEET'!Q16="","",(('DATA ENTRY SHEET'!Q16)+('DATA ENTRY SHEET'!R16/60)+('DATA ENTRY SHEET'!S16/3600))+I6) | O6: =IF(J6="","",J6/$J$2) | P6: =IF(K6="","",K6/$K$2) | Q6: =IF(L6="","",L6/$L$2) | R6: =IF(M6="","",M6/$M$2) | S6: =IF(N6="","",N6/$N$2) | T6: =IF(AND(O6="",P6="",Q6="",R6="",S6=""),"",SUM(O6:S6)) | U6: =IF(T6<(B6-1),360,IF(T6>(B6+1),-360,0)) -> -360 | V6: =I6+U6 -> -360 | W6: =IF('DATA ENTRY SHEET'!E16="","",(('DATA ENTRY SHEET'!E16)+('DATA ENTRY SHEET'!F16/60)+('DATA ENTRY SHEET'!G16/3600))+'ANGLE DETERMINATION'!V6) | X6: =IF('DATA ENTRY SHEET'!H16="","",(('DATA ENTRY SHEET'!H16)+('DATA ENTRY SHEET'!I16/60)+('DATA ENTRY SHEET'!J16/3600))+'ANGLE DETERMINATION'!V6) | Y6: =IF('DATA ENTRY SHEET'!K16="","",(('DATA ENTRY SHEET'!K16)+('DATA ENTRY SHEET'!L16/60)+('DATA ENTRY SHEET'!M16/3600))+'ANGLE DETERMINATION'!V6) | Z6: =IF('DATA ENTRY SHEET'!N16="","",(('DATA ENTRY SHEET'!N16)+('DATA ENTRY SHEET'!O16/60)+('DATA ENTRY SHEET'!P16/3600))+'ANGLE DETERMINATION'!V6) | AA6: =+IF('DATA ENTRY SHEET'!Q16="","",(('DATA ENTRY SHEET'!Q16)+('DATA ENTRY SHEET'!R16/60)+('DATA ENTRY SHEET'!S16/3600))+'ANGLE DETERMINATION'!V6) | AB6: =IF(W6="","",W6/2) | AC6: =IF(X6="","",X6/3) | AD6: =IF(Y6="","",Y6/4) | AE6: =IF(Z6="","",Z6/5) | AF6: =IF(AA6="","",AA6/6) | AG6: =IF('DATA ENTRY SHEET'!$U$5="RESET",SUM(AB6:AF6),IF('DATA ENTRY SHEET'!$U$5="ACC",SUM(AH6:AL6),IF('DATA ENTRY SHEET'!$U$5="AVE",SUM(AM6:AQ6),FALSE))) -> FALSE | AH6: =IF('DATA ENTRY SHEET'!E16="","",(SUM(('DATA ENTRY SHEET'!E16)+('DATA ENTRY SHEET'!F16/60)+('DATA ENTRY SHEET'!G16/3600)))/2) | AI6: =IF('DATA ENTRY SHEET'!H16="","",(SUM(('DATA ENTRY SHEET'!H16)+('DATA ENTRY SHEET'!I16/60)+('DATA ENTRY SHEET'!J16/3600)))/3) | AJ6: =IF('DATA ENTRY SHEET'!K16="","",(SUM(('DATA ENTRY SHEET'!K16)+('DATA ENTRY SHEET'!L16/60)+('DATA ENTRY SHEET'!M16/3600)))/4) | AK6: =IF('DATA ENTRY SHEET'!N16="","",(SUM(('DATA ENTRY SHEET'!N16)+('DATA ENTRY SHEET'!O16/60)+('DATA ENTRY SHEET'!P16/3600)))/5) | AL6: =IF('DATA ENTRY SHEET'!Q16="","",(SUM(('DATA ENTRY SHEET'!Q16)+('DATA ENTRY SHEET'!R16/60)+('DATA ENTRY SHEET'!S16/3600)))/6) | AM6: =IF('DATA ENTRY SHEET'!E16="","",('DATA ENTRY SHEET'!E16)+('DATA ENTRY SHEET'!F16/60)+('DATA ENTRY SHEET'!G16/3600)) | AN6: =IF('DATA ENTRY SHEET'!H16="","",('DATA ENTRY SHEET'!H16)+('DATA ENTRY SHEET'!I16/60)+('DATA ENTRY SHEET'!J16/3600)) | AO6: =IF('DATA ENTRY SHEET'!K16="","",('DATA ENTRY SHEET'!K16)+('DATA ENTRY SHEET'!L16/60)+('DATA ENTRY SHEET'!M16/3600)) | AP6: =IF('DATA ENTRY SHEET'!N16="","",('DATA ENTRY SHEET'!N16)+('DATA ENTRY SHEET'!O16/60)+('DATA ENTRY SHEET'!P16/3600)) | AQ6: =IF('DATA ENTRY SHEET'!Q16="","",('DATA ENTRY SHEET'!Q16)+('DATA ENTRY SHEET'!R16/60)+('DATA ENTRY SHEET'!S16/3600))
A7: 5 | B7: =(('DATA ENTRY SHEET'!B17)+('DATA ENTRY SHEET'!C17/60)+('DATA ENTRY SHEET'!D17/3600)) -> 0 | C7: =IF('DATA ENTRY SHEET'!E17="","",B7*2) | D7: =IF('DATA ENTRY SHEET'!H17="","",B7*3) | E7: =IF('DATA ENTRY SHEET'!K17="","",B7*4) | F7: =IF('DATA ENTRY SHEET'!N17="","",B7*5) | G7: =IF('DATA ENTRY SHEET'!Q17="","",B7*6) | H7: =SUM(C7:G7) -> 0 | I7: =IF(H7<=360,0,IF(AND(H7>360,H7<=720),360,IF(AND(H7>720,H7<=1080),720,IF(AND(H7>1080,H7<=1440),1080,IF(AND(H7>1440,H7<=1800),1440,IF(AND(H7>1800,H7<=2160),1800,"")))))) -> 0 | J7: =IF('DATA ENTRY SHEET'!E17="","",(('DATA ENTRY SHEET'!E17)+('DATA ENTRY SHEET'!F17/60)+('DATA ENTRY SHEET'!G17/3600))+I7) | K7: =IF('DATA ENTRY SHEET'!H17="","",(('DATA ENTRY SHEET'!H17)+('DATA ENTRY SHEET'!I17/60)+('DATA ENTRY SHEET'!J17/3600))+I7) | L7: =IF('DATA ENTRY SHEET'!K17="","",(('DATA ENTRY SHEET'!K17)+('DATA ENTRY SHEET'!L17/60)+('DATA ENTRY SHEET'!M17/3600))+I7) | M7: =IF('DATA ENTRY SHEET'!N17="","",(('DATA ENTRY SHEET'!N17)+('DATA ENTRY SHEET'!O17/60)+('DATA ENTRY SHEET'!P17/3600))+I7) | N7: =IF('DATA ENTRY SHEET'!Q17="","",(('DATA ENTRY SHEET'!Q17)+('DATA ENTRY SHEET'!R17/60)+('DATA ENTRY SHEET'!S17/3600))+I7) | O7: =IF(J7="","",J7/$J$2) | P7: =IF(K7="","",K7/$K$2) | Q7: =IF(L7="","",L7/$L$2) | R7: =IF(M7="","",M7/$M$2) | S7: =IF(N7="","",N7/$N$2) | T7: =IF(AND(O7="",P7="",Q7="",R7="",S7=""),"",SUM(O7:S7)) | U7: =IF(T7<(B7-1),360,IF(T7>(B7+1),-360,0)) -> -360 | V7: =I7+U7 -> -360 | W7: =IF('DATA ENTRY SHEET'!E17="","",(('DATA ENTRY SHEET'!E17)+('DATA ENTRY SHEET'!F17/60)+('DATA ENTRY SHEET'!G17/3600))+'ANGLE DETERMINATION'!V7) | X7: =IF('DATA ENTRY SHEET'!H17="","",(('DATA ENTRY SHEET'!H17)+('DATA ENTRY SHEET'!I17/60)+('DATA ENTRY SHEET'!J17/3600))+'ANGLE DETERMINATION'!V7) | Y7: =IF('DATA ENTRY SHEET'!K17="","",(('DATA ENTRY SHEET'!K17)+('DATA ENTRY SHEET'!L17/60)+('DATA ENTRY SHEET'!M17/3600))+'ANGLE DETERMINATION'!V7) | Z7: =IF('DATA ENTRY SHEET'!N17="","",(('DATA ENTRY SHEET'!N17)+('DATA ENTRY SHEET'!O17/60)+('DATA ENTRY SHEET'!P17/3600))+'ANGLE DETERMINATION'!V7) | AA7: =+IF('DATA ENTRY SHEET'!Q17="","",(('DATA ENTRY SHEET'!Q17)+('DATA ENTRY SHEET'!R17/60)+('DATA ENTRY SHEET'!S17/3600))+'ANGLE DETERMINATION'!V7) | AB7: =IF(W7="","",W7/2) | AC7: =IF(X7="","",X7/3) | AD7: =IF(Y7="","",Y7/4) | AE7: =IF(Z7="","",Z7/5) | AF7: =IF(AA7="","",AA7/6) | AG7: =IF('DATA ENTRY SHEET'!$U$5="RESET",SUM(AB7:AF7),IF('DATA ENTRY SHEET'!$U$5="ACC",SUM(AH7:AL7),IF('DATA ENTRY SHEET'!$U$5="AVE",SUM(AM7:AQ7),FALSE))) -> FALSE | AH7: =IF('DATA ENTRY SHEET'!E17="","",(SUM(('DATA ENTRY SHEET'!E17)+('DATA ENTRY SHEET'!F17/60)+('DATA ENTRY SHEET'!G17/3600)))/2) | AI7: =IF('DATA ENTRY SHEET'!H17="","",(SUM(('DATA ENTRY SHEET'!H17)+('DATA ENTRY SHEET'!I17/60)+('DATA ENTRY SHEET'!J17/3600)))/3) | AJ7: =IF('DATA ENTRY SHEET'!K17="","",(SUM(('DATA ENTRY SHEET'!K17)+('DATA ENTRY SHEET'!L17/60)+('DATA ENTRY SHEET'!M17/3600)))/4) | AK7: =IF('DATA ENTRY SHEET'!N17="","",(SUM(('DATA ENTRY SHEET'!N17)+('DATA ENTRY SHEET'!O17/60)+('DATA ENTRY SHEET'!P17/3600)))/5) | AL7: =IF('DATA ENTRY SHEET'!Q17="","",(SUM(('DATA ENTRY SHEET'!Q17)+('DATA ENTRY SHEET'!R17/60)+('DATA ENTRY SHEET'!S17/3600)))/6) | AM7: =IF('DATA ENTRY SHEET'!E17="","",('DATA ENTRY SHEET'!E17)+('DATA ENTRY SHEET'!F17/60)+('DATA ENTRY SHEET'!G17/3600)) | AN7: =IF('DATA ENTRY SHEET'!H17="","",('DATA ENTRY SHEET'!H17)+('DATA ENTRY SHEET'!I17/60)+('DATA ENTRY SHEET'!J17/3600)) | AO7: =IF('DATA ENTRY SHEET'!K17="","",('DATA ENTRY SHEET'!K17)+('DATA ENTRY SHEET'!L17/60)+('DATA ENTRY SHEET'!M17/3600)) | AP7: =IF('DATA ENTRY SHEET'!N17="","",('DATA ENTRY SHEET'!N17)+('DATA ENTRY SHEET'!O17/60)+('DATA ENTRY SHEET'!P17/3600)) | AQ7: =IF('DATA ENTRY SHEET'!Q17="","",('DATA ENTRY SHEET'!Q17)+('DATA ENTRY SHEET'!R17/60)+('DATA ENTRY SHEET'!S17/3600))
